Workbook

Sheet Tipps
A1: zu | B1: IN (mmol/L)
A2: … | B2: alle weißen Zellen können direkt von jedem Anwender verändert werden.
A3: B4:B12 | B3: Alte Mittelwerte werden gebraucht, so lange zu wenige Daten zur Mittelwertbildung vorhanden sind.
A4: D4:D12 | B4: Hier können beliebige Einträge für die Ereignisse stehen zu denen gemessen werden. Sie gelten dann für die ganze Kalkulation!
A5: E4:Q12 | B5: (und in den Qurtalsgruppen drunter) Hier kommen die Messwerte in mmol/L rein ODER LEER LASSEN!
B6: Sowohl die Schriftfarbe als auch eine Füllfarbe kann beliebig verändert werden (nur zur Orientierung)
A7: R18 | B7: Das Quartal kann beliebig geändert oder auch völlig umbenannt werden.
B8: Dies kann sinnvoll sein, wenn man das laufende Jahr in einem anderen Quartal beginnen lassen will.
A9: V19 | B9: Hier wird das Anfangsdatum und der Messintervall im Quartal festgelegt und auf 13 Messtage verteilt.
B10: "Normal" wird hier mit einer Messreihe pro Woche gerechnet. Es geht aber auch etwas anders.
A11: V20 | B11: Will man z.B. zwei mal die Woche messen, gibt man bei Intervall "=7/2" ein. Es wird dann so gerundet, dass es auf geht.
B12: Besser macht man mehrere Messungen "Zwischendurch" (ganz unten)
A13: E13:Q13 | B13: Die errechneten Tage können auch verändert werden, wenn man das mit Ecxel kann.
A14: D18:Q19 | B14: Notizen der IE und BE können zwar frei gestaltet werden, für Rechnungen mit dem Faktor (=IE/BE) sollte das Schema eingehalten bleiben.
A15: D20:D23 | B15: Teilüberschriften für Notizen können verändert werden und werden so in allen Quartalen übernommen
A16: E20:Q23 | B16: Notizzellen können beliebig beschrieben werden und haben keine recherischen Auswirkungen.
A17: V3 | B17: (und in den Quartalsgruppen drunter) Hier wird der Konfidenzintervalle festgelegt, der für Statistiken gelten soll.
B18: Eine kleine Liste hierzu steht unten in "IN (mmol/L)"
A19: V22 | B19: (und in den Quartalsgruppen drunter) Hier kann der HbA1c-Wert eines Labors notiert werden.
B20: Alle Berechnungen, die früher damit gemacht wurden sollten inaktiv sein. (V18 und V23 nicht verändern!)
A21: Relikt | B21: Diese Zellen sind Relikte aus älteren Versionen, die ich nicht einfach entfernen darf ohne Verweise dort hin zu ändern. Am besten garnix ändern!
A23: zu | B23: I.17 | C23: II.17 | D23: III.17 | E23: IV.17 | F23: Zwischendurch
B24: Hier sollte möglichst nichts verändert werden … mal abgesehen von den Diagrammen, die man gern umgestalten kann.
B25: Die Blattbezeichnungen selbst lassen sich frei (nach Excel-Regeln) umbenennen.
A27: zu | B27: hjt-pp
B28: Hier können pp-Verläufe dargestellt werden, wenn man entsprechende Messreihen dokumentiert.
A30: zu | B30: Langzeitverlauf
B31: Hier wird ein Überblick des Aufzeichnungsjahrs dargestellt. Die Prognosen für zukünftige Messtage haben kaum eine Zuverlässigkeit.
A33: zu | B33: Verteilung
B34: Hier geben Histogramme einen groben Überblick, wie groß das Vertrauen in die statistischen Aussagen sein kann. (Ohne Kenntnisse … keine Chance!)
A36: zu | B36: Leerseite
B37: Eine Leerseite eben …. Ich koppiere dort manchmal Diagramme hinein, um sie getrennt drücken zu können oder in PDF zu wandeln.
A39: zu | B39: (intern) | C39: (intern2)
B40: Dies sind die Rechenzentralen dieser Kalkulation. Hier sollte man schon genau wissen, was man tut, wenn man hier was ändert.
A42: zu | B42: Tipps
B43: Diese Seite wird zur Kalkulation nicht benötigt und kann verschoben oder gelöscht werden. Es sollte hier nirgendwo einen Passwortschutz geben. (selber machen)
B46: Ich glaube, jetzt habe ich diese meine Kalkulation von "mg/dl" auf "mmol/L" umgestellt und auch die Korrektur der BZ-Werte über den Labor-HbA1c-Wert entfernt.
B47: Sollte es dennoch zu Problemen kommen … Kontakt zu Gyuri aufnehmen! ;-)

Sheet IN (mmol|L)
D2: Kalenderwoche | E2: =WEEKNUM(E13,1) -> 1 | F2: =WEEKNUM(F13,1) -> 2 | G2: =WEEKNUM(G13,1) -> 3 | H2: =WEEKNUM(H13,1) -> 4 | I2: =WEEKNUM(I13,1) -> 5 | J2: =WEEKNUM(J13,1) -> 6 | K2: =WEEKNUM(K13,1) -> 7 | L2: =WEEKNUM(L13,1) -> 8 | ... Q2: =WEEKNUM(Q13,1) -> 13
B3: MW alt | D3: Glucose [mg/dl] | E3: =IF(E17=2,"MO",IF(E17=3,"DI",IF(E17=4,"MI",IF(E17=5,"DO",IF(E17=6,"FR",IF(E17=7,"SA","SO")))))) -> SO | F3: =IF(F17=2,"MO",IF(F17=3,"DI",IF(F17=4,"MI",IF(F17=5,"DO",IF(F17=6,"FR",IF(F17=7,"SA","SO")))))) -> SO | G3: =IF(G17=2,"MO",IF(G17=3,"DI",IF(G17=4,"MI",IF(G17=5,"DO",IF(G17=6,"FR",IF(G17=7,"SA","SO")))))) -> SO | H3: =IF(H17=2,"MO",IF(H17=3,"DI",IF(H17=4,"MI",IF(H17=5,"DO",IF(H17=6,"FR",IF(H17=7,"SA","SO")))))) -> SO | I3: =IF(I17=2,"MO",IF(I17=3,"DI",IF(I17=4,"MI",IF(I17=5,"DO",IF(I17=6,"FR",IF(I17=7,"SA","SO")))))) -> SO | J3: =IF(J17=2,"MO",IF(J17=3,"DI",IF(J17=4,"MI",IF(J17=5,"DO",IF(J17=6,"FR",IF(J17=7,"SA","SO")))))) -> SO | K3: =IF(K17=2,"MO",IF(K17=3,"DI",IF(K17=4,"MI",IF(K17=5,"DO",IF(K17=6,"FR",IF(K17=7,"SA","SO")))))) -> SO | L3: =IF(L17=2,"MO",IF(L17=3,"DI",IF(L17=4,"MI",IF(L17=5,"DO",IF(L17=6,"FR",IF(L17=7,"SA","SO")))))) -> SO | ... Q3: =IF(Q17=2,"MO",IF(Q17=3,"DI",IF(Q17=4,"MI",IF(Q17=5,"DO",IF(Q17=6,"FR",IF(Q17=7,"SA","SO")))))) -> SO | R3: MW | S3: Stabw. | T3: =CONCATENATE("±",V3,"σ") -> ±1,645σ | V3: 1.645
B4: 5.5 | D4: 0.29166667 | E4: 6.1666667 | F4: 6.1111111 | G4: 6 | H4: 6.2222222 | I4: 6 | J4: 6.2777778 | K4: 6.2222222 | L4: 6.2 | M4: 6.1 | N4: 6 | O4: 6.2 | P4: 6 | Q4: 6.2 | R4: =IF(COUNTIF(E4:Q4,"")>10,B4,AVERAGE(E4:Q4)) -> 6.1307692 | S4: =IF(COUNTIF(E4:Q4,"")>10,1.1,STDEV(E4:Q4)) -> 0.10154707 | T4: =R4-$V$3*S4 -> 5.9637243 | U4: bis | V4: =R4+$V$3*S4 -> 6.2978142
B5: 7.8 | D5: 0.39583333 | E5: 8.2222222 | F5: 9.0555556 | G5: 10.388889 | H5: 10.333333 | I5: 10.555556 | J5: 12.111111 | K5: 9.8888889 | L5: 8.2 | M5: 9.1 | O5: 10.3 | P5: 10.5 | Q5: 9.6 | R5: =IF(COUNTIF(E5:Q5,"")>10,B5,AVERAGE(E5:Q5)) -> 9.8546296 | S5: =IF(COUNTIF(E5:Q5,"")>10,1.1,STDEV(E5:Q5)) -> 1.1032597 | T5: =R5-$V$3*S5 -> 8.0397674 | U5: bis | V5: =R5+$V$3*S5 -> 11.669492
B6: 5.5 | D6: 0.5 | E6: 4.7777778 | F6: 6.7777778 | G6: 6.7777778 | H6: 8.7777778 | I6: 8.7222222 | J6: 8.0555556 | K6: 6.7777778 | L6: 4.8 | M6: 6.8 | N6: 10.3 | O6: 8.2 | P6: 8.7 | Q6: 6 | R6: =IF(COUNTIF(E6:Q6,"")>10,B6,AVERAGE(E6:Q6)) -> 7.3435897 | S6: =IF(COUNTIF(E6:Q6,"")>10,1.1,STDEV(E6:Q6)) -> 1.6302469 | T6: =R6-$V$3*S6 -> 4.6618336 | U6: bis | V6: =R6+$V$3*S6 -> 10.025346
B7: 7.8 | D7: 0.60416667 | E7: 10.611111 | F7: 6.2222222 | G7: 6.3888889 | H7: 5.3888889 | J7: 7.0555556 | K7: 8.7222222 | L7: 10.6 | M7: 6.2 | N7: 6.8 | O7: 5.4 | Q7: 4.5 | R7: =IF(COUNTIF(E7:Q7,"")>10,B7,AVERAGE(E7:Q7)) -> 7.0808081 | S7: =IF(COUNTIF(E7:Q7,"")>10,1.1,STDEV(E7:Q7)) -> 2.0484507 | T7: =R7-$V$3*S7 -> 3.7111066 | U7: bis | V7: =R7+$V$3*S7 -> 10.45051
B8: 5.5 | D8: 0.72916667 | E8: 6.9444444 | F8: 8.2777778 | G8: 7.0555556 | H8: 5 | I8: 9.1666667 | J8: 6 | K8: 9.1666667 | L8: 6.9 | M8: 8.2 | N8: 6.4 | O8: 5 | P8: 9.2 | Q8: 4.9 | R8: =IF(COUNTIF(E8:Q8,"")>10,B8,AVERAGE(E8:Q8)) -> 7.0931624 | S8: =IF(COUNTIF(E8:Q8,"")>10,1.1,STDEV(E8:Q8)) -> 1.6066255 | T8: =R8-$V$3*S8 -> 4.4502634 | U8: bis | V8: =R8+$V$3*S8 -> 9.7360614
B9: 7.8 | D9: 0.83333333 | E9: 7.7222222 | F9: 10.722222 | H9: 11.944444 | I9: 10.666667 | J9: 5.9444444 | K9: 10.722222 | L9: 7.7 | M9: 10.7 | N9: 7 | O9: 11.9 | P9: 10.8 | Q9: 5.2 | R9: =IF(COUNTIF(E9:Q9,"")>10,B9,AVERAGE(E9:Q9)) -> 9.2518519 | S9: =IF(COUNTIF(E9:Q9,"")>10,1.1,STDEV(E9:Q9)) -> 2.3790298 | T9: =R9-$V$3*S9 -> 5.3383478 | U9: bis | V9: =R9+$V$3*S9 -> 13.165356
B10: 6.7 | D10: 0.95833333 | E10: 7.3888889 | F10: 9 | G10: 7.5555556 | H10: 5.2777778 | I10: 9.7222222 | J10: 10 | K10: 7.2222222 | L10: 7.4 | M10: 9 | N10: 7.6 | O10: 5.3 | P10: 9.7 | R10: =IF(COUNTIF(E10:Q10,"")>10,B10,AVERAGE(E10:Q10)) -> 7.9305556 | S10: =IF(COUNTIF(E10:Q10,"")>10,1.1,STDEV(E10:Q10)) -> 1.6009826 | T10: =R10-$V$3*S10 -> 5.2969391 | U10: bis | V10: =R10+$V$3*S10 -> 10.564172
B11: 4.7 | D11: Nacht | E11: 5.8888889 | F11: 5.6666667 | G11: 6.5 | H11: 6.5555556 | I11: 6.5 | J11: 5.2777778 | K11: 5.5555556 | L11: 5.9 | M11: 5.8 | N11: 6.5 | O11: 6.6 | P11: 6.5 | R11: =IF(COUNTIF(E11:Q11,"")>10,B11,AVERAGE(E11:Q11)) -> 6.1037037 | S11: =IF(COUNTIF(E11:Q11,"")>10,1.1,STDEV(E11:Q11)) -> 0.47022055 | T11: =R11-$V$3*S11 -> 5.3301909 | U11: bis | V11: =R11+$V$3*S11 -> 6.8772165
B12: 5.5 | D12: Früh | E12: 6.1666667 | F12: 6.1111111 | G12: 6 | H12: 6.2222222 | I12: 6 | J12: 6.2777778 | K12: 6.2222222 | N12: 6 | O12: 6.2 | R12: =IF(COUNTIF(E12:Q12,"")>10,B12,AVERAGE(E12:Q12)) -> 6.1333333 | S12: =IF(COUNTIF(E12:Q12,"")>10,1.1,STDEV(E12:Q12)) -> 0.10957268 | T12: =R12-$V$3*S12 -> 5.9530863 | U12: bis | V12: =R12+$V$3*S12 -> 6.3135804
D13: Datum | E13: =V19 -> 41274 | F13: =E13+$V20 -> 41281 | G13: =F13+$V20 -> 41288 | H13: =G13+$V20 -> 41295 | I13: =H13+$V20 -> 41302 | J13: =I13+$V20 -> 41309 | K13: =J13+$V20 -> 41316 | L13: =K13+$V20 -> 41323 | M13: =L13+$V20 -> 41330 | ... Q13: =P13+$V20 -> 41358 | S13: =(AVERAGE('(intern)'!B4:N12)+(86/18)/33.3) -> 7.5561601 | T13: % über den ges. Zeitraum
D14: Tagesminimum | E14: =IF(MIN(E4:E12)=0,"-",MIN(E4:E12)) -> 4.7777778 | F14: =IF(MIN(F4:F12)=0,"-",MIN(F4:F12)) -> 5.6666667 | G14: =IF(MIN(G4:G12)=0,"-",MIN(G4:G12)) -> 6 | H14: =IF(MIN(H4:H12)=0,"-",MIN(H4:H12)) -> 5 | I14: =IF(MIN(I4:I12)=0,"-",MIN(I4:I12)) -> 6 | J14: =IF(MIN(J4:J12)=0,"-",MIN(J4:J12)) -> 5.2777778 | K14: =IF(MIN(K4:K12)=0,"-",MIN(K4:K12)) -> 5.5555556 | L14: =IF(MIN(L4:L12)=0,"-",MIN(L4:L12)) -> 4.8 | ... Q14: =IF(MIN(Q4:Q12)=0,"-",MIN(Q4:Q12)) -> 4.5 | R14: HbA1c | S14: =(AVERAGE('(intern)'!B4:F12)+(86/18)/33.3) -> 7.6274274 | T14: % | U14: (=Näherung)
D15: Tagesmaximum | E15: =IF(MAX(E4:E12)=0,"-",MAX(E4:E12)) -> 10.611111 | F15: =IF(MAX(F4:F12)=0,"-",MAX(F4:F12)) -> 10.722222 | G15: =IF(MAX(G4:G12)=0,"-",MAX(G4:G12)) -> 10.388889 | H15: =IF(MAX(H4:H12)=0,"-",MAX(H4:H12)) -> 11.944444 | I15: =IF(MAX(I4:I12)=0,"-",MAX(I4:I12)) -> 10.666667 | J15: =IF(MAX(J4:J12)=0,"-",MAX(J4:J12)) -> 12.111111 | K15: =IF(MAX(K4:K12)=0,"-",MAX(K4:K12)) -> 10.722222 | L15: =IF(MAX(L4:L12)=0,"-",MAX(L4:L12)) -> 10.6 | ... Q15: =IF(MAX(Q4:Q12)=0,"-",MAX(Q4:Q12)) -> 9.6 | S15: =(AVERAGE('(intern)'!F4:J12)+(86/18)/33.3) -> 7.7617484 | T15: %
D16: Tagesmittelwert | E16: =IF(E15="-",AVERAGE(B4:B12),AVERAGE(E4:E12)) -> 7.0987654 | F16: =IF(F15="-",E16,AVERAGE(F4:F12)) -> 7.5493827 | G16: =IF(G15="-",F16,AVERAGE(G4:G12)) -> 7.0833333 | H16: =IF(H15="-",G16,AVERAGE(H4:H12)) -> 7.3024691 | I16: =IF(I15="-",H16,AVERAGE(I4:I12)) -> 8.4166667 | J16: =IF(J15="-",I16,AVERAGE(J4:J12)) -> 7.4444444 | K16: =IF(K15="-",J16,AVERAGE(K4:K12)) -> 7.8333333 | L16: =IF(L15="-",K16,AVERAGE(L4:L12)) -> 7.2125 | M16: =IF(M15="-",L16,AVERAGE(M4:M12)) -> 7.7375 | ... Q16: =IF(Q15="-",P16,AVERAGE(Q4:Q12)) -> 6.0666667 | R16: =AVERAGE(E16:Q16) -> 7.4480634 | S16: =(AVERAGE('(intern)'!J4:N12)+(86/18)/33.3) -> 7.4576881 | T16: %
E17: =WEEKDAY(E13) -> 1 | F17: =WEEKDAY(F13) -> 1 | G17: =WEEKDAY(G13) -> 1 | H17: =WEEKDAY(H13) -> 1 | I17: =WEEKDAY(I13) -> 1 | J17: =WEEKDAY(J13) -> 1 | K17: =WEEKDAY(K13) -> 1 | L17: =WEEKDAY(L13) -> 1 | ... Q17: =WEEKDAY(Q13) -> 1
B18: Notizen | D18: I.E. / Basal | E18: 15 - 10 - 09/ 10+15 | F18: 15 - 10 - 09/ 10+15 | G18: 15 - 10 - 09/ 10+15 | H18: 15 - 10 - 09/ 10+15 | I18: 15 - 10 - 09/ 10+15 | J18: 15 - 10 - 09/ 10+15 | K18: 15 - 10 - 09/ 10+15 | L18: 15 - 10 - 09/ 10+15 | M18: 15 - 10 - 09/ 10+15 | N18: 15 - 10 - 09/ 10+15 | O18: 15 - 10 - 09/ 10+15 | P18: 15 - 10 - 09/ 10+15 | Q18: 15 - 10 - 09/ 10+15 | R18: I. Quartal | T18: Korrektur = | V18: 1
D19: BE | E19: 06 - 04 - 03 | F19: 06 - 04 - 03 | G19: 06 - 04 - 03 | H19: 06 - 04 - 03 | I19: 06 - 04 - 03 | J19: 06 - 04 - 03 | K19: 06 - 04 - 03 | L19: 06 - 04 - 03 | M19: 06 - 04 - 03 | N19: 06 - 04 - 03 | O19: 06 - 04 - 03 | P19: 06 - 04 - 03 | Q19: 06 - 04 - 03 | T19: 1.Tag= | V19: 41274
D20: Sport | T20: Intervall ~ | V20: 7
D21: Krankheit
D22: Besonderheiten | S22: HbA1c [%] | T22: Laborwert | V22: 7.2
D23: Sonstiges | T23: Näherung | V23: 7.2
D25: Kalenderwoche | E25: =WEEKNUM(E36,1) -> 14 | F25: =WEEKNUM(F36,1) -> 15 | G25: =WEEKNUM(G36,1) -> 16 | H25: =WEEKNUM(H36,1) -> 17 | I25: =WEEKNUM(I36,1) -> 18 | J25: =WEEKNUM(J36,1) -> 19 | K25: =WEEKNUM(K36,1) -> 20 | L25: =WEEKNUM(L36,1) -> 21 | ... Q25: =WEEKNUM(Q36,1) -> 26
D26: =D3 -> Glucose [mg/dl] | E26: =IF(E40=2,"MO",IF(E40=3,"DI",IF(E40=4,"MI",IF(E40=5,"DO",IF(E40=6,"FR",IF(E40=7,"SA","SO")))))) -> SO | F26: =IF(F40=2,"MO",IF(F40=3,"DI",IF(F40=4,"MI",IF(F40=5,"DO",IF(F40=6,"FR",IF(F40=7,"SA","SO")))))) -> SO | G26: =IF(G40=2,"MO",IF(G40=3,"DI",IF(G40=4,"MI",IF(G40=5,"DO",IF(G40=6,"FR",IF(G40=7,"SA","SO")))))) -> SO | H26: =IF(H40=2,"MO",IF(H40=3,"DI",IF(H40=4,"MI",IF(H40=5,"DO",IF(H40=6,"FR",IF(H40=7,"SA","SO")))))) -> SO | I26: =IF(I40=2,"MO",IF(I40=3,"DI",IF(I40=4,"MI",IF(I40=5,"DO",IF(I40=6,"FR",IF(I40=7,"SA","SO")))))) -> SO | J26: =IF(J40=2,"MO",IF(J40=3,"DI",IF(J40=4,"MI",IF(J40=5,"DO",IF(J40=6,"FR",IF(J40=7,"SA","SO")))))) -> SO | K26: =IF(K40=2,"MO",IF(K40=3,"DI",IF(K40=4,"MI",IF(K40=5,"DO",IF(K40=6,"FR",IF(K40=7,"SA","SO")))))) -> SO | L26: =IF(L40=2,"MO",IF(L40=3,"DI",IF(L40=4,"MI",IF(L40=5,"DO",IF(L40=6,"FR",IF(L40=7,"SA","SO")))))) -> SO | ... Q26: =IF(Q40=2,"MO",IF(Q40=3,"DI",IF(Q40=4,"MI",IF(Q40=5,"DO",IF(Q40=6,"FR",IF(Q40=7,"SA","SO")))))) -> SO | R26: MW | S26: Stabw. | T26: =CONCATENATE("±",V26,"σ") -> ±1,645σ | V26: =V3 -> 1.645
D27: =D4 -> 0.29166667 | E27: 6.2 | F27: 5.9 | R27: =IF(COUNTIF(E27:Q27,"")>10,R4,AVERAGE(E27:Q27)) -> 6.1307692 | S27: =IF(COUNTIF(E27:Q27,"")>10,S4,STDEV(E27:Q27)) -> 0.10154707 | T27: =R27-$V$26*S27 -> 5.9637243 | U27: bis | V27: =R27+$V$26*S27 -> 6.2978142
D28: =D5 -> 0.39583333 | F28: 9.4 | R28: =IF(COUNTIF(E28:Q28,"")>10,R5,AVERAGE(E28:Q28)) -> 9.8546296 | S28: =IF(COUNTIF(E28:Q28,"")>10,S5,STDEV(E28:Q28)) -> 1.1032597 | T28: =R28-$V$26*S28 -> 8.0397674 | U28: bis | V28: =R28+$V$26*S28 -> 11.669492
D29: =D6 -> 0.5 | F29: 7.4 | R29: =IF(COUNTIF(E29:Q29,"")>10,R6,AVERAGE(E29:Q29)) -> 7.3435897 | S29: =IF(COUNTIF(E29:Q29,"")>10,S6,STDEV(E29:Q29)) -> 1.6302469 | T29: =R29-$V$26*S29 -> 4.6618336 | U29: bis | V29: =R29+$V$26*S29 -> 10.025346
D30: =D7 -> 0.60416667 | F30: 6 | R30: =IF(COUNTIF(E30:Q30,"")>10,R7,AVERAGE(E30:Q30)) -> 7.0808081 | S30: =IF(COUNTIF(E30:Q30,"")>10,S7,STDEV(E30:Q30)) -> 2.0484507 | T30: =R30-$V$26*S30 -> 3.7111066 | U30: bis | V30: =R30+$V$26*S30 -> 10.45051
D31: =D8 -> 0.72916667 | E31: 6.8 | F31: 8.2 | R31: =IF(COUNTIF(E31:Q31,"")>10,R8,AVERAGE(E31:Q31)) -> 7.0931624 | S31: =IF(COUNTIF(E31:Q31,"")>10,S8,STDEV(E31:Q31)) -> 1.6066255 | T31: =R31-$V$26*S31 -> 4.4502634 | U31: bis | V31: =R31+$V$26*S31 -> 9.7360614
D32: =D9 -> 0.83333333 | E32: 5.2 | F32: 8.7 | R32: =IF(COUNTIF(E32:Q32,"")>10,R9,AVERAGE(E32:Q32)) -> 9.2518519 | S32: =IF(COUNTIF(E32:Q32,"")>10,S9,STDEV(E32:Q32)) -> 2.3790298 | T32: =R32-$V$26*S32 -> 5.3383478 | U32: bis | V32: =R32+$V$26*S32 -> 13.165356
D33: =D10 -> 0.95833333 | E33: 5.3 | F33: 7.9 | R33: =IF(COUNTIF(E33:Q33,"")>10,R10,AVERAGE(E33:Q33)) -> 7.9305556 | S33: =IF(COUNTIF(E33:Q33,"")>10,S10,STDEV(E33:Q33)) -> 1.6009826 | T33: =R33-$V$26*S33 -> 5.2969391 | U33: bis | V33: =R33+$V$26*S33 -> 10.564172
D34: =D11 -> Nacht | E34: 5.8 | F34: 6.1 | R34: =IF(COUNTIF(E34:Q34,"")>10,R11,AVERAGE(E34:Q34)) -> 6.1037037 | S34: =IF(COUNTIF(E34:Q34,"")>10,S11,STDEV(E34:Q34)) -> 0.47022055 | T34: =R34-$V$26*S34 -> 5.3301909 | U34: bis | V34: =R34+$V$26*S34 -> 6.8772165
D35: =D12 -> Früh | E35: 6.2 | F35: 6.3 | R35: =IF(COUNTIF(E35:Q35,"")>10,R12,AVERAGE(E35:Q35)) -> 6.1333333 | S35: =IF(COUNTIF(E35:Q35,"")>10,S12,STDEV(E35:Q35)) -> 0.10957268 | T35: =R35-$V$26*S35 -> 5.9530863 | U35: bis | V35: =R35+$V$26*S35 -> 6.3135804
D36: =D13 -> Datum | E36: =V42 -> 41365 | F36: =E36+$V43 -> 41372 | G36: =F36+$V43 -> 41379 | H36: =G36+$V43 -> 41386 | I36: =H36+$V43 -> 41393 | J36: =I36+$V43 -> 41400 | K36: =J36+$V43 -> 41407 | L36: =K36+$V43 -> 41414 | M36: =L36+$V43 -> 41421 | ... Q36: =P36+$V43 -> 41449 | S36: =(AVERAGE('(intern)'!O4:AA12)+(86/18)/33.3) -> 7.0166261 | T36: % über den ges. Zeitraum
D37: =D14 -> Tagesminimum | E37: =IF(MIN(E27:E35)=0,"-",MIN(E27:E35)) -> 5.2 | F37: =IF(MIN(F27:F35)=0,"-",MIN(F27:F35)) -> 5.9 | G37: =IF(MIN(G27:G35)=0,"-",MIN(G27:G35)) -> - | H37: =IF(MIN(H27:H35)=0,"-",MIN(H27:H35)) -> - | I37: =IF(MIN(I27:I35)=0,"-",MIN(I27:I35)) -> - | J37: =IF(MIN(J27:J35)=0,"-",MIN(J27:J35)) -> - | K37: =IF(MIN(K27:K35)=0,"-",MIN(K27:K35)) -> - | L37: =IF(MIN(L27:L35)=0,"-",MIN(L27:L35)) -> - | ... Q37: =IF(MIN(Q27:Q35)=0,"-",MIN(Q27:Q35)) -> - | R37: HbA1c | S37: =(AVERAGE('(intern)'!O4:S12)+(86/18)/33.3) -> 7.0130201 | T37: % | U37: (=Näherung)
D38: =D15 -> Tagesmaximum | E38: =IF(MAX(E27:E35)=0,"-",MAX(E27:E35)) -> 6.8 | F38: =IF(MAX(F27:F35)=0,"-",MAX(F27:F35)) -> 9.4 | G38: =IF(MAX(G27:G35)=0,"-",MAX(G27:G35)) -> - | H38: =IF(MAX(H27:H35)=0,"-",MAX(H27:H35)) -> - | I38: =IF(MAX(I27:I35)=0,"-",MAX(I27:I35)) -> - | J38: =IF(MAX(J27:J35)=0,"-",MAX(J27:J35)) -> - | K38: =IF(MAX(K27:K35)=0,"-",MAX(K27:K35)) -> - | L38: =IF(MAX(L27:L35)=0,"-",MAX(L27:L35)) -> - | ... Q38: =IF(MAX(Q27:Q35)=0,"-",MAX(Q27:Q35)) -> - | S38: =(AVERAGE('(intern)'!S4:W12)+(86/18)/33.3) -> 7.031667 | T38: %
D39: =D16 -> Tagesmittelwert | E39: =IF(E38="-",R16,AVERAGE(E27:E35)) -> 5.9166667 | F39: =IF(F38="-",E39,AVERAGE(F27:F35)) -> 7.3222222 | G39: =IF(G38="-",F39,AVERAGE(G27:G35)) -> 7.3222222 | H39: =IF(H38="-",G39,AVERAGE(H27:H35)) -> 7.3222222 | I39: =IF(I38="-",H39,AVERAGE(I27:I35)) -> 7.3222222 | J39: =IF(J38="-",I39,AVERAGE(J27:J35)) -> 7.3222222 | K39: =IF(K38="-",J39,AVERAGE(K27:K35)) -> 7.3222222 | L39: =IF(L38="-",K39,AVERAGE(L27:L35)) -> 7.3222222 | M39: =IF(M38="-",L39,AVERAGE(M27:M35)) -> 7.3222222 | ... Q39: =IF(Q38="-",P39,AVERAGE(Q27:Q35)) -> 7.3222222 | R39: =AVERAGE(E39:Q39) -> 7.2141026 | S39: =(AVERAGE('(intern)'!W4:AA12)+(86/18)/33.3) -> 7.0218056 | T39: %
E40: =WEEKDAY(E36) -> 1 | F40: =WEEKDAY(F36) -> 1 | G40: =WEEKDAY(G36) -> 1 | H40: =WEEKDAY(H36) -> 1 | I40: =WEEKDAY(I36) -> 1 | J40: =WEEKDAY(J36) -> 1 | K40: =WEEKDAY(K36) -> 1 | L40: =WEEKDAY(L36) -> 1 | ... Q40: =WEEKDAY(Q36) -> 1
B41: Notizen | D41: =D18 -> I.E. / Basal | E41: 15 - 10 - 09/ 10+15 | F41: 15 - 10 - 09/ 10+15 | G41: 15 - 10 - 09/ 10+15 | H41: 15 - 10 - 09/ 10+15 | I41: 15 - 10 - 09/ 10+15 | J41: 15 - 10 - 09/ 10+15 | K41: 15 - 10 - 09/ 10+15 | L41: 15 - 10 - 09/ 10+15 | M41: 15 - 10 - 09/ 10+15 | N41: 15 - 10 - 09/ 10+15 | O41: 15 - 10 - 09/ 10+15 | P41: 15 - 10 - 09/ 10+15 | Q41: 15 - 10 - 09/ 10+15 | R41: II. Quartal | T41: Korrektur = | V41: 1
D42: =D19 -> BE | E42: 05 - 04 - 03 | F42: 05 - 04 - 03 | G42: 05 - 04 - 03 | H42: 05 - 04 - 03 | I42: 05 - 04 - 03 | J42: 05 - 04 - 03 | K42: 05 - 04 - 03 | L42: 05 - 04 - 03 | M42: 05 - 04 - 03 | N42: 05 - 04 - 03 | O42: 05 - 04 - 03 | P42: 05 - 04 - 03 | Q42: 05 - 04 - 03 | T42: 1.Tag= | V42: =Q13+V43 -> 41365
...

Sheet I.17
A1: ='IN (mmol|L)'!R18 -> I. Quartal | C1: ='IN (mmol|L)'!E13 -> 41274 | D1: ='IN (mmol|L)'!F13 -> 41281 | E1: ='IN (mmol|L)'!G13 -> 41288 | F1: ='IN (mmol|L)'!H13 -> 41295 | G1: ='IN (mmol|L)'!I13 -> 41302 | H1: ='IN (mmol|L)'!J13 -> 41309 | I1: ='IN (mmol|L)'!K13 -> 41316 | J1: ='IN (mmol|L)'!L13 -> 41323 | ... O1: ='IN (mmol|L)'!Q13 -> 41358
E36: =CONCATENATE(ROUND('IN (mmol|L)'!S14,1)," %") -> 7,6 % | M36: =CONCATENATE(ROUND('IN (mmol|L)'!S16,1)," %") -> 7,5 %
A37: HbA1c Wert der
I38: =CONCATENATE(ROUND('IN (mmol|L)'!S15,1)," %") -> 7,8 %
A39: Zeiträume
A40: (Näherung) | I40: =CONCATENATE(ROUND('IN (mmol|L)'!S13,1)," %") -> 7,6 %
A70: Tagebuch | B70: ='IN (mmol|L)'!D$18 -> I.E. / Basal | C70: ='IN (mmol|L)'!D$19 -> BE | D70: Faktor | E70: =CONCATENATE('IN (mmol|L)'!D$20," / ",'IN (mmol|L)'!D$21," / ",'IN (mmol|L)'!D$22," / ",'IN (mmol|L)'!D$23) -> Sport / Krankheit / Besonderheiten / Sonstiges
A71: =C$1 -> 41274 | B71: =IF('IN (mmol|L)'!$E$18=0,"",'IN (mmol|L)'!$E$18) -> 15 - 10 - 09/ 10+15 | C71: =IF('IN (mmol|L)'!$E$19=0,"",'IN (mmol|L)'!$E$19) -> 06 - 04 - 03 | D71: =IF(OR(B71="",C71=0),"",CONCATENATE(IF(LEFT(B71,2)*LEFT(C71,2)=0,"X",ROUND(LEFT(B71,2)/LEFT(C71,2),1))," - ",IF(MID(B71,6,2)*MID(C71,6,2)=0,"X",ROUND(MID(B71,6,2)/MID(C71,6,2),1))," - ",IF(MID(B71,11,2)*MID(C71,11,2)=0,"X",ROUND(MID(B71,11,2)/MID(C71,11,2),1)))) -> 2,5 - 2,5 - 3 | E71: =CONCATENATE('IN (mmol|L)'!E$20," / ",'IN (mmol|L)'!E$21," / ",'IN (mmol|L)'!E$22," / ",'IN (mmol|L)'!E$23) -> / / /
A72: =D$1 -> 41281 | B72: =IF('IN (mmol|L)'!$F$18=0,"",'IN (mmol|L)'!$F$18) -> 15 - 10 - 09/ 10+15 | C72: =IF('IN (mmol|L)'!$F$19=0,"",'IN (mmol|L)'!$F$19) -> 06 - 04 - 03 | D72: =IF(OR(B72="",C72=0),"",CONCATENATE(IF(LEFT(B72,2)*LEFT(C72,2)=0,"X",ROUND(LEFT(B72,2)/LEFT(C72,2),1))," - ",IF(MID(B72,6,2)*MID(C72,6,2)=0,"X",ROUND(MID(B72,6,2)/MID(C72,6,2),1))," - ",IF(MID(B72,11,2)*MID(C72,11,2)=0,"X",ROUND(MID(B72,11,2)/MID(C72,11,2),1)))) -> 2,5 - 2,5 - 3 | E72: =CONCATENATE('IN (mmol|L)'!F$20," / ",'IN (mmol|L)'!F$21," / ",'IN (mmol|L)'!F$22," / ",'IN (mmol|L)'!F$23) -> / / /
A73: =E$1 -> 41288 | B73: =IF('IN (mmol|L)'!$G$18=0,"",'IN (mmol|L)'!$G$18) -> 15 - 10 - 09/ 10+15 | C73: =IF('IN (mmol|L)'!$G$19=0,"",'IN (mmol|L)'!$G$19) -> 06 - 04 - 03 | D73: =IF(OR(B73="",C73=0),"",CONCATENATE(IF(LEFT(B73,2)*LEFT(C73,2)=0,"X",ROUND(LEFT(B73,2)/LEFT(C73,2),1))," - ",IF(MID(B73,6,2)*MID(C73,6,2)=0,"X",ROUND(MID(B73,6,2)/MID(C73,6,2),1))," - ",IF(MID(B73,11,2)*MID(C73,11,2)=0,"X",ROUND(MID(B73,11,2)/MID(C73,11,2),1)))) -> 2,5 - 2,5 - 3 | E73: =CONCATENATE('IN (mmol|L)'!G$20," / ",'IN (mmol|L)'!G$21," / ",'IN (mmol|L)'!G$22," / ",'IN (mmol|L)'!G$23) -> / / /
A74: =F$1 -> 41295 | B74: =IF('IN (mmol|L)'!$H$18=0,"",'IN (mmol|L)'!$H$18) -> 15 - 10 - 09/ 10+15 | C74: =IF('IN (mmol|L)'!$H$19=0,"",'IN (mmol|L)'!$H$19) -> 06 - 04 - 03 | D74: =IF(OR(B74="",C74=0),"",CONCATENATE(IF(LEFT(B74,2)*LEFT(C74,2)=0,"X",ROUND(LEFT(B74,2)/LEFT(C74,2),1))," - ",IF(MID(B74,6,2)*MID(C74,6,2)=0,"X",ROUND(MID(B74,6,2)/MID(C74,6,2),1))," - ",IF(MID(B74,11,2)*MID(C74,11,2)=0,"X",ROUND(MID(B74,11,2)/MID(C74,11,2),1)))) -> 2,5 - 2,5 - 3 | E74: =CONCATENATE('IN (mmol|L)'!H$20," / ",'IN (mmol|L)'!H$21," / ",'IN (mmol|L)'!H$22," / ",'IN (mmol|L)'!H$23) -> / / /
A75: =G$1 -> 41302 | B75: =IF('IN (mmol|L)'!$I$18=0,"",'IN (mmol|L)'!$I$18) -> 15 - 10 - 09/ 10+15 | C75: =IF('IN (mmol|L)'!$I$19=0,"",'IN (mmol|L)'!$I$19) -> 06 - 04 - 03 | D75: =IF(OR(B75="",C75=0),"",CONCATENATE(IF(LEFT(B75,2)*LEFT(C75,2)=0,"X",ROUND(LEFT(B75,2)/LEFT(C75,2),1))," - ",IF(MID(B75,6,2)*MID(C75,6,2)=0,"X",ROUND(MID(B75,6,2)/MID(C75,6,2),1))," - ",IF(MID(B75,11,2)*MID(C75,11,2)=0,"X",ROUND(MID(B75,11,2)/MID(C75,11,2),1)))) -> 2,5 - 2,5 - 3 | E75: =CONCATENATE('IN (mmol|L)'!I$20," / ",'IN (mmol|L)'!I$21," / ",'IN (mmol|L)'!I$22," / ",'IN (mmol|L)'!I$23) -> / / /
A76: =H$1 -> 41309 | B76: =IF('IN (mmol|L)'!$J$18=0,"",'IN (mmol|L)'!$J$18) -> 15 - 10 - 09/ 10+15 | C76: =IF('IN (mmol|L)'!$J$19=0,"",'IN (mmol|L)'!$J$19) -> 06 - 04 - 03 | D76: =IF(OR(B76="",C76=0),"",CONCATENATE(IF(LEFT(B76,2)*LEFT(C76,2)=0,"X",ROUND(LEFT(B76,2)/LEFT(C76,2),1))," - ",IF(MID(B76,6,2)*MID(C76,6,2)=0,"X",ROUND(MID(B76,6,2)/MID(C76,6,2),1))," - ",IF(MID(B76,11,2)*MID(C76,11,2)=0,"X",ROUND(MID(B76,11,2)/MID(C76,11,2),1)))) -> 2,5 - 2,5 - 3 | E76: =CONCATENATE('IN (mmol|L)'!J$20," / ",'IN (mmol|L)'!J$21," / ",'IN (mmol|L)'!J$22," / ",'IN (mmol|L)'!J$23) -> / / /
A77: =I$1 -> 41316 | B77: =IF('IN (mmol|L)'!$K$18=0,"",'IN (mmol|L)'!$K$18) -> 15 - 10 - 09/ 10+15 | C77: =IF('IN (mmol|L)'!$K$19=0,"",'IN (mmol|L)'!$K$19) -> 06 - 04 - 03 | D77: =IF(OR(B77="",C77=0),"",CONCATENATE(IF(LEFT(B77,2)*LEFT(C77,2)=0,"X",ROUND(LEFT(B77,2)/LEFT(C77,2),1))," - ",IF(MID(B77,6,2)*MID(C77,6,2)=0,"X",ROUND(MID(B77,6,2)/MID(C77,6,2),1))," - ",IF(MID(B77,11,2)*MID(C77,11,2)=0,"X",ROUND(MID(B77,11,2)/MID(C77,11,2),1)))) -> 2,5 - 2,5 - 3 | E77: =CONCATENATE('IN (mmol|L)'!K$20," / ",'IN (mmol|L)'!K$21," / ",'IN (mmol|L)'!K$22," / ",'IN (mmol|L)'!K$23) -> / / /
A78: =J$1 -> 41323 | B78: =IF('IN (mmol|L)'!$L$18=0,"",'IN (mmol|L)'!$L$18) -> 15 - 10 - 09/ 10+15 | C78: =IF('IN (mmol|L)'!$L$19=0,"",'IN (mmol|L)'!$L$19) -> 06 - 04 - 03 | D78: =IF(OR(B78="",C78=0),"",CONCATENATE(IF(LEFT(B78,2)*LEFT(C78,2)=0,"X",ROUND(LEFT(B78,2)/LEFT(C78,2),1))," - ",IF(MID(B78,6,2)*MID(C78,6,2)=0,"X",ROUND(MID(B78,6,2)/MID(C78,6,2),1))," - ",IF(MID(B78,11,2)*MID(C78,11,2)=0,"X",ROUND(MID(B78,11,2)/MID(C78,11,2),1)))) -> 2,5 - 2,5 - 3 | E78: =CONCATENATE('IN (mmol|L)'!L$20," / ",'IN (mmol|L)'!L$21," / ",'IN (mmol|L)'!L$22," / ",'IN (mmol|L)'!L$23) -> / / /
A79: =K$1 -> 41330 | B79: =IF('IN (mmol|L)'!$M$18=0,"",'IN (mmol|L)'!$M$18) -> 15 - 10 - 09/ 10+15 | C79: =IF('IN (mmol|L)'!$M$19=0,"",'IN (mmol|L)'!$M$19) -> 06 - 04 - 03 | D79: =IF(OR(B79="",C79=0),"",CONCATENATE(IF(LEFT(B79,2)*LEFT(C79,2)=0,"X",ROUND(LEFT(B79,2)/LEFT(C79,2),1))," - ",IF(MID(B79,6,2)*MID(C79,6,2)=0,"X",ROUND(MID(B79,6,2)/MID(C79,6,2),1))," - ",IF(MID(B79,11,2)*MID(C79,11,2)=0,"X",ROUND(MID(B79,11,2)/MID(C79,11,2),1)))) -> 2,5 - 2,5 - 3 | E79: =CONCATENATE('IN (mmol|L)'!M$20," / ",'IN (mmol|L)'!M$21," / ",'IN (mmol|L)'!M$22," / ",'IN (mmol|L)'!M$23) -> / / /
A80: =L$1 -> 41337 | B80: =IF('IN (mmol|L)'!$N$18=0,"",'IN (mmol|L)'!$N$18) -> 15 - 10 - 09/ 10+15 | C80: =IF('IN (mmol|L)'!$N$19=0,"",'IN (mmol|L)'!$N$19) -> 06 - 04 - 03 | D80: =IF(OR(B80="",C80=0),"",CONCATENATE(IF(LEFT(B80,2)*LEFT(C80,2)=0,"X",ROUND(LEFT(B80,2)/LEFT(C80,2),1))," - ",IF(MID(B80,6,2)*MID(C80,6,2)=0,"X",ROUND(MID(B80,6,2)/MID(C80,6,2),1))," - ",IF(MID(B80,11,2)*MID(C80,11,2)=0,"X",ROUND(MID(B80,11,2)/MID(C80,11,2),1)))) -> 2,5 - 2,5 - 3 | E80: =CONCATENATE('IN (mmol|L)'!N$20," / ",'IN (mmol|L)'!N$21," / ",'IN (mmol|L)'!N$22," / ",'IN (mmol|L)'!N$23) -> / / /
A81: =M$1 -> 41344 | B81: =IF('IN (mmol|L)'!$O$18=0,"",'IN (mmol|L)'!$O$18) -> 15 - 10 - 09/ 10+15 | C81: =IF('IN (mmol|L)'!$O$19=0,"",'IN (mmol|L)'!$O$19) -> 06 - 04 - 03 | D81: =IF(OR(B81="",C81=0),"",CONCATENATE(IF(LEFT(B81,2)*LEFT(C81,2)=0,"X",ROUND(LEFT(B81,2)/LEFT(C81,2),1))," - ",IF(MID(B81,6,2)*MID(C81,6,2)=0,"X",ROUND(MID(B81,6,2)/MID(C81,6,2),1))," - ",IF(MID(B81,11,2)*MID(C81,11,2)=0,"X",ROUND(MID(B81,11,2)/MID(C81,11,2),1)))) -> 2,5 - 2,5 - 3 | E81: =CONCATENATE('IN (mmol|L)'!O$20," / ",'IN (mmol|L)'!O$21," / ",'IN (mmol|L)'!O$22," / ",'IN (mmol|L)'!O$23) -> / / /
A82: =N$1 -> 41351 | B82: =IF('IN (mmol|L)'!$P$18=0,"",'IN (mmol|L)'!$P$18) -> 15 - 10 - 09/ 10+15 | C82: =IF('IN (mmol|L)'!$P$19=0,"",'IN (mmol|L)'!$P$19) -> 06 - 04 - 03 | D82: =IF(OR(B82="",C82=0),"",CONCATENATE(IF(LEFT(B82,2)*LEFT(C82,2)=0,"X",ROUND(LEFT(B82,2)/LEFT(C82,2),1))," - ",IF(MID(B82,6,2)*MID(C82,6,2)=0,"X",ROUND(MID(B82,6,2)/MID(C82,6,2),1))," - ",IF(MID(B82,11,2)*MID(C82,11,2)=0,"X",ROUND(MID(B82,11,2)/MID(C82,11,2),1)))) -> 2,5 - 2,5 - 3 | E82: =CONCATENATE('IN (mmol|L)'!P$20," / ",'IN (mmol|L)'!P$21," / ",'IN (mmol|L)'!P$22," / ",'IN (mmol|L)'!P$23) -> / / /
A83: =O$1 -> 41358 | B83: =IF('IN (mmol|L)'!$Q$18=0,"",'IN (mmol|L)'!$Q$18) -> 15 - 10 - 09/ 10+15 | C83: =IF('IN (mmol|L)'!$Q$19=0,"",'IN (mmol|L)'!$Q$19) -> 06 - 04 - 03 | D83: =IF(OR(B83="",C83=0),"",CONCATENATE(IF(LEFT(B83,2)*LEFT(C83,2)=0,"X",ROUND(LEFT(B83,2)/LEFT(C83,2),1))," - ",IF(MID(B83,6,2)*MID(C83,6,2)=0,"X",ROUND(MID(B83,6,2)/MID(C83,6,2),1))," - ",IF(MID(B83,11,2)*MID(C83,11,2)=0,"X",ROUND(MID(B83,11,2)/MID(C83,11,2),1)))) -> 2,5 - 2,5 - 3 | E83: =CONCATENATE('IN (mmol|L)'!Q$20," / ",'IN (mmol|L)'!Q$21," / ",'IN (mmol|L)'!Q$22," / ",'IN (mmol|L)'!Q$23) -> / / /

Sheet II.17
A1: ='IN (mmol|L)'!R41 -> II. Quartal | C1: ='IN (mmol|L)'!E36 -> 41365 | D1: ='IN (mmol|L)'!F36 -> 41372 | E1: ='IN (mmol|L)'!G36 -> 41379 | F1: ='IN (mmol|L)'!H36 -> 41386 | G1: ='IN (mmol|L)'!I36 -> 41393 | H1: ='IN (mmol|L)'!J36 -> 41400 | I1: ='IN (mmol|L)'!K36 -> 41407 | J1: ='IN (mmol|L)'!L36 -> 41414 | ... O1: ='IN (mmol|L)'!Q36 -> 41449
E36: =CONCATENATE(ROUND('IN (mmol|L)'!S37,1)," %") -> 7 % | M36: =CONCATENATE(ROUND('IN (mmol|L)'!S39,1)," %") -> 7 %
A37: HbA1c Wert der
I38: =CONCATENATE(ROUND('IN (mmol|L)'!S38,1)," %") -> 7 %
A39: Zeiträume
A40: (Näherung) | I40: =CONCATENATE(ROUND('IN (mmol|L)'!S36,1)," %") -> 7 %
A70: Tagebuch | B70: ='IN (mmol|L)'!D$18 -> I.E. / Basal | C70: ='IN (mmol|L)'!D$19 -> BE | D70: Faktor | E70: =CONCATENATE('IN (mmol|L)'!D$20," / ",'IN (mmol|L)'!D$21," / ",'IN (mmol|L)'!D$22," / ",'IN (mmol|L)'!D$23) -> Sport / Krankheit / Besonderheiten / Sonstiges
A71: =C$1 -> 41365 | B71: =IF('IN (mmol|L)'!$E$41=0,"",'IN (mmol|L)'!$E$41) -> 15 - 10 - 09/ 10+15 | C71: =IF('IN (mmol|L)'!$E$42=0,"",'IN (mmol|L)'!$E$42) -> 05 - 04 - 03 | D71: =IF(OR(B71="",C71=0),"",CONCATENATE(IF(LEFT(B71,2)*LEFT(C71,2)=0,"X",ROUND(LEFT(B71,2)/LEFT(C71,2),1))," - ",IF(MID(B71,6,2)*MID(C71,6,2)=0,"X",ROUND(MID(B71,6,2)/MID(C71,6,2),1))," - ",IF(MID(B71,11,2)*MID(C71,11,2)=0,"X",ROUND(MID(B71,11,2)/MID(C71,11,2),1)))) -> 3 - 2,5 - 3 | E71: =CONCATENATE('IN (mmol|L)'!E$43," / ",'IN (mmol|L)'!E$44," / ",'IN (mmol|L)'!E$45," / ",'IN (mmol|L)'!E$46) -> / / /
A72: =D$1 -> 41372 | B72: =IF('IN (mmol|L)'!$F$41=0,"",'IN (mmol|L)'!$F$41) -> 15 - 10 - 09/ 10+15 | C72: =IF('IN (mmol|L)'!$F$42=0,"",'IN (mmol|L)'!$F$42) -> 05 - 04 - 03 | D72: =IF(OR(B72="",C72=0),"",CONCATENATE(IF(LEFT(B72,2)*LEFT(C72,2)=0,"X",ROUND(LEFT(B72,2)/LEFT(C72,2),1))," - ",IF(MID(B72,6,2)*MID(C72,6,2)=0,"X",ROUND(MID(B72,6,2)/MID(C72,6,2),1))," - ",IF(MID(B72,11,2)*MID(C72,11,2)=0,"X",ROUND(MID(B72,11,2)/MID(C72,11,2),1)))) -> 3 - 2,5 - 3 | E72: =CONCATENATE('IN (mmol|L)'!F$43," / ",'IN (mmol|L)'!F$44," / ",'IN (mmol|L)'!F$45," / ",'IN (mmol|L)'!F$46) -> / / /
A73: =E$1 -> 41379 | B73: =IF('IN (mmol|L)'!$G$41=0,"",'IN (mmol|L)'!$G$41) -> 15 - 10 - 09/ 10+15 | C73: =IF('IN (mmol|L)'!$G$42=0,"",'IN (mmol|L)'!$G$42) -> 05 - 04 - 03 | D73: =IF(OR(B73="",C73=0),"",CONCATENATE(IF(LEFT(B73,2)*LEFT(C73,2)=0,"X",ROUND(LEFT(B73,2)/LEFT(C73,2),1))," - ",IF(MID(B73,6,2)*MID(C73,6,2)=0,"X",ROUND(MID(B73,6,2)/MID(C73,6,2),1))," - ",IF(MID(B73,11,2)*MID(C73,11,2)=0,"X",ROUND(MID(B73,11,2)/MID(C73,11,2),1)))) -> 3 - 2,5 - 3 | E73: =CONCATENATE('IN (mmol|L)'!G$43," / ",'IN (mmol|L)'!G$44," / ",'IN (mmol|L)'!G$45," / ",'IN (mmol|L)'!G$46) -> / / /
A74: =F$1 -> 41386 | B74: =IF('IN (mmol|L)'!$H$41=0,"",'IN (mmol|L)'!$H$41) -> 15 - 10 - 09/ 10+15 | C74: =IF('IN (mmol|L)'!$H$42=0,"",'IN (mmol|L)'!$H$42) -> 05 - 04 - 03 | D74: =IF(OR(B74="",C74=0),"",CONCATENATE(IF(LEFT(B74,2)*LEFT(C74,2)=0,"X",ROUND(LEFT(B74,2)/LEFT(C74,2),1))," - ",IF(MID(B74,6,2)*MID(C74,6,2)=0,"X",ROUND(MID(B74,6,2)/MID(C74,6,2),1))," - ",IF(MID(B74,11,2)*MID(C74,11,2)=0,"X",ROUND(MID(B74,11,2)/MID(C74,11,2),1)))) -> 3 - 2,5 - 3 | E74: =CONCATENATE('IN (mmol|L)'!H$43," / ",'IN (mmol|L)'!H$44," / ",'IN (mmol|L)'!H$45," / ",'IN (mmol|L)'!H$46) -> / / /
A75: =G$1 -> 41393 | B75: =IF('IN (mmol|L)'!$I$41=0,"",'IN (mmol|L)'!$I$41) -> 15 - 10 - 09/ 10+15 | C75: =IF('IN (mmol|L)'!$I$42=0,"",'IN (mmol|L)'!$I$42) -> 05 - 04 - 03 | D75: =IF(OR(B75="",C75=0),"",CONCATENATE(IF(LEFT(B75,2)*LEFT(C75,2)=0,"X",ROUND(LEFT(B75,2)/LEFT(C75,2),1))," - ",IF(MID(B75,6,2)*MID(C75,6,2)=0,"X",ROUND(MID(B75,6,2)/MID(C75,6,2),1))," - ",IF(MID(B75,11,2)*MID(C75,11,2)=0,"X",ROUND(MID(B75,11,2)/MID(C75,11,2),1)))) -> 3 - 2,5 - 3 | E75: =CONCATENATE('IN (mmol|L)'!I$43," / ",'IN (mmol|L)'!I$44," / ",'IN (mmol|L)'!I$45," / ",'IN (mmol|L)'!I$46) -> / / /
A76: =H$1 -> 41400 | B76: =IF('IN (mmol|L)'!$J$41=0,"",'IN (mmol|L)'!$J$41) -> 15 - 10 - 09/ 10+15 | C76: =IF('IN (mmol|L)'!$J$42=0,"",'IN (mmol|L)'!$J$42) -> 05 - 04 - 03 | D76: =IF(OR(B76="",C76=0),"",CONCATENATE(IF(LEFT(B76,2)*LEFT(C76,2)=0,"X",ROUND(LEFT(B76,2)/LEFT(C76,2),1))," - ",IF(MID(B76,6,2)*MID(C76,6,2)=0,"X",ROUND(MID(B76,6,2)/MID(C76,6,2),1))," - ",IF(MID(B76,11,2)*MID(C76,11,2)=0,"X",ROUND(MID(B76,11,2)/MID(C76,11,2),1)))) -> 3 - 2,5 - 3 | E76: =CONCATENATE('IN (mmol|L)'!J$43," / ",'IN (mmol|L)'!J$44," / ",'IN (mmol|L)'!J$45," / ",'IN (mmol|L)'!J$46) -> / / /
A77: =I$1 -> 41407 | B77: =IF('IN (mmol|L)'!$K$41=0,"",'IN (mmol|L)'!$K$41) -> 15 - 10 - 09/ 10+15 | C77: =IF('IN (mmol|L)'!$K$42=0,"",'IN (mmol|L)'!$K$42) -> 05 - 04 - 03 | D77: =IF(OR(B77="",C77=0),"",CONCATENATE(IF(LEFT(B77,2)*LEFT(C77,2)=0,"X",ROUND(LEFT(B77,2)/LEFT(C77,2),1))," - ",IF(MID(B77,6,2)*MID(C77,6,2)=0,"X",ROUND(MID(B77,6,2)/MID(C77,6,2),1))," - ",IF(MID(B77,11,2)*MID(C77,11,2)=0,"X",ROUND(MID(B77,11,2)/MID(C77,11,2),1)))) -> 3 - 2,5 - 3 | E77: =CONCATENATE('IN (mmol|L)'!K$43," / ",'IN (mmol|L)'!G$45," / ",'IN (mmol|L)'!K$45," / ",'IN (mmol|L)'!K$46) -> / / /
A78: =J$1 -> 41414 | B78: =IF('IN (mmol|L)'!$L$41=0,"",'IN (mmol|L)'!$L$41) -> 15 - 10 - 09/ 10+15 | C78: =IF('IN (mmol|L)'!$L$42=0,"",'IN (mmol|L)'!$L$42) -> 05 - 04 - 03 | D78: =IF(OR(B78="",C78=0),"",CONCATENATE(IF(LEFT(B78,2)*LEFT(C78,2)=0,"X",ROUND(LEFT(B78,2)/LEFT(C78,2),1))," - ",IF(MID(B78,6,2)*MID(C78,6,2)=0,"X",ROUND(MID(B78,6,2)/MID(C78,6,2),1))," - ",IF(MID(B78,11,2)*MID(C78,11,2)=0,"X",ROUND(MID(B78,11,2)/MID(C78,11,2),1)))) -> 3 - 2,5 - 3 | E78: =CONCATENATE('IN (mmol|L)'!L$43," / ",'IN (mmol|L)'!L$44," / ",'IN (mmol|L)'!L$45," / ",'IN (mmol|L)'!L$46) -> / / /
A79: =K$1 -> 41421 | B79: =IF('IN (mmol|L)'!$M$41=0,"",'IN (mmol|L)'!$M$41) -> 15 - 10 - 09/ 10+15 | C79: =IF('IN (mmol|L)'!$M$42=0,"",'IN (mmol|L)'!$M$42) -> 05 - 04 - 03 | D79: =IF(OR(B79="",C79=0),"",CONCATENATE(IF(LEFT(B79,2)*LEFT(C79,2)=0,"X",ROUND(LEFT(B79,2)/LEFT(C79,2),1))," - ",IF(MID(B79,6,2)*MID(C79,6,2)=0,"X",ROUND(MID(B79,6,2)/MID(C79,6,2),1))," - ",IF(MID(B79,11,2)*MID(C79,11,2)=0,"X",ROUND(MID(B79,11,2)/MID(C79,11,2),1)))) -> 3 - 2,5 - 3 | E79: =CONCATENATE('IN (mmol|L)'!M$43," / ",'IN (mmol|L)'!M$44," / ",'IN (mmol|L)'!M$45," / ",'IN (mmol|L)'!M$46) -> / / /
A80: =L$1 -> 41428 | B80: =IF('IN (mmol|L)'!$N$41=0,"",'IN (mmol|L)'!$N$41) -> 15 - 10 - 09/ 10+15 | C80: =IF('IN (mmol|L)'!$N$42=0,"",'IN (mmol|L)'!$N$42) -> 05 - 04 - 03 | D80: =IF(OR(B80="",C80=0),"",CONCATENATE(IF(LEFT(B80,2)*LEFT(C80,2)=0,"X",ROUND(LEFT(B80,2)/LEFT(C80,2),1))," - ",IF(MID(B80,6,2)*MID(C80,6,2)=0,"X",ROUND(MID(B80,6,2)/MID(C80,6,2),1))," - ",IF(MID(B80,11,2)*MID(C80,11,2)=0,"X",ROUND(MID(B80,11,2)/MID(C80,11,2),1)))) -> 3 - 2,5 - 3 | E80: =CONCATENATE('IN (mmol|L)'!N$43," / ",'IN (mmol|L)'!N$44," / ",'IN (mmol|L)'!N$45," / ",'IN (mmol|L)'!N$46) -> / / /
A81: =L$1 -> 41428 | B81: =IF('IN (mmol|L)'!$O$41=0,"",'IN (mmol|L)'!$O$41) -> 15 - 10 - 09/ 10+15 | C81: =IF('IN (mmol|L)'!$O$42=0,"",'IN (mmol|L)'!$O$42) -> 05 - 04 - 03 | D81: =IF(OR(B81="",C81=0),"",CONCATENATE(IF(LEFT(B81,2)*LEFT(C81,2)=0,"X",ROUND(LEFT(B81,2)/LEFT(C81,2),1))," - ",IF(MID(B81,6,2)*MID(C81,6,2)=0,"X",ROUND(MID(B81,6,2)/MID(C81,6,2),1))," - ",IF(MID(B81,11,2)*MID(C81,11,2)=0,"X",ROUND(MID(B81,11,2)/MID(C81,11,2),1)))) -> 3 - 2,5 - 3 | E81: =CONCATENATE('IN (mmol|L)'!O$43," / ",'IN (mmol|L)'!O$44," / ",'IN (mmol|L)'!O$45," / ",'IN (mmol|L)'!O$46) -> / / /
A82: =L$1 -> 41428 | B82: =IF('IN (mmol|L)'!$P$41=0,"",'IN (mmol|L)'!$P$41) -> 15 - 10 - 09/ 10+15 | C82: =IF('IN (mmol|L)'!$P$42=0,"",'IN (mmol|L)'!$P$42) -> 05 - 04 - 03 | D82: =IF(OR(B82="",C82=0),"",CONCATENATE(IF(LEFT(B82,2)*LEFT(C82,2)=0,"X",ROUND(LEFT(B82,2)/LEFT(C82,2),1))," - ",IF(MID(B82,6,2)*MID(C82,6,2)=0,"X",ROUND(MID(B82,6,2)/MID(C82,6,2),1))," - ",IF(MID(B82,11,2)*MID(C82,11,2)=0,"X",ROUND(MID(B82,11,2)/MID(C82,11,2),1)))) -> 3 - 2,5 - 3 | E82: =CONCATENATE('IN (mmol|L)'!P$43," / ",'IN (mmol|L)'!P$44," / ",'IN (mmol|L)'!P$45," / ",'IN (mmol|L)'!P$46) -> / / /
A83: =L$1 -> 41428 | B83: =IF('IN (mmol|L)'!$Q$41=0,"",'IN (mmol|L)'!$Q$41) -> 15 - 10 - 09/ 10+15 | C83: =IF('IN (mmol|L)'!$Q$42=0,"",'IN (mmol|L)'!$Q$42) -> 05 - 04 - 03 | D83: =IF(OR(B83="",C83=0),"",CONCATENATE(IF(LEFT(B83,2)*LEFT(C83,2)=0,"X",ROUND(LEFT(B83,2)/LEFT(C83,2),1))," - ",IF(MID(B83,6,2)*MID(C83,6,2)=0,"X",ROUND(MID(B83,6,2)/MID(C83,6,2),1))," - ",IF(MID(B83,11,2)*MID(C83,11,2)=0,"X",ROUND(MID(B83,11,2)/MID(C83,11,2),1)))) -> 3 - 2,5 - 3 | E83: =CONCATENATE('IN (mmol|L)'!Q$43," / ",'IN (mmol|L)'!Q$44," / ",'IN (mmol|L)'!Q$45," / ",'IN (mmol|L)'!Q$46) -> / / /

Sheet III.17
A1: ='IN (mmol|L)'!R64 -> III. Quartal | C1: ='IN (mmol|L)'!E59 -> 41456 | D1: ='IN (mmol|L)'!F59 -> 41463 | E1: ='IN (mmol|L)'!G59 -> 41470 | F1: ='IN (mmol|L)'!H59 -> 41477 | G1: ='IN (mmol|L)'!I59 -> 41484 | H1: ='IN (mmol|L)'!J59 -> 41491 | I1: ='IN (mmol|L)'!K59 -> 41498 | J1: ='IN (mmol|L)'!L59 -> 41505 | ... O1: ='IN (mmol|L)'!Q59 -> 41540
E36: =CONCATENATE(ROUND('IN (mmol|L)'!S60,1)," %") -> 7 % | M36: =CONCATENATE(ROUND('IN (mmol|L)'!S62,1)," %") -> 7 %
A37: HbA1c Wert der
I38: =CONCATENATE(ROUND('IN (mmol|L)'!S61,1)," %") -> 7 %
A39: Zeiträume
A40: (Näherung) | I40: =CONCATENATE(ROUND('IN (mmol|L)'!S59,1)," %") -> 7 %
A70: Tagebuch | B70: ='IN (mmol|L)'!D$18 -> I.E. / Basal | C70: ='IN (mmol|L)'!D$19 -> BE | D70: Faktor | E70: =CONCATENATE('IN (mmol|L)'!D$20," / ",'IN (mmol|L)'!D$21," / ",'IN (mmol|L)'!D$22," / ",'IN (mmol|L)'!D$23) -> Sport / Krankheit / Besonderheiten / Sonstiges
A71: =C$1 -> 41456 | B71: =IF('IN (mmol|L)'!$E$64=0,"",'IN (mmol|L)'!$E$64) -> 15 - 10 - 09/ 10+15 | C71: =IF('IN (mmol|L)'!$E$65=0,"",'IN (mmol|L)'!$E$65) -> 05 - 04 - 03 | D71: =IF(OR(B71="",C71=0),"",CONCATENATE(IF(LEFT(B71,2)*LEFT(C71,2)=0,"X",ROUND(LEFT(B71,2)/LEFT(C71,2),1))," - ",IF(MID(B71,6,2)*MID(C71,6,2)=0,"X",ROUND(MID(B71,6,2)/MID(C71,6,2),1))," - ",IF(MID(B71,11,2)*MID(C71,11,2)=0,"X",ROUND(MID(B71,11,2)/MID(C71,11,2),1)))) -> 3 - 2,5 - 3 | E71: =CONCATENATE('IN (mmol|L)'!E$66," / ",'IN (mmol|L)'!E$67," / ",'IN (mmol|L)'!E$68," / ",'IN (mmol|L)'!E$69) -> / / /
A72: =D$1 -> 41463 | B72: =IF('IN (mmol|L)'!$F$64=0,"",'IN (mmol|L)'!$F$64) -> 15 - 10 - 09/ 10+15 | C72: =IF('IN (mmol|L)'!$F$65=0,"",'IN (mmol|L)'!$F$65) -> 05 - 04 - 03 | D72: =IF(OR(B72="",C72=0),"",CONCATENATE(IF(LEFT(B72,2)*LEFT(C72,2)=0,"X",ROUND(LEFT(B72,2)/LEFT(C72,2),1))," - ",IF(MID(B72,6,2)*MID(C72,6,2)=0,"X",ROUND(MID(B72,6,2)/MID(C72,6,2),1))," - ",IF(MID(B72,11,2)*MID(C72,11,2)=0,"X",ROUND(MID(B72,11,2)/MID(C72,11,2),1)))) -> 3 - 2,5 - 3 | E72: =CONCATENATE('IN (mmol|L)'!F$66," / ",'IN (mmol|L)'!F$67," / ",'IN (mmol|L)'!F$68," / ",'IN (mmol|L)'!F$69) -> / / /
A73: =E$1 -> 41470 | B73: =IF('IN (mmol|L)'!$G$64=0,"",'IN (mmol|L)'!$G$64) -> 15 - 10 - 09/ 10+15 | C73: =IF('IN (mmol|L)'!$G$65=0,"",'IN (mmol|L)'!$G$65) -> 05 - 04 - 03 | D73: =IF(OR(B73="",C73=0),"",CONCATENATE(IF(LEFT(B73,2)*LEFT(C73,2)=0,"X",ROUND(LEFT(B73,2)/LEFT(C73,2),1))," - ",IF(MID(B73,6,2)*MID(C73,6,2)=0,"X",ROUND(MID(B73,6,2)/MID(C73,6,2),1))," - ",IF(MID(B73,11,2)*MID(C73,11,2)=0,"X",ROUND(MID(B73,11,2)/MID(C73,11,2),1)))) -> 3 - 2,5 - 3 | E73: =CONCATENATE('IN (mmol|L)'!G$66," / ",'IN (mmol|L)'!G$67," / ",'IN (mmol|L)'!G$68," / ",'IN (mmol|L)'!G$69) -> / / /
A74: =F$1 -> 41477 | B74: =IF('IN (mmol|L)'!$H$64=0,"",'IN (mmol|L)'!$H$64) -> 15 - 10 - 09/ 10+15 | C74: =IF('IN (mmol|L)'!$H$65=0,"",'IN (mmol|L)'!$H$65) -> 05 - 04 - 03 | D74: =IF(OR(B74="",C74=0),"",CONCATENATE(IF(LEFT(B74,2)*LEFT(C74,2)=0,"X",ROUND(LEFT(B74,2)/LEFT(C74,2),1))," - ",IF(MID(B74,6,2)*MID(C74,6,2)=0,"X",ROUND(MID(B74,6,2)/MID(C74,6,2),1))," - ",IF(MID(B74,11,2)*MID(C74,11,2)=0,"X",ROUND(MID(B74,11,2)/MID(C74,11,2),1)))) -> 3 - 2,5 - 3 | E74: =CONCATENATE('IN (mmol|L)'!H$66," / ",'IN (mmol|L)'!H$67," / ",'IN (mmol|L)'!H$68," / ",'IN (mmol|L)'!H$69) -> / / /
A75: =G$1 -> 41484 | B75: =IF('IN (mmol|L)'!$I$64=0,"",'IN (mmol|L)'!$I$64) -> 15 - 10 - 09/ 10+15 | C75: =IF('IN (mmol|L)'!$I$65=0,"",'IN (mmol|L)'!$I$65) -> 05 - 04 - 03 | D75: =IF(OR(B75="",C75=0),"",CONCATENATE(IF(LEFT(B75,2)*LEFT(C75,2)=0,"X",ROUND(LEFT(B75,2)/LEFT(C75,2),1))," - ",IF(MID(B75,6,2)*MID(C75,6,2)=0,"X",ROUND(MID(B75,6,2)/MID(C75,6,2),1))," - ",IF(MID(B75,11,2)*MID(C75,11,2)=0,"X",ROUND(MID(B75,11,2)/MID(C75,11,2),1)))) -> 3 - 2,5 - 3 | E75: =CONCATENATE('IN (mmol|L)'!I$66," / ",'IN (mmol|L)'!I$67," / ",'IN (mmol|L)'!K$68," / ",'IN (mmol|L)'!I$69) -> / / /
A76: =H$1 -> 41491 | B76: =IF('IN (mmol|L)'!$J$64=0,"",'IN (mmol|L)'!$J$64) -> 15 - 10 - 09/ 10+15 | C76: =IF('IN (mmol|L)'!$J$65=0,"",'IN (mmol|L)'!$J$65) -> 05 - 04 - 03 | D76: =IF(OR(B76="",C76=0),"",CONCATENATE(IF(LEFT(B76,2)*LEFT(C76,2)=0,"X",ROUND(LEFT(B76,2)/LEFT(C76,2),1))," - ",IF(MID(B76,6,2)*MID(C76,6,2)=0,"X",ROUND(MID(B76,6,2)/MID(C76,6,2),1))," - ",IF(MID(B76,11,2)*MID(C76,11,2)=0,"X",ROUND(MID(B76,11,2)/MID(C76,11,2),1)))) -> 3 - 2,5 - 3 | E76: =CONCATENATE('IN (mmol|L)'!J$66," / ",'IN (mmol|L)'!J$67," / ",'IN (mmol|L)'!J$68," / ",'IN (mmol|L)'!J$69) -> / / /
A77: =I$1 -> 41498 | B77: =IF('IN (mmol|L)'!$K$64=0,"",'IN (mmol|L)'!$K$64) -> 15 - 10 - 09/ 10+15 | C77: =IF('IN (mmol|L)'!$K$65=0,"",'IN (mmol|L)'!$K$65) -> 05 - 04 - 03 | D77: =IF(OR(B77="",C77=0),"",CONCATENATE(IF(LEFT(B77,2)*LEFT(C77,2)=0,"X",ROUND(LEFT(B77,2)/LEFT(C77,2),1))," - ",IF(MID(B77,6,2)*MID(C77,6,2)=0,"X",ROUND(MID(B77,6,2)/MID(C77,6,2),1))," - ",IF(MID(B77,11,2)*MID(C77,11,2)=0,"X",ROUND(MID(B77,11,2)/MID(C77,11,2),1)))) -> 3 - 2,5 - 3 | E77: =CONCATENATE('IN (mmol|L)'!K$66," / ",'IN (mmol|L)'!K$67," / ",'IN (mmol|L)'!K$68," / ",'IN (mmol|L)'!K$69) -> / / /
A78: =J$1 -> 41505 | B78: =IF('IN (mmol|L)'!$L$64=0,"",'IN (mmol|L)'!$L$64) -> 15 - 10 - 09/ 10+15 | C78: =IF('IN (mmol|L)'!$L$65=0,"",'IN (mmol|L)'!$L$65) -> 05 - 04 - 03 | D78: =IF(OR(B78="",C78=0),"",CONCATENATE(IF(LEFT(B78,2)*LEFT(C78,2)=0,"X",ROUND(LEFT(B78,2)/LEFT(C78,2),1))," - ",IF(MID(B78,6,2)*MID(C78,6,2)=0,"X",ROUND(MID(B78,6,2)/MID(C78,6,2),1))," - ",IF(MID(B78,11,2)*MID(C78,11,2)=0,"X",ROUND(MID(B78,11,2)/MID(C78,11,2),1)))) -> 3 - 2,5 - 3 | E78: =CONCATENATE('IN (mmol|L)'!L$66," / ",'IN (mmol|L)'!L$67," / ",'IN (mmol|L)'!L$68," / ",'IN (mmol|L)'!L$69) -> / / /
A79: =K$1 -> 41512 | B79: =IF('IN (mmol|L)'!$M$64=0,"",'IN (mmol|L)'!$M$64) -> 15 - 10 - 09/ 10+15 | C79: =IF('IN (mmol|L)'!$M$65=0,"",'IN (mmol|L)'!$M$65) -> 05 - 04 - 03 | D79: =IF(OR(B79="",C79=0),"",CONCATENATE(IF(LEFT(B79,2)*LEFT(C79,2)=0,"X",ROUND(LEFT(B79,2)/LEFT(C79,2),1))," - ",IF(MID(B79,6,2)*MID(C79,6,2)=0,"X",ROUND(MID(B79,6,2)/MID(C79,6,2),1))," - ",IF(MID(B79,11,2)*MID(C79,11,2)=0,"X",ROUND(MID(B79,11,2)/MID(C79,11,2),1)))) -> 3 - 2,5 - 3 | E79: =CONCATENATE('IN (mmol|L)'!M$66," / ",'IN (mmol|L)'!M$67," / ",'IN (mmol|L)'!M$68," / ",'IN (mmol|L)'!M$69) -> / / /
A80: =L$1 -> 41519 | B80: =IF('IN (mmol|L)'!$N$64=0,"",'IN (mmol|L)'!$N$64) -> 15 - 10 - 09/ 10+15 | C80: =IF('IN (mmol|L)'!$N$65=0,"",'IN (mmol|L)'!$N$65) -> 05 - 04 - 03 | D80: =IF(OR(B80="",C80=0),"",CONCATENATE(IF(LEFT(B80,2)*LEFT(C80,2)=0,"X",ROUND(LEFT(B80,2)/LEFT(C80,2),1))," - ",IF(MID(B80,6,2)*MID(C80,6,2)=0,"X",ROUND(MID(B80,6,2)/MID(C80,6,2),1))," - ",IF(MID(B80,11,2)*MID(C80,11,2)=0,"X",ROUND(MID(B80,11,2)/MID(C80,11,2),1)))) -> 3 - 2,5 - 3 | E80: =CONCATENATE('IN (mmol|L)'!N$66," / ",'IN (mmol|L)'!N$67," / ",'IN (mmol|L)'!N$68," / ",'IN (mmol|L)'!N$69) -> / / /
A81: =M$1 -> 41526 | B81: =IF('IN (mmol|L)'!$O$64=0,"",'IN (mmol|L)'!$O$64) -> 15 - 10 - 09/ 10+15 | C81: =IF('IN (mmol|L)'!$O$65=0,"",'IN (mmol|L)'!$O$65) -> 05 - 04 - 03 | D81: =IF(OR(B81="",C81=0),"",CONCATENATE(IF(LEFT(B81,2)*LEFT(C81,2)=0,"X",ROUND(LEFT(B81,2)/LEFT(C81,2),1))," - ",IF(MID(B81,6,2)*MID(C81,6,2)=0,"X",ROUND(MID(B81,6,2)/MID(C81,6,2),1))," - ",IF(MID(B81,11,2)*MID(C81,11,2)=0,"X",ROUND(MID(B81,11,2)/MID(C81,11,2),1)))) -> 3 - 2,5 - 3 | E81: =CONCATENATE('IN (mmol|L)'!O$66," / ",'IN (mmol|L)'!O$67," / ",'IN (mmol|L)'!O$68," / ",'IN (mmol|L)'!O$69) -> / / /
A82: =N$1 -> 41533 | B82: =IF('IN (mmol|L)'!$P$64=0,"",'IN (mmol|L)'!$P$64) -> 15 - 10 - 09/ 10+15 | C82: =IF('IN (mmol|L)'!$P$65=0,"",'IN (mmol|L)'!$P$65) -> 05 - 04 - 03 | D82: =IF(OR(B82="",C82=0),"",CONCATENATE(IF(LEFT(B82,2)*LEFT(C82,2)=0,"X",ROUND(LEFT(B82,2)/LEFT(C82,2),1))," - ",IF(MID(B82,6,2)*MID(C82,6,2)=0,"X",ROUND(MID(B82,6,2)/MID(C82,6,2),1))," - ",IF(MID(B82,11,2)*MID(C82,11,2)=0,"X",ROUND(MID(B82,11,2)/MID(C82,11,2),1)))) -> 3 - 2,5 - 3 | E82: =CONCATENATE('IN (mmol|L)'!P$66," / ",'IN (mmol|L)'!P$67," / ",'IN (mmol|L)'!P$68," / ",'IN (mmol|L)'!P$69) -> / / /
A83: =O$1 -> 41540 | B83: =IF('IN (mmol|L)'!$Q$64=0,"",'IN (mmol|L)'!$Q$64) -> 15 - 10 - 09/ 10+15 | C83: =IF('IN (mmol|L)'!$Q$65=0,"",'IN (mmol|L)'!$Q$65) -> 05 - 04 - 03 | D83: =IF(OR(B83="",C83=0),"",CONCATENATE(IF(LEFT(B83,2)*LEFT(C83,2)=0,"X",ROUND(LEFT(B83,2)/LEFT(C83,2),1))," - ",IF(MID(B83,6,2)*MID(C83,6,2)=0,"X",ROUND(MID(B83,6,2)/MID(C83,6,2),1))," - ",IF(MID(B83,11,2)*MID(C83,11,2)=0,"X",ROUND(MID(B83,11,2)/MID(C83,11,2),1)))) -> 3 - 2,5 - 3 | E83: =CONCATENATE('IN (mmol|L)'!Q$66," / ",'IN (mmol|L)'!Q$67," / ",'IN (mmol|L)'!Q$68," / ",'IN (mmol|L)'!Q$69) -> / / /

Sheet IV.17
A1: ='IN (mmol|L)'!R87 -> IV. Quartal | C1: ='IN (mmol|L)'!E82 -> 41547 | D1: ='IN (mmol|L)'!F82 -> 41554 | E1: ='IN (mmol|L)'!G82 -> 41561 | F1: ='IN (mmol|L)'!H82 -> 41568 | G1: ='IN (mmol|L)'!I82 -> 41575 | H1: ='IN (mmol|L)'!J82 -> 41582 | I1: ='IN (mmol|L)'!K82 -> 41589 | J1: ='IN (mmol|L)'!L82 -> 41596 | ... O1: ='IN (mmol|L)'!Q82 -> 41631
E36: =CONCATENATE(ROUND('IN (mmol|L)'!S83,1)," %") -> 7 % | M36: =CONCATENATE(ROUND('IN (mmol|L)'!S85,1)," %") -> 7 %
A37: HbA1c Wert der
I38: =CONCATENATE(ROUND('IN (mmol|L)'!S84,1)," %") -> 7 %
A39: Zeiträume
A40: (Näherung) | I40: =CONCATENATE(ROUND('IN (mmol|L)'!S82,1)," %") -> 7 %
A70: Tagebuch | B70: ='IN (mmol|L)'!D$18 -> I.E. / Basal | C70: ='IN (mmol|L)'!D$19 -> BE | D70: Faktor | E70: =CONCATENATE('IN (mmol|L)'!D$20," / ",'IN (mmol|L)'!D$21," / ",'IN (mmol|L)'!D$22," / ",'IN (mmol|L)'!D$23) -> Sport / Krankheit / Besonderheiten / Sonstiges
A71: =C$1 -> 41547 | B71: =IF('IN (mmol|L)'!$E$87=0,"",'IN (mmol|L)'!$E$87) -> 15 - 10 - 09/ 10+15 | C71: =IF('IN (mmol|L)'!$E$88=0,"",'IN (mmol|L)'!$E$88) -> 05 - 04 - 03 | D71: =IF(OR(B71="",C71=0),"",CONCATENATE(IF(LEFT(B71,2)*LEFT(C71,2)=0,"X",ROUND(LEFT(B71,2)/LEFT(C71,2),1))," - ",IF(MID(B71,6,2)*MID(C71,6,2)=0,"X",ROUND(MID(B71,6,2)/MID(C71,6,2),1))," - ",IF(MID(B71,11,2)*MID(C71,11,2)=0,"X",ROUND(MID(B71,11,2)/MID(C71,11,2),1)))) -> 3 - 2,5 - 3 | E71: =CONCATENATE('IN (mmol|L)'!E$89," / ",'IN (mmol|L)'!E$90," / ",'IN (mmol|L)'!E$91," / ",'IN (mmol|L)'!E$92) -> / / /
A72: =D$1 -> 41554 | B72: =IF('IN (mmol|L)'!$F$87=0,"",'IN (mmol|L)'!$F$87) -> 15 - 10 - 09/ 10+15 | C72: =IF('IN (mmol|L)'!$F$88=0,"",'IN (mmol|L)'!$F$88) -> 05 - 04 - 03 | D72: =IF(OR(B72="",C72=0),"",CONCATENATE(IF(LEFT(B72,2)*LEFT(C72,2)=0,"X",ROUND(LEFT(B72,2)/LEFT(C72,2),1))," - ",IF(MID(B72,6,2)*MID(C72,6,2)=0,"X",ROUND(MID(B72,6,2)/MID(C72,6,2),1))," - ",IF(MID(B72,11,2)*MID(C72,11,2)=0,"X",ROUND(MID(B72,11,2)/MID(C72,11,2),1)))) -> 3 - 2,5 - 3 | E72: =CONCATENATE('IN (mmol|L)'!F$89," / ",'IN (mmol|L)'!F$90," / ",'IN (mmol|L)'!F$91," / ",'IN (mmol|L)'!F$92) -> / / /
A73: =E$1 -> 41561 | B73: =IF('IN (mmol|L)'!$G$87=0,"",'IN (mmol|L)'!$G$87) -> 15 - 10 - 09/ 10+15 | C73: =IF('IN (mmol|L)'!$G$88=0,"",'IN (mmol|L)'!$G$88) -> 05 - 04 - 03 | D73: =IF(OR(B73="",C73=0),"",CONCATENATE(IF(LEFT(B73,2)*LEFT(C73,2)=0,"X",ROUND(LEFT(B73,2)/LEFT(C73,2),1))," - ",IF(MID(B73,6,2)*MID(C73,6,2)=0,"X",ROUND(MID(B73,6,2)/MID(C73,6,2),1))," - ",IF(MID(B73,11,2)*MID(C73,11,2)=0,"X",ROUND(MID(B73,11,2)/MID(C73,11,2),1)))) -> 3 - 2,5 - 3 | E73: =CONCATENATE('IN (mmol|L)'!G$89," / ",'IN (mmol|L)'!G$90," / ",'IN (mmol|L)'!G$91," / ",'IN (mmol|L)'!G$92) -> / / /
A74: =F$1 -> 41568 | B74: =IF('IN (mmol|L)'!$H$87=0,"",'IN (mmol|L)'!$H$87) -> 15 - 10 - 09/ 10+15 | C74: =IF('IN (mmol|L)'!$H$88=0,"",'IN (mmol|L)'!$H$88) -> 05 - 04 - 03 | D74: =IF(OR(B74="",C74=0),"",CONCATENATE(IF(LEFT(B74,2)*LEFT(C74,2)=0,"X",ROUND(LEFT(B74,2)/LEFT(C74,2),1))," - ",IF(MID(B74,6,2)*MID(C74,6,2)=0,"X",ROUND(MID(B74,6,2)/MID(C74,6,2),1))," - ",IF(MID(B74,11,2)*MID(C74,11,2)=0,"X",ROUND(MID(B74,11,2)/MID(C74,11,2),1)))) -> 3 - 2,5 - 3 | E74: =CONCATENATE('IN (mmol|L)'!H$89," / ",'IN (mmol|L)'!H$90," / ",'IN (mmol|L)'!H$91," / ",'IN (mmol|L)'!H$92) -> / / /
A75: =G$1 -> 41575 | B75: =IF('IN (mmol|L)'!$I$87=0,"",'IN (mmol|L)'!$I$87) -> 15 - 10 - 09/ 10+15 | C75: =IF('IN (mmol|L)'!$I$88=0,"",'IN (mmol|L)'!$I$88) -> 05 - 04 - 03 | D75: =IF(OR(B75="",C75=0),"",CONCATENATE(IF(LEFT(B75,2)*LEFT(C75,2)=0,"X",ROUND(LEFT(B75,2)/LEFT(C75,2),1))," - ",IF(MID(B75,6,2)*MID(C75,6,2)=0,"X",ROUND(MID(B75,6,2)/MID(C75,6,2),1))," - ",IF(MID(B75,11,2)*MID(C75,11,2)=0,"X",ROUND(MID(B75,11,2)/MID(C75,11,2),1)))) -> 3 - 2,5 - 3 | E75: =CONCATENATE('IN (mmol|L)'!I$89," / ",'IN (mmol|L)'!I$90," / ",'IN (mmol|L)'!I$91," / ",'IN (mmol|L)'!I$92) -> / / /
A76: =H$1 -> 41582 | B76: =IF('IN (mmol|L)'!$J$87=0,"",'IN (mmol|L)'!$J$87) -> 15 - 10 - 09/ 10+15 | C76: =IF('IN (mmol|L)'!$J$88=0,"",'IN (mmol|L)'!$J$88) -> 05 - 04 - 03 | D76: =IF(OR(B76="",C76=0),"",CONCATENATE(IF(LEFT(B76,2)*LEFT(C76,2)=0,"X",ROUND(LEFT(B76,2)/LEFT(C76,2),1))," - ",IF(MID(B76,6,2)*MID(C76,6,2)=0,"X",ROUND(MID(B76,6,2)/MID(C76,6,2),1))," - ",IF(MID(B76,11,2)*MID(C76,11,2)=0,"X",ROUND(MID(B76,11,2)/MID(C76,11,2),1)))) -> 3 - 2,5 - 3 | E76: =CONCATENATE('IN (mmol|L)'!J$89," / ",'IN (mmol|L)'!J$90," / ",'IN (mmol|L)'!J$91," / ",'IN (mmol|L)'!J$92) -> / / /
A77: =I$1 -> 41589 | B77: =IF('IN (mmol|L)'!$K$87=0,"",'IN (mmol|L)'!$K$87) -> 15 - 10 - 09/ 10+15 | C77: =IF('IN (mmol|L)'!$K$88=0,"",'IN (mmol|L)'!$K$88) -> 05 - 04 - 03 | D77: =IF(OR(B77="",C77=0),"",CONCATENATE(IF(LEFT(B77,2)*LEFT(C77,2)=0,"X",ROUND(LEFT(B77,2)/LEFT(C77,2),1))," - ",IF(MID(B77,6,2)*MID(C77,6,2)=0,"X",ROUND(MID(B77,6,2)/MID(C77,6,2),1))," - ",IF(MID(B77,11,2)*MID(C77,11,2)=0,"X",ROUND(MID(B77,11,2)/MID(C77,11,2),1)))) -> 3 - 2,5 - 3 | E77: =CONCATENATE('IN (mmol|L)'!K$89," / ",'IN (mmol|L)'!K$90," / ",'IN (mmol|L)'!K$91," / ",'IN (mmol|L)'!K$92) -> / / /
A78: =J$1 -> 41596 | B78: =IF('IN (mmol|L)'!$L$87=0,"",'IN (mmol|L)'!$L$87) -> 15 - 10 - 09/ 10+15 | C78: =IF('IN (mmol|L)'!$L$88=0,"",'IN (mmol|L)'!$L$88) -> 05 - 04 - 03 | D78: =IF(OR(B78="",C78=0),"",CONCATENATE(IF(LEFT(B78,2)*LEFT(C78,2)=0,"X",ROUND(LEFT(B78,2)/LEFT(C78,2),1))," - ",IF(MID(B78,6,2)*MID(C78,6,2)=0,"X",ROUND(MID(B78,6,2)/MID(C78,6,2),1))," - ",IF(MID(B78,11,2)*MID(C78,11,2)=0,"X",ROUND(MID(B78,11,2)/MID(C78,11,2),1)))) -> 3 - 2,5 - 3 | E78: =CONCATENATE('IN (mmol|L)'!L$89," / ",'IN (mmol|L)'!L$90," / ",'IN (mmol|L)'!L$91," / ",'IN (mmol|L)'!L$92) -> / / /
A79: =K$1 -> 41603 | B79: =IF('IN (mmol|L)'!$M$87=0,"",'IN (mmol|L)'!$M$87) -> 15 - 10 - 09/ 10+15 | C79: =IF('IN (mmol|L)'!$M$88=0,"",'IN (mmol|L)'!$M$88) -> 05 - 04 - 03 | D79: =IF(OR(B79="",C79=0),"",CONCATENATE(IF(LEFT(B79,2)*LEFT(C79,2)=0,"X",ROUND(LEFT(B79,2)/LEFT(C79,2),1))," - ",IF(MID(B79,6,2)*MID(C79,6,2)=0,"X",ROUND(MID(B79,6,2)/MID(C79,6,2),1))," - ",IF(MID(B79,11,2)*MID(C79,11,2)=0,"X",ROUND(MID(B79,11,2)/MID(C79,11,2),1)))) -> 3 - 2,5 - 3 | E79: =CONCATENATE('IN (mmol|L)'!M$89," / ",'IN (mmol|L)'!M$90," / ",'IN (mmol|L)'!M$91," / ",'IN (mmol|L)'!M$92) -> / / /
A80: =L$1 -> 41610 | B80: =IF('IN (mmol|L)'!$N$87=0,"",'IN (mmol|L)'!$N$87) -> 15 - 10 - 09/ 10+15 | C80: =IF('IN (mmol|L)'!$N$88=0,"",'IN (mmol|L)'!$N$88) -> 05 - 04 - 03 | D80: =IF(OR(B80="",C80=0),"",CONCATENATE(IF(LEFT(B80,2)*LEFT(C80,2)=0,"X",ROUND(LEFT(B80,2)/LEFT(C80,2),1))," - ",IF(MID(B80,6,2)*MID(C80,6,2)=0,"X",ROUND(MID(B80,6,2)/MID(C80,6,2),1))," - ",IF(MID(B80,11,2)*MID(C80,11,2)=0,"X",ROUND(MID(B80,11,2)/MID(C80,11,2),1)))) -> 3 - 2,5 - 3 | E80: =CONCATENATE('IN (mmol|L)'!N$89," / ",'IN (mmol|L)'!N$90," / ",'IN (mmol|L)'!N$91," / ",'IN (mmol|L)'!N$92) -> / / /
A81: =M$1 -> 41617 | B81: =IF('IN (mmol|L)'!$O$87=0,"",'IN (mmol|L)'!$O$87) -> 15 - 10 - 09/ 10+15 | C81: =IF('IN (mmol|L)'!$O$88=0,"",'IN (mmol|L)'!$O$88) -> 05 - 04 - 03 | D81: =IF(OR(B81="",C81=0),"",CONCATENATE(IF(LEFT(B81,2)*LEFT(C81,2)=0,"X",ROUND(LEFT(B81,2)/LEFT(C81,2),1))," - ",IF(MID(B81,6,2)*MID(C81,6,2)=0,"X",ROUND(MID(B81,6,2)/MID(C81,6,2),1))," - ",IF(MID(B81,11,2)*MID(C81,11,2)=0,"X",ROUND(MID(B81,11,2)/MID(C81,11,2),1)))) -> 3 - 2,5 - 3 | E81: =CONCATENATE('IN (mmol|L)'!O$89," / ",'IN (mmol|L)'!O$90," / ",'IN (mmol|L)'!O$91," / ",'IN (mmol|L)'!O$92) -> / / /
A82: =N$1 -> 41624 | B82: =IF('IN (mmol|L)'!$P$87=0,"",'IN (mmol|L)'!$P$87) -> 15 - 10 - 09/ 10+15 | C82: =IF('IN (mmol|L)'!$P$88=0,"",'IN (mmol|L)'!$P$88) -> 05 - 04 - 03 | D82: =IF(OR(B82="",C82=0),"",CONCATENATE(IF(LEFT(B82,2)*LEFT(C82,2)=0,"X",ROUND(LEFT(B82,2)/LEFT(C82,2),1))," - ",IF(MID(B82,6,2)*MID(C82,6,2)=0,"X",ROUND(MID(B82,6,2)/MID(C82,6,2),1))," - ",IF(MID(B82,11,2)*MID(C82,11,2)=0,"X",ROUND(MID(B82,11,2)/MID(C82,11,2),1)))) -> 3 - 2,5 - 3 | E82: =CONCATENATE('IN (mmol|L)'!P$89," / ",'IN (mmol|L)'!P$90," / ",'IN (mmol|L)'!P$91," / ",'IN (mmol|L)'!P$92) -> / / /
A83: =O$1 -> 41631 | B83: =IF('IN (mmol|L)'!$Q$87=0,"",'IN (mmol|L)'!$Q$87) -> 15 - 10 - 09/ 10+15 | C83: =IF('IN (mmol|L)'!$Q$88=0,"",'IN (mmol|L)'!$Q$88) -> 05 - 04 - 03 | D83: =IF(OR(B83="",C83=0),"",CONCATENATE(IF(LEFT(B83,2)*LEFT(C83,2)=0,"X",ROUND(LEFT(B83,2)/LEFT(C83,2),1))," - ",IF(MID(B83,6,2)*MID(C83,6,2)=0,"X",ROUND(MID(B83,6,2)/MID(C83,6,2),1))," - ",IF(MID(B83,11,2)*MID(C83,11,2)=0,"X",ROUND(MID(B83,11,2)/MID(C83,11,2),1)))) -> 3 - 2,5 - 3 | E83: =CONCATENATE('IN (mmol|L)'!Q$89," / ",'IN (mmol|L)'!Q$90," / ",'IN (mmol|L)'!Q$91," / ",'IN (mmol|L)'!Q$92) -> / / /

Sheet Zwischendurch
A1: ='IN (mmol|L)'!R111 -> Zwischendurch | C1: ='IN (mmol|L)'!E106 -> 41274 | D1: ='IN (mmol|L)'!F106 -> 41277.5 | E1: ='IN (mmol|L)'!G106 -> 41281 | F1: ='IN (mmol|L)'!H106 -> 41284.5 | G1: ='IN (mmol|L)'!I106 -> 41288 | H1: ='IN (mmol|L)'!J106 -> 41291.5 | I1: ='IN (mmol|L)'!K106 -> 41295 | J1: ='IN (mmol|L)'!L106 -> 41298.5 | ... O1: ='IN (mmol|L)'!Q106 -> 41326.5
A36: HbA1c Wert der | D36: =CONCATENATE(ROUND('IN (mmol|L)'!S107,1)," %") -> 7,6 % | M36: =CONCATENATE(ROUND('IN (mmol|L)'!S109,1)," %") -> 7 %
H37: =CONCATENATE(ROUND('IN (mmol|L)'!S108,1)," %") -> 7,7 % | N37: Trend
A38: Zeiträume
A39: (Näherung) | H39: =CONCATENATE(ROUND('IN (mmol|L)'!S106,1)," %") -> 7,3 %
S45: grüner Bereich
S46: von
S47: 3.3 | T47: mmol/L
S49: 9.2 | T49: mmol/L
A106: Tagebuch | B106: ='IN (mmol|L)'!D$18 -> I.E. / Basal | C106: ='IN (mmol|L)'!D$19 -> BE | D106: Faktor | E106: Fazit | F106: =CONCATENATE('IN (mmol|L)'!D$20," / ",'IN (mmol|L)'!D$21," / ",'IN (mmol|L)'!D$22," / ",'IN (mmol|L)'!D$23) -> Sport / Krankheit / Besonderheiten / Sonstiges
A107: =C$1 -> 41274 | B107: =IF('IN (mmol|L)'!$E$111=0,"",'IN (mmol|L)'!$E$111) -> 15 - 10 - 09/ 10+15 | C107: =IF('IN (mmol|L)'!$E$112=0,"",'IN (mmol|L)'!$E$112) -> 05 - 04 - 03 | D107: =IF(OR(B107="",C107=0),"",CONCATENATE(IF(LEFT(B107,2)*LEFT(C107,2)=0,"X",ROUND(LEFT(B107,2)/LEFT(C107,2),1))," - ",IF(MID(B107,6,2)*MID(C107,6,2)=0,"X",ROUND(MID(B107,6,2)/MID(C107,6,2),1))," - ",IF(MID(B107,11,2)*MID(C107,11,2)=0,"X",ROUND(MID(B107,11,2)/MID(C107,11,2),1)))) -> 3 - 2,5 - 3 | E107: ='(intern2)'!BA200 -> Faktor höher: 1x | F107: =CONCATENATE('IN (mmol|L)'!E$113," / ",'IN (mmol|L)'!E$114," / ",'IN (mmol|L)'!E$115," / ",'IN (mmol|L)'!E$116) -> …ist Mord / Geldarmut / mag nicht mehr / immer frisch bleiben
A108: =D$1 -> 41277.5 | B108: =IF('IN (mmol|L)'!$F$111=0,"",'IN (mmol|L)'!$F$111) -> 15 - 10 - 09/ 10+15 | C108: =IF('IN (mmol|L)'!$F$112=0,"",'IN (mmol|L)'!$F$112) -> 05 - 04 - 03 | D108: =IF(OR(B108="",C108=0),"",CONCATENATE(IF(LEFT(B108,2)*LEFT(C108,2)=0,"X",ROUND(LEFT(B108,2)/LEFT(C108,2),1))," - ",IF(MID(B108,6,2)*MID(C108,6,2)=0,"X",ROUND(MID(B108,6,2)/MID(C108,6,2),1))," - ",IF(MID(B108,11,2)*MID(C108,11,2)=0,"X",ROUND(MID(B108,11,2)/MID(C108,11,2),1)))) -> 3 - 2,5 - 3 | E108: ='(intern2)'!BA201 -> Faktor höher: 2x | F108: =CONCATENATE('IN (mmol|L)'!F$113," / ",'IN (mmol|L)'!F$114," / ",'IN (mmol|L)'!F$115," / ",'IN (mmol|L)'!F$116) -> / / /
A109: =E$1 -> 41281 | B109: =IF('IN (mmol|L)'!$G$111=0,"",'IN (mmol|L)'!$G$111) -> 15 - 10 - 09/ 10+15 | C109: =IF('IN (mmol|L)'!$G$112=0,"",'IN (mmol|L)'!$G$112) -> 05 - 04 - 03 | D109: =IF(OR(B109="",C109=0),"",CONCATENATE(IF(LEFT(B109,2)*LEFT(C109,2)=0,"X",ROUND(LEFT(B109,2)/LEFT(C109,2),1))," - ",IF(MID(B109,6,2)*MID(C109,6,2)=0,"X",ROUND(MID(B109,6,2)/MID(C109,6,2),1))," - ",IF(MID(B109,11,2)*MID(C109,11,2)=0,"X",ROUND(MID(B109,11,2)/MID(C109,11,2),1)))) -> 3 - 2,5 - 3 | E109: ='(intern2)'!BA202 -> Faktor höher: 1x | F109: =CONCATENATE('IN (mmol|L)'!H$113," / ",'IN (mmol|L)'!G$114," / ",'IN (mmol|L)'!G$115," / ",'IN (mmol|L)'!G$116) -> / Kopfweh / /
A110: =F$1 -> 41284.5 | B110: =IF('IN (mmol|L)'!$H$111=0,"",'IN (mmol|L)'!$H$111) -> 15 - 10 - 09/ 10+15 | C110: =IF('IN (mmol|L)'!$H$112=0,"",'IN (mmol|L)'!$H$112) -> 05 - 04 - 03 | D110: =IF(OR(B110="",C110=0),"",CONCATENATE(IF(LEFT(B110,2)*LEFT(C110,2)=0,"X",ROUND(LEFT(B110,2)/LEFT(C110,2),1))," - ",IF(MID(B110,6,2)*MID(C110,6,2)=0,"X",ROUND(MID(B110,6,2)/MID(C110,6,2),1))," - ",IF(MID(B110,11,2)*MID(C110,11,2)=0,"X",ROUND(MID(B110,11,2)/MID(C110,11,2),1)))) -> 3 - 2,5 - 3 | E110: ='(intern2)'!BA203 -> Faktor höher: 1x | F110: =CONCATENATE('IN (mmol|L)'!H$113," / ",'IN (mmol|L)'!H$114," / ",'IN (mmol|L)'!H$115," / ",'IN (mmol|L)'!H$116) -> / / /
A111: =G$1 -> 41288 | B111: =IF('IN (mmol|L)'!$I$111=0,"",'IN (mmol|L)'!$I$111) -> 15 - 10 - 09/ 10+15 | C111: =IF('IN (mmol|L)'!$I$112=0,"",'IN (mmol|L)'!$I$112) -> 05 - 04 - 03 | D111: =IF(OR(B111="",C111=0),"",CONCATENATE(IF(LEFT(B111,2)*LEFT(C111,2)=0,"X",ROUND(LEFT(B111,2)/LEFT(C111,2),1))," - ",IF(MID(B111,6,2)*MID(C111,6,2)=0,"X",ROUND(MID(B111,6,2)/MID(C111,6,2),1))," - ",IF(MID(B111,11,2)*MID(C111,11,2)=0,"X",ROUND(MID(B111,11,2)/MID(C111,11,2),1)))) -> 3 - 2,5 - 3 | E111: ='(intern2)'!BA204 -> weiter so | F111: =CONCATENATE('IN (mmol|L)'!I$113," / ",'IN (mmol|L)'!I$114," / ",'IN (mmol|L)'!I$115," / ",'IN (mmol|L)'!I$116) -> / / /
A112: =H$1 -> 41291.5 | B112: =IF('IN (mmol|L)'!$J$111=0,"",'IN (mmol|L)'!$J$111) -> 15 - 10 - 09/ 10+15 | C112: =IF('IN (mmol|L)'!$J$112=0,"",'IN (mmol|L)'!$J$112) -> 05 - 04 - 03 | D112: =IF(OR(B112="",C112=0),"",CONCATENATE(IF(LEFT(B112,2)*LEFT(C112,2)=0,"X",ROUND(LEFT(B112,2)/LEFT(C112,2),1))," - ",IF(MID(B112,6,2)*MID(C112,6,2)=0,"X",ROUND(MID(B112,6,2)/MID(C112,6,2),1))," - ",IF(MID(B112,11,2)*MID(C112,11,2)=0,"X",ROUND(MID(B112,11,2)/MID(C112,11,2),1)))) -> 3 - 2,5 - 3 | E112: ='(intern2)'!BA205 -> Faktor höher: 2x | F112: =CONCATENATE('IN (mmol|L)'!J$113," / ",'IN (mmol|L)'!J$114," / ",'IN (mmol|L)'!J$115," / ",'IN (mmol|L)'!J$116) -> / / /
A113: =I$1 -> 41295 | B113: =IF('IN (mmol|L)'!$K$111=0,"",'IN (mmol|L)'!$K$111) -> 15 - 10 - 09/ 10+15 | C113: =IF('IN (mmol|L)'!$K$112=0,"",'IN (mmol|L)'!$K$112) -> 05 - 04 - 03 | D113: =IF(OR(B113="",C113=0),"",CONCATENATE(IF(LEFT(B113,2)*LEFT(C113,2)=0,"X",ROUND(LEFT(B113,2)/LEFT(C113,2),1))," - ",IF(MID(B113,6,2)*MID(C113,6,2)=0,"X",ROUND(MID(B113,6,2)/MID(C113,6,2),1))," - ",IF(MID(B113,11,2)*MID(C113,11,2)=0,"X",ROUND(MID(B113,11,2)/MID(C113,11,2),1)))) -> 3 - 2,5 - 3 | E113: ='(intern2)'!BA206 -> Faktor höher: 2x | F113: =CONCATENATE('IN (mmol|L)'!K$113," / ",'IN (mmol|L)'!K$114," / ",'IN (mmol|L)'!K$115," / ",'IN (mmol|L)'!K$116) -> / / /
A114: =J$1 -> 41298.5 | B114: =IF('IN (mmol|L)'!$L$111=0,"",'IN (mmol|L)'!$L$111) -> 15 - 10 - 09/ 10+15 | C114: =IF('IN (mmol|L)'!$L$112=0,"",'IN (mmol|L)'!$L$112) -> 05 - 04 - 03 | D114: =IF(OR(B114="",C114=0),"",CONCATENATE(IF(LEFT(B114,2)*LEFT(C114,2)=0,"X",ROUND(LEFT(B114,2)/LEFT(C114,2),1))," - ",IF(MID(B114,6,2)*MID(C114,6,2)=0,"X",ROUND(MID(B114,6,2)/MID(C114,6,2),1))," - ",IF(MID(B114,11,2)*MID(C114,11,2)=0,"X",ROUND(MID(B114,11,2)/MID(C114,11,2),1)))) -> 3 - 2,5 - 3 | E114: ='(intern2)'!BA207 -> Faktor höher: 1x | F114: =CONCATENATE('IN (mmol|L)'!L$113," / ",'IN (mmol|L)'!L$114," / ",'IN (mmol|L)'!L$115," / ",'IN (mmol|L)'!L$116) -> / / /
A115: =K$1 -> 41302 | B115: =IF('IN (mmol|L)'!$M$111=0,"",'IN (mmol|L)'!$M$111) -> 15 - 10 - 09/ 10+15 | C115: =IF('IN (mmol|L)'!$M$112=0,"",'IN (mmol|L)'!$M$112) -> 05 - 04 - 03 | D115: =IF(OR(B115="",C115=0),"",CONCATENATE(IF(LEFT(B115,2)*LEFT(C115,2)=0,"X",ROUND(LEFT(B115,2)/LEFT(C115,2),1))," - ",IF(MID(B115,6,2)*MID(C115,6,2)=0,"X",ROUND(MID(B115,6,2)/MID(C115,6,2),1))," - ",IF(MID(B115,11,2)*MID(C115,11,2)=0,"X",ROUND(MID(B115,11,2)/MID(C115,11,2),1)))) -> 3 - 2,5 - 3 | E115: ='(intern2)'!BA208 -> weiter so | F115: =CONCATENATE('IN (mmol|L)'!M$113," / ",'IN (mmol|L)'!M$114," / ",'IN (mmol|L)'!M$115," / ",'IN (mmol|L)'!M$116) -> / / /
