Workbook

Sheet Tipps
A1: zu | B1: IN (mmol/L)
A2: … | B2: alle weißen Zellen können direkt von jedem Anwender verändert werden.
A3: B4:B12 | B3: Alte Mittelwerte werden gebraucht, so lange zu wenige Daten zur Mittelwertbildung vorhanden sind.
A4: D4:D12 | B4: Hier können beliebige Einträge für die Ereignisse stehen zu denen gemessen werden. Sie gelten dann für die ganze Kalkulation!
A5: E4:Q12 | B5: (und in den Qurtalsgruppen drunter) Hier kommen die Messwerte in mmol/L rein ODER LEER LASSEN!
B6: Sowohl die Schriftfarbe als auch eine Füllfarbe kann beliebig verändert werden (nur zur Orientierung)
A7: R18 | B7: Das Quartal kann beliebig geändert oder auch völlig umbenannt werden.
B8: Dies kann sinnvoll sein, wenn man das laufende Jahr in einem anderen Quartal beginnen lassen will.
A9: V19 | B9: Hier wird das Anfangsdatum und der Messintervall im Quartal festgelegt und auf 13 Messtage verteilt.
B10: "Normal" wird hier mit einer Messreihe pro Woche gerechnet. Es geht aber auch etwas anders.
A11: V20 | B11: Will man z.B. zwei mal die Woche messen, gibt man bei Intervall "=7/2" ein. Es wird dann so gerundet, dass es auf geht.
B12: Besser macht man mehrere Messungen "Zwischendurch" (ganz unten)
A13: E13:Q13 | B13: Die errechneten Tage können auch verändert werden, wenn man das mit Ecxel kann.
A14: D18:Q19 | B14: Notizen der IE und BE können zwar frei gestaltet werden, für Rechnungen mit dem Faktor (=IE/BE) sollte das Schema eingehalten bleiben.
A15: D20:D23 | B15: Teilüberschriften für Notizen können verändert werden und werden so in allen Quartalen übernommen
A16: E20:Q23 | B16: Notizzellen können beliebig beschrieben werden und haben keine recherischen Auswirkungen.
A17: V3 | B17: (und in den Quartalsgruppen drunter) Hier wird der Konfidenzintervalle festgelegt, der für Statistiken gelten soll.
B18: Eine kleine Liste hierzu steht unten in "IN (mmol/L)"
A19: V22 | B19: (und in den Quartalsgruppen drunter) Hier kann der HbA1c-Wert eines Labors notiert werden.
B20: Alle Berechnungen, die früher damit gemacht wurden sollten inaktiv sein. (V18 und V23 nicht verändern!)
A21: Relikt | B21: Diese Zellen sind Relikte aus älteren Versionen, die ich nicht einfach entfernen darf ohne Verweise dort hin zu ändern. Am besten garnix ändern!
A23: zu | B23: I.17 | C23: II.17 | D23: III.17 | E23: IV.17 | F23: Zwischendurch
B24: Hier sollte möglichst nichts verändert werden … mal abgesehen von den Diagrammen, die man gern umgestalten kann.
B25: Die Blattbezeichnungen selbst lassen sich frei (nach Excel-Regeln) umbenennen.
A27: zu | B27: hjt-pp
B28: Hier können pp-Verläufe dargestellt werden, wenn man entsprechende Messreihen dokumentiert.
A30: zu | B30: Langzeitverlauf
B31: Hier wird ein Überblick des Aufzeichnungsjahrs dargestellt. Die Prognosen für zukünftige Messtage haben kaum eine Zuverlässigkeit.
A33: zu | B33: Verteilung
B34: Hier geben Histogramme einen groben Überblick, wie groß das Vertrauen in die statistischen Aussagen sein kann. (Ohne Kenntnisse … keine Chance!)
A36: zu | B36: Leerseite
B37: Eine Leerseite eben …. Ich koppiere dort manchmal Diagramme hinein, um sie getrennt drücken zu können oder in PDF zu wandeln.
A39: zu | B39: (intern) | C39: (intern2)
B40: Dies sind die Rechenzentralen dieser Kalkulation. Hier sollte man schon genau wissen, was man tut, wenn man hier was ändert.
A42: zu | B42: Tipps
B43: Diese Seite wird zur Kalkulation nicht benötigt und kann verschoben oder gelöscht werden. Es sollte hier nirgendwo einen Passwortschutz geben. (selber machen)
B46: Ich glaube, jetzt habe ich diese meine Kalkulation von "mg/dl" auf "mmol/L" umgestellt und auch die Korrektur der BZ-Werte über den Labor-HbA1c-Wert entfernt.
B47: Sollte es dennoch zu Problemen kommen … Kontakt zu Gyuri aufnehmen! ;-)

Sheet IN (mmol|L)
D2: Kalenderwoche | E2: =WEEKNUM(E13,1) -> 1 | F2: =WEEKNUM(F13,1) -> 2 | G2: =WEEKNUM(G13,1) -> 3 | H2: =WEEKNUM(H13,1) -> 4 | I2: =WEEKNUM(I13,1) -> 5 | J2: =WEEKNUM(J13,1) -> 6 | K2: =WEEKNUM(K13,1) -> 7 | L2: =WEEKNUM(L13,1) -> 8 | ... Q2: =WEEKNUM(Q13,1) -> 13
B3: MW alt | D3: Glucose [mg/dl] | E3: =IF(E17=2,"MO",IF(E17=3,"DI",IF(E17=4,"MI",IF(E17=5,"DO",IF(E17=6,"FR",IF(E17=7,"SA","SO")))))) -> SO | F3: =IF(F17=2,"MO",IF(F17=3,"DI",IF(F17=4,"MI",IF(F17=5,"DO",IF(F17=6,"FR",IF(F17=7,"SA","SO")))))) -> SO | G3: =IF(G17=2,"MO",IF(G17=3,"DI",IF(G17=4,"MI",IF(G17=5,"DO",IF(G17=6,"FR",IF(G17=7,"SA","SO")))))) -> SO | H3: =IF(H17=2,"MO",IF(H17=3,"DI",IF(H17=4,"MI",IF(H17=5,"DO",IF(H17=6,"FR",IF(H17=7,"SA","SO")))))) -> SO | I3: =IF(I17=2,"MO",IF(I17=3,"DI",IF(I17=4,"MI",IF(I17=5,"DO",IF(I17=6,"FR",IF(I17=7,"SA","SO")))))) -> SO | J3: =IF(J17=2,"MO",IF(J17=3,"DI",IF(J17=4,"MI",IF(J17=5,"DO",IF(J17=6,"FR",IF(J17=7,"SA","SO")))))) -> SO | K3: =IF(K17=2,"MO",IF(K17=3,"DI",IF(K17=4,"MI",IF(K17=5,"DO",IF(K17=6,"FR",IF(K17=7,"SA","SO")))))) -> SO | L3: =IF(L17=2,"MO",IF(L17=3,"DI",IF(L17=4,"MI",IF(L17=5,"DO",IF(L17=6,"FR",IF(L17=7,"SA","SO")))))) -> SO | ... Q3: =IF(Q17=2,"MO",IF(Q17=3,"DI",IF(Q17=4,"MI",IF(Q17=5,"DO",IF(Q17=6,"FR",IF(Q17=7,"SA","SO")))))) -> SO | R3: MW | S3: Stabw. | T3: =CONCATENATE("±",V3,"σ") -> ±1,645σ | V3: 1.645
B4: 5.5 | D4: 0.29166667 | E4: 6.1666667 | F4: 6.1111111 | G4: 6 | H4: 6.2222222 | I4: 6 | J4: 6.2777778 | K4: 6.2222222 | L4: 6.2 | M4: 6.1 | N4: 6 | O4: 6.2 | P4: 6 | Q4: 6.2 | R4: =IF(COUNTIF(E4:Q4,"")>10,B4,AVERAGE(E4:Q4)) -> 6.1307692 | S4: =IF(COUNTIF(E4:Q4,"")>10,1.1,STDEV(E4:Q4)) -> 0.10154707 | T4: =R4-$V$3*S4 -> 5.9637243 | U4: bis | V4: =R4+$V$3*S4 -> 6.2978142
B5: 7.8 | D5: 0.39583333 | E5: 8.2222222 | F5: 9.0555556 | G5: 10.388889 | H5: 10.333333 | I5: 10.555556 | J5: 12.111111 | K5: 9.8888889 | L5: 8.2 | M5: 9.1 | O5: 10.3 | P5: 10.5 | Q5: 9.6 | R5: =IF(COUNTIF(E5:Q5,"")>10,B5,AVERAGE(E5:Q5)) -> 9.8546296 | S5: =IF(COUNTIF(E5:Q5,"")>10,1.1,STDEV(E5:Q5)) -> 1.1032597 | T5: =R5-$V$3*S5 -> 8.0397674 | U5: bis | V5: =R5+$V$3*S5 -> 11.669492
B6: 5.5 | D6: 0.5 | E6: 4.7777778 | F6: 6.7777778 | G6: 6.7777778 | H6: 8.7777778 | I6: 8.7222222 | J6: 8.0555556 | K6: 6.7777778 | L6: 4.8 | M6: 6.8 | N6: 10.3 | O6: 8.2 | P6: 8.7 | Q6: 6 | R6: =IF(COUNTIF(E6:Q6,"")>10,B6,AVERAGE(E6:Q6)) -> 7.3435897 | S6: =IF(COUNTIF(E6:Q6,"")>10,1.1,STDEV(E6:Q6)) -> 1.6302469 | T6: =R6-$V$3*S6 -> 4.6618336 | U6: bis | V6: =R6+$V$3*S6 -> 10.025346
B7: 7.8 | D7: 0.60416667 | E7: 10.611111 | F7: 6.2222222 | G7: 6.3888889 | H7: 5.3888889 | J7: 7.0555556 | K7: 8.7222222 | L7: 10.6 | M7: 6.2 | N7: 6.8 | O7: 5.4 | Q7: 4.5 | R7: =IF(COUNTIF(E7:Q7,"")>10,B7,AVERAGE(E7:Q7)) -> 7.0808081 | S7: =IF(COUNTIF(E7:Q7,"")>10,1.1,STDEV(E7:Q7)) -> 2.0484507 | T7: =R7-$V$3*S7 -> 3.7111066 | U7: bis | V7: =R7+$V$3*S7 -> 10.45051
B8: 5.5 | D8: 0.72916667 | E8: 6.9444444 | F8: 8.2777778 | G8: 7.0555556 | H8: 5 | I8: 9.1666667 | J8: 6 | K8: 9.1666667 | L8: 6.9 | M8: 8.2 | N8: 6.4 | O8: 5 | P8: 9.2 | Q8: 4.9 | R8: =IF(COUNTIF(E8:Q8,"")>10,B8,AVERAGE(E8:Q8)) -> 7.0931624 | S8: =IF(COUNTIF(E8:Q8,"")>10,1.1,STDEV(E8:Q8)) -> 1.6066255 | T8: =R8-$V$3*S8 -> 4.4502634 | U8: bis | V8: =R8+$V$3*S8 -> 9.7360614
B9: 7.8 | D9: 0.83333333 | E9: 7.7222222 | F9: 10.722222 | H9: 11.944444 | I9: 10.666667 | J9: 5.9444444 | K9: 10.722222 | L9: 7.7 | M9: 10.7 | N9: 7 | O9: 11.9 | P9: 10.8 | Q9: 5.2 | R9: =IF(COUNTIF(E9:Q9,"")>10,B9,AVERAGE(E9:Q9)) -> 9.2518519 | S9: =IF(COUNTIF(E9:Q9,"")>10,1.1,STDEV(E9:Q9)) -> 2.3790298 | T9: =R9-$V$3*S9 -> 5.3383478 | U9: bis | V9: =R9+$V$3*S9 -> 13.165356
B10: 6.7 | D10: 0.95833333 | E10: 7.3888889 | F10: 9 | G10: 7.5555556 | H10: 5.2777778 | I10: 9.7222222 | J10: 10 | K10: 7.2222222 | L10: 7.4 | M10: 9 | N10: 7.6 | O10: 5.3 | P10: 9.7 | R10: =IF(COUNTIF(E10:Q10,"")>10,B10,AVERAGE(E10:Q10)) -> 7.9305556 | S10: =IF(COUNTIF(E10:Q10,"")>10,1.1,STDEV(E10:Q10)) -> 1.6009826 | T10: =R10-$V$3*S10 -> 5.2969391 | U10: bis | V10: =R10+$V$3*S10 -> 10.564172
B11: 4.7 | D11: Nacht | E11: 5.8888889 | F11: 5.6666667 | G11: 6.5 | H11: 6.5555556 | I11: 6.5 | J11: 5.2777778 | K11: 5.5555556 | L11: 5.9 | M11: 5.8 | N11: 6.5 | O11: 6.6 | P11: 6.5 | R11: =IF(COUNTIF(E11:Q11,"")>10,B11,AVERAGE(E11:Q11)) -> 6.1037037 | S11: =IF(COUNTIF(E11:Q11,"")>10,1.1,STDEV(E11:Q11)) -> 0.47022055 | T11: =R11-$V$3*S11 -> 5.3301909 | U11: bis | V11: =R11+$V$3*S11 -> 6.8772165
B12: 5.5 | D12: Früh | E12: 6.1666667 | F12: 6.1111111 | G12: 6 | H12: 6.2222222 | I12: 6 | J12: 6.2777778 | K12: 6.2222222 | N12: 6 | O12: 6.2 | R12: =IF(COUNTIF(E12:Q12,"")>10,B12,AVERAGE(E12:Q12)) -> 6.1333333 | S12: =IF(COUNTIF(E12:Q12,"")>10,1.1,STDEV(E12:Q12)) -> 0.10957268 | T12: =R12-$V$3*S12 -> 5.9530863 | U12: bis | V12: =R12+$V$3*S12 -> 6.3135804
D13: Datum | E13: =V19 -> 41274 | F13: =E13+$V20 -> 41281 | G13: =F13+$V20 -> 41288 | H13: =G13+$V20 -> 41295 | I13: =H13+$V20 -> 41302 | J13: =I13+$V20 -> 41309 | K13: =J13+$V20 -> 41316 | L13: =K13+$V20 -> 41323 | M13: =L13+$V20 -> 41330 | ... Q13: =P13+$V20 -> 41358 | S13: =(AVERAGE('(intern)'!B4:N12)+(86/18)/33.3) -> 7.5561601 | T13: % über den ges. Zeitraum
D14: Tagesminimum | E14: =IF(MIN(E4:E12)=0,"-",MIN(E4:E12)) -> 4.7777778 | F14: =IF(MIN(F4:F12)=0,"-",MIN(F4:F12)) -> 5.6666667 | G14: =IF(MIN(G4:G12)=0,"-",MIN(G4:G12)) -> 6 | H14: =IF(MIN(H4:H12)=0,"-",MIN(H4:H12)) -> 5 | I14: =IF(MIN(I4:I12)=0,"-",MIN(I4:I12)) -> 6 | J14: =IF(MIN(J4:J12)=0,"-",MIN(J4:J12)) -> 5.2777778 | K14: =IF(MIN(K4:K12)=0,"-",MIN(K4:K12)) -> 5.5555556 | L14: =IF(MIN(L4:L12)=0,"-",MIN(L4:L12)) -> 4.8 | ... Q14: =IF(MIN(Q4:Q12)=0,"-",MIN(Q4:Q12)) -> 4.5 | R14: HbA1c | S14: =(AVERAGE('(intern)'!B4:F12)+(86/18)/33.3) -> 7.6274274 | T14: % | U14: (=Näherung)
D15: Tagesmaximum | E15: =IF(MAX(E4:E12)=0,"-",MAX(E4:E12)) -> 10.611111 | F15: =IF(MAX(F4:F12)=0,"-",MAX(F4:F12)) -> 10.722222 | G15: =IF(MAX(G4:G12)=0,"-",MAX(G4:G12)) -> 10.388889 | H15: =IF(MAX(H4:H12)=0,"-",MAX(H4:H12)) -> 11.944444 | I15: =IF(MAX(I4:I12)=0,"-",MAX(I4:I12)) -> 10.666667 | J15: =IF(MAX(J4:J12)=0,"-",MAX(J4:J12)) -> 12.111111 | K15: =IF(MAX(K4:K12)=0,"-",MAX(K4:K12)) -> 10.722222 | L15: =IF(MAX(L4:L12)=0,"-",MAX(L4:L12)) -> 10.6 | ... Q15: =IF(MAX(Q4:Q12)=0,"-",MAX(Q4:Q12)) -> 9.6 | S15: =(AVERAGE('(intern)'!F4:J12)+(86/18)/33.3) -> 7.7617484 | T15: %
D16: Tagesmittelwert | E16: =IF(E15="-",AVERAGE(B4:B12),AVERAGE(E4:E12)) -> 7.0987654 | F16: =IF(F15="-",E16,AVERAGE(F4:F12)) -> 7.5493827 | G16: =IF(G15="-",F16,AVERAGE(G4:G12)) -> 7.0833333 | H16: =IF(H15="-",G16,AVERAGE(H4:H12)) -> 7.3024691 | I16: =IF(I15="-",H16,AVERAGE(I4:I12)) -> 8.4166667 | J16: =IF(J15="-",I16,AVERAGE(J4:J12)) -> 7.4444444 | K16: =IF(K15="-",J16,AVERAGE(K4:K12)) -> 7.8333333 | L16: =IF(L15="-",K16,AVERAGE(L4:L12)) -> 7.2125 | M16: =IF(M15="-",L16,AVERAGE(M4:M12)) -> 7.7375 | ... Q16: =IF(Q15="-",P16,AVERAGE(Q4:Q12)) -> 6.0666667 | R16: =AVERAGE(E16:Q16) -> 7.4480634 | S16: =(AVERAGE('(intern)'!J4:N12)+(86/18)/33.3) -> 7.4576881 | T16: %
E17: =WEEKDAY(E13) -> 1 | F17: =WEEKDAY(F13) -> 1 | G17: =WEEKDAY(G13) -> 1 | H17: =WEEKDAY(H13) -> 1 | I17: =WEEKDAY(I13) -> 1 | J17: =WEEKDAY(J13) -> 1 | K17: =WEEKDAY(K13) -> 1 | L17: =WEEKDAY(L13) -> 1 | ... Q17: =WEEKDAY(Q13) -> 1
B18: Notizen | D18: I.E. / Basal | E18: 15 - 10 - 09/ 10+15 | F18: 15 - 10 - 09/ 10+15 | G18: 15 - 10 - 09/ 10+15 | H18: 15 - 10 - 09/ 10+15 | I18: 15 - 10 - 09/ 10+15 | J18: 15 - 10 - 09/ 10+15 | K18: 15 - 10 - 09/ 10+15 | L18: 15 - 10 - 09/ 10+15 | M18: 15 - 10 - 09/ 10+15 | N18: 15 - 10 - 09/ 10+15 | O18: 15 - 10 - 09/ 10+15 | P18: 15 - 10 - 09/ 10+15 | Q18: 15 - 10 - 09/ 10+15 | R18: I. Quartal | T18: Korrektur = | V18: 1
D19: BE | E19: 06 - 04 - 03 | F19: 06 - 04 - 03 | G19: 06 - 04 - 03 | H19: 06 - 04 - 03 | I19: 06 - 04 - 03 | J19: 06 - 04 - 03 | K19: 06 - 04 - 03 | L19: 06 - 04 - 03 | M19: 06 - 04 - 03 | N19: 06 - 04 - 03 | O19: 06 - 04 - 03 | P19: 06 - 04 - 03 | Q19: 06 - 04 - 03 | T19: 1.Tag= | V19: 41274
D20: Sport | T20: Intervall ~ | V20: 7
D21: Krankheit
D22: Besonderheiten | S22: HbA1c [%] | T22: Laborwert | V22: 7.2
D23: Sonstiges | T23: Näherung | V23: 7.2
D25: Kalenderwoche | E25: =WEEKNUM(E36,1) -> 14 | F25: =WEEKNUM(F36,1) -> 15 | G25: =WEEKNUM(G36,1) -> 16 | H25: =WEEKNUM(H36,1) -> 17 | I25: =WEEKNUM(I36,1) -> 18 | J25: =WEEKNUM(J36,1) -> 19 | K25: =WEEKNUM(K36,1) -> 20 | L25: =WEEKNUM(L36,1) -> 21 | ... Q25: =WEEKNUM(Q36,1) -> 26
D26: =D3 -> Glucose [mg/dl] | E26: =IF(E40=2,"MO",IF(E40=3,"DI",IF(E40=4,"MI",IF(E40=5,"DO",IF(E40=6,"FR",IF(E40=7,"SA","SO")))))) -> SO | F26: =IF(F40=2,"MO",IF(F40=3,"DI",IF(F40=4,"MI",IF(F40=5,"DO",IF(F40=6,"FR",IF(F40=7,"SA","SO")))))) -> SO | G26: =IF(G40=2,"MO",IF(G40=3,"DI",IF(G40=4,"MI",IF(G40=5,"DO",IF(G40=6,"FR",IF(G40=7,"SA","SO")))))) -> SO | H26: =IF(H40=2,"MO",IF(H40=3,"DI",IF(H40=4,"MI",IF(H40=5,"DO",IF(H40=6,"FR",IF(H40=7,"SA","SO")))))) -> SO | I26: =IF(I40=2,"MO",IF(I40=3,"DI",IF(I40=4,"MI",IF(I40=5,"DO",IF(I40=6,"FR",IF(I40=7,"SA","SO")))))) -> SO | J26: =IF(J40=2,"MO",IF(J40=3,"DI",IF(J40=4,"MI",IF(J40=5,"DO",IF(J40=6,"FR",IF(J40=7,"SA","SO")))))) -> SO | K26: =IF(K40=2,"MO",IF(K40=3,"DI",IF(K40=4,"MI",IF(K40=5,"DO",IF(K40=6,"FR",IF(K40=7,"SA","SO")))))) -> SO | L26: =IF(L40=2,"MO",IF(L40=3,"DI",IF(L40=4,"MI",IF(L40=5,"DO",IF(L40=6,"FR",IF(L40=7,"SA","SO")))))) -> SO | ... Q26: =IF(Q40=2,"MO",IF(Q40=3,"DI",IF(Q40=4,"MI",IF(Q40=5,"DO",IF(Q40=6,"FR",IF(Q40=7,"SA","SO")))))) -> SO | R26: MW | S26: Stabw. | T26: =CONCATENATE("±",V26,"σ") -> ±1,645σ | V26: =V3 -> 1.645
D27: =D4 -> 0.29166667 | E27: 6.2 | F27: 5.9 | R27: =IF(COUNTIF(E27:Q27,"")>10,R4,AVERAGE(E27:Q27)) -> 6.1307692 | S27: =IF(COUNTIF(E27:Q27,"")>10,S4,STDEV(E27:Q27)) -> 0.10154707 | T27: =R27-$V$26*S27 -> 5.9637243 | U27: bis | V27: =R27+$V$26*S27 -> 6.2978142
D28: =D5 -> 0.39583333 | F28: 9.4 | R28: =IF(COUNTIF(E28:Q28,"")>10,R5,AVERAGE(E28:Q28)) -> 9.8546296 | S28: =IF(COUNTIF(E28:Q28,"")>10,S5,STDEV(E28:Q28)) -> 1.1032597 | T28: =R28-$V$26*S28 -> 8.0397674 | U28: bis | V28: =R28+$V$26*S28 -> 11.669492
D29: =D6 -> 0.5 | F29: 7.4 | R29: =IF(COUNTIF(E29:Q29,"")>10,R6,AVERAGE(E29:Q29)) -> 7.3435897 | S29: =IF(COUNTIF(E29:Q29,"")>10,S6,STDEV(E29:Q29)) -> 1.6302469 | T29: =R29-$V$26*S29 -> 4.6618336 | U29: bis | V29: =R29+$V$26*S29 -> 10.025346
D30: =D7 -> 0.60416667 | F30: 6 | R30: =IF(COUNTIF(E30:Q30,"")>10,R7,AVERAGE(E30:Q30)) -> 7.0808081 | S30: =IF(COUNTIF(E30:Q30,"")>10,S7,STDEV(E30:Q30)) -> 2.0484507 | T30: =R30-$V$26*S30 -> 3.7111066 | U30: bis | V30: =R30+$V$26*S30 -> 10.45051
D31: =D8 -> 0.72916667 | E31: 6.8 | F31: 8.2 | R31: =IF(COUNTIF(E31:Q31,"")>10,R8,AVERAGE(E31:Q31)) -> 7.0931624 | S31: =IF(COUNTIF(E31:Q31,"")>10,S8,STDEV(E31:Q31)) -> 1.6066255 | T31: =R31-$V$26*S31 -> 4.4502634 | U31: bis | V31: =R31+$V$26*S31 -> 9.7360614
D32: =D9 -> 0.83333333 | E32: 5.2 | F32: 8.7 | R32: =IF(COUNTIF(E32:Q32,"")>10,R9,AVERAGE(E32:Q32)) -> 9.2518519 | S32: =IF(COUNTIF(E32:Q32,"")>10,S9,STDEV(E32:Q32)) -> 2.3790298 | T32: =R32-$V$26*S32 -> 5.3383478 | U32: bis | V32: =R32+$V$26*S32 -> 13.165356
D33: =D10 -> 0.95833333 | E33: 5.3 | F33: 7.9 | R33: =IF(COUNTIF(E33:Q33,"")>10,R10,AVERAGE(E33:Q33)) -> 7.9305556 | S33: =IF(COUNTIF(E33:Q33,"")>10,S10,STDEV(E33:Q33)) -> 1.6009826 | T33: =R33-$V$26*S33 -> 5.2969391 | U33: bis | V33: =R33+$V$26*S33 -> 10.564172
D34: =D11 -> Nacht | E34: 5.8 | F34: 6.1 | R34: =IF(COUNTIF(E34:Q34,"")>10,R11,AVERAGE(E34:Q34)) -> 6.1037037 | S34: =IF(COUNTIF(E34:Q34,"")>10,S11,STDEV(E34:Q34)) -> 0.47022055 | T34: =R34-$V$26*S34 -> 5.3301909 | U34: bis | V34: =R34+$V$26*S34 -> 6.8772165
D35: =D12 -> Früh | E35: 6.2 | F35: 6.3 | R35: =IF(COUNTIF(E35:Q35,"")>10,R12,AVERAGE(E35:Q35)) -> 6.1333333 | S35: =IF(COUNTIF(E35:Q35,"")>10,S12,STDEV(E35:Q35)) -> 0.10957268 | T35: =R35-$V$26*S35 -> 5.9530863 | U35: bis | V35: =R35+$V$26*S35 -> 6.3135804
D36: =D13 -> Datum | E36: =V42 -> 41365 | F36: =E36+$V43 -> 41372 | G36: =F36+$V43 -> 41379 | H36: =G36+$V43 -> 41386 | I36: =H36+$V43 -> 41393 | J36: =I36+$V43 -> 41400 | K36: =J36+$V43 -> 41407 | L36: =K36+$V43 -> 41414 | M36: =L36+$V43 -> 41421 | ... Q36: =P36+$V43 -> 41449 | S36: =(AVERAGE('(intern)'!O4:AA12)+(86/18)/33.3) -> 7.0166261 | T36: % über den ges. Zeitraum
D37: =D14 -> Tagesminimum | E37: =IF(MIN(E27:E35)=0,"-",MIN(E27:E35)) -> 5.2 | F37: =IF(MIN(F27:F35)=0,"-",MIN(F27:F35)) -> 5.9 | G37: =IF(MIN(G27:G35)=0,"-",MIN(G27:G35)) -> - | H37: =IF(MIN(H27:H35)=0,"-",MIN(H27:H35)) -> - | I37: =IF(MIN(I27:I35)=0,"-",MIN(I27:I35)) -> - | J37: =IF(MIN(J27:J35)=0,"-",MIN(J27:J35)) -> - | K37: =IF(MIN(K27:K35)=0,"-",MIN(K27:K35)) -> - | L37: =IF(MIN(L27:L35)=0,"-",MIN(L27:L35)) -> - | ... Q37: =IF(MIN(Q27:Q35)=0,"-",MIN(Q27:Q35)) -> - | R37: HbA1c | S37: =(AVERAGE('(intern)'!O4:S12)+(86/18)/33.3) -> 7.0130201 | T37: % | U37: (=Näherung)
D38: =D15 -> Tagesmaximum | E38: =IF(MAX(E27:E35)=0,"-",MAX(E27:E35)) -> 6.8 | F38: =IF(MAX(F27:F35)=0,"-",MAX(F27:F35)) -> 9.4 | G38: =IF(MAX(G27:G35)=0,"-",MAX(G27:G35)) -> - | H38: =IF(MAX(H27:H35)=0,"-",MAX(H27:H35)) -> - | I38: =IF(MAX(I27:I35)=0,"-",MAX(I27:I35)) -> - | J38: =IF(MAX(J27:J35)=0,"-",MAX(J27:J35)) -> - | K38: =IF(MAX(K27:K35)=0,"-",MAX(K27:K35)) -> - | L38: =IF(MAX(L27:L35)=0,"-",MAX(L27:L35)) -> - | ... Q38: =IF(MAX(Q27:Q35)=0,"-",MAX(Q27:Q35)) -> - | S38: =(AVERAGE('(intern)'!S4:W12)+(86/18)/33.3) -> 7.031667 | T38: %
D39: =D16 -> Tagesmittelwert | E39: =IF(E38="-",R16,AVERAGE(E27:E35)) -> 5.9166667 | F39: =IF(F38="-",E39,AVERAGE(F27:F35)) -> 7.3222222 | G39: =IF(G38="-",F39,AVERAGE(G27:G35)) -> 7.3222222 | H39: =IF(H38="-",G39,AVERAGE(H27:H35)) -> 7.3222222 | I39: =IF(I38="-",H39,AVERAGE(I27:I35)) -> 7.3222222 | J39: =IF(J38="-",I39,AVERAGE(J27:J35)) -> 7.3222222 | K39: =IF(K38="-",J39,AVERAGE(K27:K35)) -> 7.3222222 | L39: =IF(L38="-",K39,AVERAGE(L27:L35)) -> 7.3222222 | M39: =IF(M38="-",L39,AVERAGE(M27:M35)) -> 7.3222222 | ... Q39: =IF(Q38="-",P39,AVERAGE(Q27:Q35)) -> 7.3222222 | R39: =AVERAGE(E39:Q39) -> 7.2141026 | S39: =(AVERAGE('(intern)'!W4:AA12)+(86/18)/33.3) -> 7.0218056 | T39: %
E40: =WEEKDAY(E36) -> 1 | F40: =WEEKDAY(F36) -> 1 | G40: =WEEKDAY(G36) -> 1 | H40: =WEEKDAY(H36) -> 1 | I40: =WEEKDAY(I36) -> 1 | J40: =WEEKDAY(J36) -> 1 | K40: =WEEKDAY(K36) -> 1 | L40: =WEEKDAY(L36) -> 1 | ... Q40: =WEEKDAY(Q36) -> 1
B41: Notizen | D41: =D18 -> I.E. / Basal | E41: 15 - 10 - 09/ 10+15 | F41: 15 - 10 - 09/ 10+15 | G41: 15 - 10 - 09/ 10+15 | H41: 15 - 10 - 09/ 10+15 | I41: 15 - 10 - 09/ 10+15 | J41: 15 - 10 - 09/ 10+15 | K41: 15 - 10 - 09/ 10+15 | L41: 15 - 10 - 09/ 10+15 | M41: 15 - 10 - 09/ 10+15 | N41: 15 - 10 - 09/ 10+15 | O41: 15 - 10 - 09/ 10+15 | P41: 15 - 10 - 09/ 10+15 | Q41: 15 - 10 - 09/ 10+15 | R41: II. Quartal | T41: Korrektur = | V41: 1
D42: =D19 -> BE | E42: 05 - 04 - 03 | F42: 05 - 04 - 03 | G42: 05 - 04 - 03 | H42: 05 - 04 - 03 | I42: 05 - 04 - 03 | J42: 05 - 04 - 03 | K42: 05 - 04 - 03 | L42: 05 - 04 - 03 | M42: 05 - 04 - 03 | N42: 05 - 04 - 03 | O42: 05 - 04 - 03 | P42: 05 - 04 - 03 | Q42: 05 - 04 - 03 | T42: 1.Tag= | V42: =Q13+V43 -> 41365
D43: =D20 -> Sport | T43: Intervall ~ | V43: =V20 -> 7
D44: =D21 -> Krankheit
D45: =D22 -> Besonderheiten | S45: HbA1c [%] | T45: Laborwert | V45: 7.6
D46: =D23 -> Sonstiges | T46: Näherung | V46: =V45 -> 7.6
D48: Kalenderwoche | E48: =WEEKNUM(E59,1) -> 27 | F48: =WEEKNUM(F59,1) -> 28 | G48: =WEEKNUM(G59,1) -> 29 | H48: =WEEKNUM(H59,1) -> 30 | I48: =WEEKNUM(I59,1) -> 31 | J48: =WEEKNUM(J59,1) -> 32 | K48: =WEEKNUM(K59,1) -> 33 | L48: =WEEKNUM(L59,1) -> 34 | ... Q48: =WEEKNUM(Q59,1) -> 39
D49: =D26 -> Glucose [mg/dl] | E49: =IF(E63=2,"MO",IF(E63=3,"DI",IF(E63=4,"MI",IF(E63=5,"DO",IF(E63=6,"FR",IF(E63=7,"SA","SO")))))) -> SO | F49: =IF(F63=2,"MO",IF(F63=3,"DI",IF(F63=4,"MI",IF(F63=5,"DO",IF(F63=6,"FR",IF(F63=7,"SA","SO")))))) -> SO | G49: =IF(G63=2,"MO",IF(G63=3,"DI",IF(G63=4,"MI",IF(G63=5,"DO",IF(G63=6,"FR",IF(G63=7,"SA","SO")))))) -> SO | H49: =IF(H63=2,"MO",IF(H63=3,"DI",IF(H63=4,"MI",IF(H63=5,"DO",IF(H63=6,"FR",IF(H63=7,"SA","SO")))))) -> SO | I49: =IF(I63=2,"MO",IF(I63=3,"DI",IF(I63=4,"MI",IF(I63=5,"DO",IF(I63=6,"FR",IF(I63=7,"SA","SO")))))) -> SO | J49: =IF(J63=2,"MO",IF(J63=3,"DI",IF(J63=4,"MI",IF(J63=5,"DO",IF(J63=6,"FR",IF(J63=7,"SA","SO")))))) -> SO | K49: =IF(K63=2,"MO",IF(K63=3,"DI",IF(K63=4,"MI",IF(K63=5,"DO",IF(K63=6,"FR",IF(K63=7,"SA","SO")))))) -> SO | L49: =IF(L63=2,"MO",IF(L63=3,"DI",IF(L63=4,"MI",IF(L63=5,"DO",IF(L63=6,"FR",IF(L63=7,"SA","SO")))))) -> SO | ... Q49: =IF(Q63=2,"MO",IF(Q63=3,"DI",IF(Q63=4,"MI",IF(Q63=5,"DO",IF(Q63=6,"FR",IF(Q63=7,"SA","SO")))))) -> SO | R49: MW | S49: Stabw. | T49: =CONCATENATE("±",V49,"σ") -> ±1σ | V49: 1
D50: =D27 -> 0.29166667 | R50: =IF(COUNTIF(E50:Q50,"")>10,R27,AVERAGE(E50:Q50)) -> 6.1307692 | S50: =IF(COUNTIF(E50:Q50,"")>10,S27,STDEV(E50:Q50)) -> 0.10154707 | T50: =R50-$S$251*S50 -> 6.1307692 | U50: bis | V50: =R50+$V$49*S50 -> 6.2323163
D51: =D28 -> 0.39583333 | R51: =IF(COUNTIF(E51:Q51,"")>10,R28,AVERAGE(E51:Q51)) -> 9.8546296 | S51: =IF(COUNTIF(E51:Q51,"")>10,S28,STDEV(E51:Q51)) -> 1.1032597 | T51: =R51-$S$251*S51 -> 9.8546296 | U51: bis | V51: =R51+$V$49*S51 -> 10.957889
D52: =D29 -> 0.5 | R52: =IF(COUNTIF(E52:Q52,"")>10,R29,AVERAGE(E52:Q52)) -> 7.3435897 | S52: =IF(COUNTIF(E52:Q52,"")>10,S29,STDEV(E52:Q52)) -> 1.6302469 | T52: =R52-$S$251*S52 -> 7.3435897 | U52: bis | V52: =R52+$V$49*S52 -> 8.9738366
D53: =D30 -> 0.60416667 | R53: =IF(COUNTIF(E53:Q53,"")>10,R30,AVERAGE(E53:Q53)) -> 7.0808081 | S53: =IF(COUNTIF(E53:Q53,"")>10,S30,STDEV(E53:Q53)) -> 2.0484507 | T53: =R53-$S$251*S53 -> 7.0808081 | U53: bis | V53: =R53+$V$49*S53 -> 9.1292588
D54: =D31 -> 0.72916667 | R54: =IF(COUNTIF(E54:Q54,"")>10,R31,AVERAGE(E54:Q54)) -> 7.0931624 | S54: =IF(COUNTIF(E54:Q54,"")>10,S31,STDEV(E54:Q54)) -> 1.6066255 | T54: =R54-$S$251*S54 -> 7.0931624 | U54: bis | V54: =R54+$V$49*S54 -> 8.6997879
D55: =D32 -> 0.83333333 | R55: =IF(COUNTIF(E55:Q55,"")>10,R32,AVERAGE(E55:Q55)) -> 9.2518519 | S55: =IF(COUNTIF(E55:Q55,"")>10,S32,STDEV(E55:Q55)) -> 2.3790298 | T55: =R55-$S$251*S55 -> 9.2518519 | U55: bis | V55: =R55+$V$49*S55 -> 11.630882
D56: =D33 -> 0.95833333 | R56: =IF(COUNTIF(E56:Q56,"")>10,R33,AVERAGE(E56:Q56)) -> 7.9305556 | S56: =IF(COUNTIF(E56:Q56,"")>10,S33,STDEV(E56:Q56)) -> 1.6009826 | T56: =R56-$S$251*S56 -> 7.9305556 | U56: bis | V56: =R56+$V$49*S56 -> 9.5315382
D57: =D34 -> Nacht | R57: =IF(COUNTIF(E57:Q57,"")>10,R34,AVERAGE(E57:Q57)) -> 6.1037037 | S57: =IF(COUNTIF(E57:Q57,"")>10,S34,STDEV(E57:Q57)) -> 0.47022055 | T57: =R57-$S$251*S57 -> 6.1037037 | U57: bis | V57: =R57+$V$49*S57 -> 6.5739243
D58: =D35 -> Früh | R58: =IF(COUNTIF(E58:Q58,"")>10,R35,AVERAGE(E58:Q58)) -> 6.1333333 | S58: =IF(COUNTIF(E58:Q58,"")>10,S35,STDEV(E58:Q58)) -> 0.10957268 | T58: =R58-$S$251*S58 -> 6.1333333 | U58: bis | V58: =R58+$V$49*S58 -> 6.242906
D59: =D36 -> Datum | E59: =V65 -> 41456 | F59: =E59+$V$43 -> 41463 | G59: =F59+$V$43 -> 41470 | H59: =G59+$V66 -> 41477 | I59: =H59+$V66 -> 41484 | J59: =I59+$V66 -> 41491 | K59: =J59+$V66 -> 41498 | L59: =K59+$V66 -> 41505 | M59: =L59+$V66 -> 41512 | N59: =M59+$V66 -> 41519 | O59: =N59+$V66 -> 41526 | ... Q59: =P59+$V66 -> 41540 | S59: =(AVERAGE('(intern)'!AB4:AN12)+(86/18)/33.3) -> 7.0231525 | T59: % über den ges. Zeitraum
D60: =D37 -> Tagesminimum | E60: =IF(MIN(E50:E58)=0,"-",MIN(E50:E58)) -> - | F60: =IF(MIN(F50:F58)=0,"-",MIN(F50:F58)) -> - | G60: =IF(MIN(G50:G58)=0,"-",MIN(G50:G58)) -> - | H60: =IF(MIN(H50:H58)=0,"-",MIN(H50:H58)) -> - | I60: =IF(MIN(I50:I58)=0,"-",MIN(I50:I58)) -> - | J60: =IF(MIN(J50:J58)=0,"-",MIN(J50:J58)) -> - | K60: =IF(MIN(K50:K58)=0,"-",MIN(K50:K58)) -> - | L60: =IF(MIN(L50:L58)=0,"-",MIN(L50:L58)) -> - | ... Q60: =IF(MIN(Q50:Q58)=0,"-",MIN(Q50:Q58)) -> - | R60: HbA1c | S60: =(AVERAGE('(intern)'!AB4:AE12)+(86/18)/33.3) -> 7.0231607 | T60: % | U60: (=Näherung)
D61: =D38 -> Tagesmaximum | E61: =IF(MAX(E50:E58)=0,"-",MAX(E50:E58)) -> - | F61: =IF(MAX(F50:F58)=0,"-",MAX(F50:F58)) -> - | G61: =IF(MAX(G50:G58)=0,"-",MAX(G50:G58)) -> - | H61: =IF(MAX(H50:H58)=0,"-",MAX(H50:H58)) -> - | I61: =IF(MAX(I50:I58)=0,"-",MAX(I50:I58)) -> - | J61: =IF(MAX(J50:J58)=0,"-",MAX(J50:J58)) -> - | K61: =IF(MAX(K50:K58)=0,"-",MAX(K50:K58)) -> - | L61: =IF(MAX(L50:L58)=0,"-",MAX(L50:L58)) -> - | ... Q61: =IF(MAX(Q50:Q58)=0,"-",MAX(Q50:Q58)) -> - | S61: =(AVERAGE('(intern)'!AE4:AH12)+(86/18)/33.3) -> 7.0231476 | T61: %
D62: =D39 -> Tagesmittelwert | E62: =IF(E61="-",R39,AVERAGE(E50:E58)) -> 7.2141026 | F62: =IF(F61="-",E62,AVERAGE(F50:F58)) -> 7.2141026 | G62: =IF(G61="-",F62,AVERAGE(G50:G58)) -> 7.2141026 | H62: =IF(H61="-",G62,AVERAGE(H50:H58)) -> 7.2141026 | I62: =IF(I61="-",H62,AVERAGE(I50:I58)) -> 7.2141026 | J62: =IF(J61="-",I62,AVERAGE(J50:J58)) -> 7.2141026 | K62: =IF(K61="-",J62,AVERAGE(K50:K58)) -> 7.2141026 | L62: =IF(L61="-",K62,AVERAGE(L50:L58)) -> 7.2141026 | M62: =IF(M61="-",L62,AVERAGE(M50:M58)) -> 7.2141026 | ... Q62: =IF(Q61="-",P62,AVERAGE(Q50:Q58)) -> 7.2141026 | R62: =AVERAGE(E62:Q62) -> 7.2141026 | S62: =(AVERAGE('(intern)'!AH4:AN12)+(86/18)/33.3) -> 7.023151 | T62: %
E63: =WEEKDAY(E59) -> 1 | F63: =WEEKDAY(F59) -> 1 | G63: =WEEKDAY(G59) -> 1 | H63: =WEEKDAY(H59) -> 1 | I63: =WEEKDAY(I59) -> 1 | J63: =WEEKDAY(J59) -> 1 | K63: =WEEKDAY(K59) -> 1 | L63: =WEEKDAY(L59) -> 1 | ... Q63: =WEEKDAY(Q59) -> 1
B64: Notzen | D64: =D41 -> I.E. / Basal | E64: 15 - 10 - 09/ 10+15 | F64: 15 - 10 - 09/ 10+15 | G64: 15 - 10 - 09/ 10+15 | H64: 15 - 10 - 09/ 10+15 | I64: 15 - 10 - 09/ 10+15 | J64: 15 - 10 - 09/ 10+15 | K64: 15 - 10 - 09/ 10+15 | L64: 15 - 10 - 09/ 10+15 | M64: 15 - 10 - 09/ 10+15 | N64: 15 - 10 - 09/ 10+15 | O64: 15 - 10 - 09/ 10+15 | P64: 15 - 10 - 09/ 10+15 | Q64: 15 - 10 - 09/ 10+15 | R64: III. Quartal | T64: Korrektur = | V64: 1
D65: =D42 -> BE | E65: 05 - 04 - 03 | F65: 05 - 04 - 03 | G65: 05 - 04 - 03 | H65: 05 - 04 - 03 | I65: 05 - 04 - 03 | J65: 05 - 04 - 03 | K65: 05 - 04 - 03 | L65: 05 - 04 - 03 | M65: 05 - 04 - 03 | N65: 05 - 04 - 03 | O65: 05 - 04 - 03 | P65: 05 - 04 - 03 | Q65: 05 - 04 - 03 | T65: 1.Tag= | V65: =Q36+V43 -> 41456
D66: =D43 -> Sport | T66: Intervall ~ | V66: =V43 -> 7
D67: =D44 -> Krankheit
D68: =D45 -> Besonderheiten | S68: HbA1c [%] | T68: Laborwert | V68: 6.8
D69: =D46 -> Sonstiges | T69: =T46 -> Näherung | V69: 6.8
D71: Kalenderwoche | E71: =WEEKNUM(E82,1) -> 40 | F71: =WEEKNUM(F82,1) -> 41 | G71: =WEEKNUM(G82,1) -> 42 | H71: =WEEKNUM(H82,1) -> 43 | I71: =WEEKNUM(I82,1) -> 44 | J71: =WEEKNUM(J82,1) -> 45 | K71: =WEEKNUM(K82,1) -> 46 | L71: =WEEKNUM(L82,1) -> 47 | ... Q71: =WEEKNUM(Q82,1) -> 52
D72: =D49 -> Glucose [mg/dl] | E72: =IF(E86=2,"MO",IF(E86=3,"DI",IF(E86=4,"MI",IF(E86=5,"DO",IF(E86=6,"FR",IF(E86=7,"SA","SO")))))) -> SO | F72: =IF(F86=2,"MO",IF(F86=3,"DI",IF(F86=4,"MI",IF(F86=5,"DO",IF(F86=6,"FR",IF(F86=7,"SA","SO")))))) -> SO | G72: =IF(G86=2,"MO",IF(G86=3,"DI",IF(G86=4,"MI",IF(G86=5,"DO",IF(G86=6,"FR",IF(G86=7,"SA","SO")))))) -> SO | H72: =IF(H86=2,"MO",IF(H86=3,"DI",IF(H86=4,"MI",IF(H86=5,"DO",IF(H86=6,"FR",IF(H86=7,"SA","SO")))))) -> SO | I72: =IF(I86=2,"MO",IF(I86=3,"DI",IF(I86=4,"MI",IF(I86=5,"DO",IF(I86=6,"FR",IF(I86=7,"SA","SO")))))) -> SO | J72: =IF(J86=2,"MO",IF(J86=3,"DI",IF(J86=4,"MI",IF(J86=5,"DO",IF(J86=6,"FR",IF(J86=7,"SA","SO")))))) -> SO | K72: =IF(K86=2,"MO",IF(K86=3,"DI",IF(K86=4,"MI",IF(K86=5,"DO",IF(K86=6,"FR",IF(K86=7,"SA","SO")))))) -> SO | L72: =IF(L86=2,"MO",IF(L86=3,"DI",IF(L86=4,"MI",IF(L86=5,"DO",IF(L86=6,"FR",IF(L86=7,"SA","SO")))))) -> SO | ... Q72: =IF(Q86=2,"MO",IF(Q86=3,"DI",IF(Q86=4,"MI",IF(Q86=5,"DO",IF(Q86=6,"FR",IF(Q86=7,"SA","SO")))))) -> SO | R72: MW | S72: Stabw. | T72: =CONCATENATE("±",V72,"σ") -> ±1σ | V72: =V49 -> 1
D73: =D50 -> 0.29166667 | R73: =IF(COUNTIF(E73:Q73,"")>10,R50,AVERAGE(E73:Q73)) -> 6.1307692 | S73: =IF(COUNTIF(E73:Q73,"")>10,S50,STDEV(E73:Q73)) -> 0.10154707 | T73: =R73-$S$273*S73 -> 6.1307692 | U73: bis | V73: =R73+$S$473*S73 -> 6.1307692
D74: =D51 -> 0.39583333 | R74: =IF(COUNTIF(E74:Q74,"")>10,R51,AVERAGE(E74:Q74)) -> 9.8546296 | S74: =IF(COUNTIF(E74:Q74,"")>10,S51,STDEV(E74:Q74)) -> 1.1032597 | T74: =R74-$S$273*S74 -> 9.8546296 | U74: bis | V74: =R74+$S$473*S74 -> 9.8546296
D75: =D52 -> 0.5 | R75: =IF(COUNTIF(E75:Q75,"")>10,R52,AVERAGE(E75:Q75)) -> 7.3435897 | S75: =IF(COUNTIF(E75:Q75,"")>10,S52,STDEV(E75:Q75)) -> 1.6302469 | T75: =R75-$S$273*S75 -> 7.3435897 | U75: bis | V75: =R75+$S$473*S75 -> 7.3435897
D76: =D53 -> 0.60416667 | R76: =IF(COUNTIF(E76:Q76,"")>10,R53,AVERAGE(E76:Q76)) -> 7.0808081 | S76: =IF(COUNTIF(E76:Q76,"")>10,S53,STDEV(E76:Q76)) -> 2.0484507 | T76: =R76-$S$273*S76 -> 7.0808081 | U76: bis | V76: =R76+$S$473*S76 -> 7.0808081
D77: =D54 -> 0.72916667 | R77: =IF(COUNTIF(E77:Q77,"")>10,R54,AVERAGE(E77:Q77)) -> 7.0931624 | S77: =IF(COUNTIF(E77:Q77,"")>10,S54,STDEV(E77:Q77)) -> 1.6066255 | T77: =R77-$S$273*S77 -> 7.0931624 | U77: bis | V77: =R77+$S$473*S77 -> 7.0931624
D78: =D55 -> 0.83333333 | R78: =IF(COUNTIF(E78:Q78,"")>10,R55,AVERAGE(E78:Q78)) -> 9.2518519 | S78: =IF(COUNTIF(E78:Q78,"")>10,S55,STDEV(E78:Q78)) -> 2.3790298 | T78: =R78-$S$273*S78 -> 9.2518519 | U78: bis | V78: =R78+$S$473*S78 -> 9.2518519
D79: =D56 -> 0.95833333 | R79: =IF(COUNTIF(E79:Q79,"")>10,R56,AVERAGE(E79:Q79)) -> 7.9305556 | S79: =IF(COUNTIF(E79:Q79,"")>10,S56,STDEV(E79:Q79)) -> 1.6009826 | T79: =R79-$S$273*S79 -> 7.9305556 | U79: bis | V79: =R79+$S$473*S79 -> 7.9305556
D80: =D57 -> Nacht | R80: =IF(COUNTIF(E80:Q80,"")>10,R57,AVERAGE(E80:Q80)) -> 6.1037037 | S80: =IF(COUNTIF(E80:Q80,"")>10,S57,STDEV(E80:Q80)) -> 0.47022055 | T80: =R80-$S$273*S80 -> 6.1037037 | U80: bis | V80: =R80+$S$473*S80 -> 6.1037037
D81: =D58 -> Früh | R81: =IF(COUNTIF(E81:Q81,"")>10,R58,AVERAGE(E81:Q81)) -> 6.1333333 | S81: =IF(COUNTIF(E81:Q81,"")>10,S58,STDEV(E81:Q81)) -> 0.10957268 | T81: =R81-$S$273*S81 -> 6.1333333 | U81: bis | V81: =R81+$S$473*S81 -> 6.1333333
D82: =D59 -> Datum | E82: =V88 -> 41547 | F82: =E82+$V$89 -> 41554 | G82: =F82+$V$89 -> 41561 | H82: =G82+$V$89 -> 41568 | I82: =H82+$V$89 -> 41575 | J82: =I82+$V$89 -> 41582 | K82: =J82+$V$89 -> 41589 | L82: =K82+$V$89 -> 41596 | M82: =L82+$V$89 -> 41603 | ... Q82: =P82+$V$89 -> 41631 | S82: =(AVERAGE('(intern)'!AO4:BA12)+(86/18)/33.3) -> 7.0231522 | T82: % über den ges. Zeitraum
D83: =D60 -> Tagesminimum | E83: =IF(MIN(E73:E81)=0,"-",MIN(E73:E81)) -> - | F83: =IF(MIN(F73:F81)=0,"-",MIN(F73:F81)) -> - | G83: =IF(MIN(G73:G81)=0,"-",MIN(G73:G81)) -> - | H83: =IF(MIN(H73:H81)=0,"-",MIN(H73:H81)) -> - | I83: =IF(MIN(I73:I81)=0,"-",MIN(I73:I81)) -> - | J83: =IF(MIN(J73:J81)=0,"-",MIN(J73:J81)) -> - | K83: =IF(MIN(K73:K81)=0,"-",MIN(K73:K81)) -> - | L83: =IF(MIN(L73:L81)=0,"-",MIN(L73:L81)) -> - | ... Q83: =IF(MIN(Q73:Q81)=0,"-",MIN(Q73:Q81)) -> - | R83: HbA1c | S83: =(AVERAGE('(intern)'!AO4:AR12)+(86/18)/33.3) -> 7.0231522 | T83: % | U83: (=Näherung)
D84: =D61 -> Tagesmaximum | E84: =IF(MAX(E73:E81)=0,"-",MAX(E73:E81)) -> - | F84: =IF(MAX(F73:F81)=0,"-",MAX(F73:F81)) -> - | G84: =IF(MAX(G73:G81)=0,"-",MAX(G73:G81)) -> - | H84: =IF(MAX(H73:H81)=0,"-",MAX(H73:H81)) -> - | I84: =IF(MAX(I73:I81)=0,"-",MAX(I73:I81)) -> - | J84: =IF(MAX(J73:J81)=0,"-",MAX(J73:J81)) -> - | K84: =IF(MAX(K73:K81)=0,"-",MAX(K73:K81)) -> - | L84: =IF(MAX(L73:L81)=0,"-",MAX(L73:L81)) -> - | ... Q84: =IF(MAX(Q73:Q81)=0,"-",MAX(Q73:Q81)) -> - | S84: =(AVERAGE('(intern)'!AR4:AU12)+(86/18)/33.3) -> 7.0231522 | T84: %
D85: =D62 -> Tagesmittelwert | E85: =IF(E84="-",R62,AVERAGE(E73:E81)) -> 7.2141026 | F85: =IF(F84="-",E85,AVERAGE(F73:F81)) -> 7.2141026 | G85: =IF(G84="-",F85,AVERAGE(G73:G81)) -> 7.2141026 | H85: =IF(H84="-",G85,AVERAGE(H73:H81)) -> 7.2141026 | I85: =IF(I84="-",H85,AVERAGE(I73:I81)) -> 7.2141026 | J85: =IF(J84="-",I85,AVERAGE(J73:J81)) -> 7.2141026 | K85: =IF(K84="-",J85,AVERAGE(K73:K81)) -> 7.2141026 | L85: =IF(L84="-",K85,AVERAGE(L73:L81)) -> 7.2141026 | M85: =IF(M84="-",L85,AVERAGE(M73:M81)) -> 7.2141026 | ... Q85: =IF(Q84="-",P85,AVERAGE(Q73:Q81)) -> 7.2141026 | R85: =AVERAGE(E85:Q85) -> 7.2141026 | S85: =(AVERAGE('(intern)'!AU4:BA12)+(86/18)/33.3) -> 7.0231522 | T85: %
E86: =WEEKDAY(E82) -> 1 | F86: =WEEKDAY(F82) -> 1 | G86: =WEEKDAY(G82) -> 1 | H86: =WEEKDAY(H82) -> 1 | I86: =WEEKDAY(I82) -> 1 | J86: =WEEKDAY(J82) -> 1 | K86: =WEEKDAY(K82) -> 1 | L86: =WEEKDAY(L82) -> 1 | ... Q86: =WEEKDAY(Q82) -> 1
B87: Notizen | D87: =D64 -> I.E. / Basal | E87: 15 - 10 - 09/ 10+15 | F87: 15 - 10 - 09/ 10+15 | G87: 15 - 10 - 09/ 10+15 | H87: 15 - 10 - 09/ 10+15 | I87: 15 - 10 - 09/ 10+15 | J87: 15 - 10 - 09/ 10+15 | K87: 15 - 10 - 09/ 10+15 | L87: 15 - 10 - 09/ 10+15 | M87: 15 - 10 - 09/ 10+15 | N87: 15 - 10 - 09/ 10+15 | O87: 15 - 10 - 09/ 10+15 | P87: 15 - 10 - 09/ 10+15 | Q87: 15 - 10 - 09/ 10+15 | R87: IV. Quartal | T87: Korrektur = | V87: 1
D88: =D65 -> BE | E88: 05 - 04 - 03 | F88: 05 - 04 - 03 | G88: 05 - 04 - 03 | H88: 05 - 04 - 03 | I88: 05 - 04 - 03 | J88: 05 - 04 - 03 | K88: 05 - 04 - 03 | L88: 05 - 04 - 03 | M88: 05 - 04 - 03 | N88: 05 - 04 - 03 | O88: 05 - 04 - 03 | P88: 05 - 04 - 03 | Q88: 05 - 04 - 03 | T88: 1.Tag= | V88: =Q59+V66 -> 41547
D89: =D66 -> Sport | T89: Intervall ~ | V89: =V66 -> 7
D90: =D67 -> Krankheit
D91: =D68 -> Besonderheiten | S91: HbA1c [%] | T91: Laborwert | V91: 7.1
D92: =D69 -> Sonstiges | T92: Näherung | V92: =V91 -> 7.1
D95: Kalenderwoche | E95: =WEEKNUM(E106,1) -> 1 | F95: =WEEKNUM(F106,1) -> 1 | G95: =WEEKNUM(G106,1) -> 2 | H95: =WEEKNUM(H106,1) -> 2 | I95: =WEEKNUM(I106,1) -> 3 | J95: =WEEKNUM(J106,1) -> 3 | K95: =WEEKNUM(K106,1) -> 4 | L95: =WEEKNUM(L106,1) -> 4 | ... Q95: =WEEKNUM(Q106,1) -> 8
B96: MW alt | D96: =D72 -> Glucose [mg/dl] | E96: =IF(E110=2,"MO",IF(E110=3,"DI",IF(E110=4,"MI",IF(E110=5,"DO",IF(E110=6,"FR",IF(E110=7,"SA","SO")))))) -> SO | F96: =IF(F110=2,"MO",IF(F110=3,"DI",IF(F110=4,"MI",IF(F110=5,"DO",IF(F110=6,"FR",IF(F110=7,"SA","SO")))))) -> MI | G96: =IF(G110=2,"MO",IF(G110=3,"DI",IF(G110=4,"MI",IF(G110=5,"DO",IF(G110=6,"FR",IF(G110=7,"SA","SO")))))) -> SO | H96: =IF(H110=2,"MO",IF(H110=3,"DI",IF(H110=4,"MI",IF(H110=5,"DO",IF(H110=6,"FR",IF(H110=7,"SA","SO")))))) -> MI | I96: =IF(I110=2,"MO",IF(I110=3,"DI",IF(I110=4,"MI",IF(I110=5,"DO",IF(I110=6,"FR",IF(I110=7,"SA","SO")))))) -> SO | J96: =IF(J110=2,"MO",IF(J110=3,"DI",IF(J110=4,"MI",IF(J110=5,"DO",IF(J110=6,"FR",IF(J110=7,"SA","SO")))))) -> MI | K96: =IF(K110=2,"MO",IF(K110=3,"DI",IF(K110=4,"MI",IF(K110=5,"DO",IF(K110=6,"FR",IF(K110=7,"SA","SO")))))) -> SO | L96: =IF(L110=2,"MO",IF(L110=3,"DI",IF(L110=4,"MI",IF(L110=5,"DO",IF(L110=6,"FR",IF(L110=7,"SA","SO")))))) -> MI | ... Q96: =IF(Q110=2,"MO",IF(Q110=3,"DI",IF(Q110=4,"MI",IF(Q110=5,"DO",IF(Q110=6,"FR",IF(Q110=7,"SA","SO")))))) -> MI | R96: MW | S96: Stabw. | T96: =CONCATENATE("±",V96,"σ") -> ±0,674σ | V96: 0.674
B97: 5.5 | D97: =D73 -> 0.29166667 | E97: 6.2777778 | F97: 6.2222222 | G97: 6.2 | H97: 6.1 | I97: 6 | J97: 6.2 | K97: 6 | L97: 6.2 | M97: 6.2 | N97: 5.9 | R97: =IF(COUNTIF(E97:Q97,"")>10,B97,AVERAGE(E97:Q97)) -> 6.13 | S97: =IF(COUNTIF(E97:Q97,"")>10,2.2,STDEV(E97:Q97)) -> 0.12362273 | T97: =R97-$V$96*S97 -> 6.0466783 | U97: bis | V97: =R97+$V$96*S97 -> 6.2133217 | X97: Mittelw. korr.
B98: 7.8 | D98: =D74 -> 0.39583333 | E98: 12.111111 | F98: 9.8888889 | G98: 8.2 | H98: 9.1 | J98: 10.3 | K98: 10.5 | L98: 9.6 | N98: 9.4 | R98: =IF(COUNTIF(E98:Q98,"")>10,B98,AVERAGE(E98:Q98)) -> 9.8875 | S98: =IF(COUNTIF(E98:Q98,"")>10,2.2,STDEV(E98:Q98)) -> 1.1512655 | T98: =R98-$V$96*S98 -> 9.1115471 | U98: bis | V98: =R98+$V$96*S98 -> 10.663453 | X98: =R97/V$111 -> 6.13
B99: 5.5 | D99: =D75 -> 0.5 | E99: 8.0555556 | F99: 6.7777778 | G99: 4.8 | H99: 6.8 | I99: 10.3 | J99: 8.2 | K99: 8.7 | L99: 6 | N99: 7.4 | R99: =IF(COUNTIF(E99:Q99,"")>10,B99,AVERAGE(E99:Q99)) -> 7.4481481 | S99: =IF(COUNTIF(E99:Q99,"")>10,2.2,STDEV(E99:Q99)) -> 1.6053056 | T99: =R99-$V$96*S99 -> 6.3661722 | U99: bis | V99: =R99+$V$96*S99 -> 8.5301241 | X99: =R98/V$111 -> 9.8875
B100: 7.8 | D100: =D76 -> 0.60416667 | E100: 7.0555556 | F100: 8.7222222 | G100: 10.6 | H100: 6.2 | I100: 6.8 | J100: 5.4 | L100: 4.5 | N100: 6 | R100: =IF(COUNTIF(E100:Q100,"")>10,B100,AVERAGE(E100:Q100)) -> 6.9097222 | S100: =IF(COUNTIF(E100:Q100,"")>10,2.2,STDEV(E100:Q100)) -> 1.9403216 | T100: =R100-$V$96*S100 -> 5.6019455 | U100: bis | V100: =R100+$V$96*S100 -> 8.217499 | X100: =R99/V$111 -> 7.4481481
B101: 5.5 | D101: =D77 -> 0.72916667 | E101: 6 | F101: 9.1666667 | G101: 6.9 | H101: 8.2 | I101: 6.4 | J101: 5 | K101: 9.2 | L101: 4.9 | M101: 6.8 | N101: 8.2 | R101: =IF(COUNTIF(E101:Q101,"")>10,B101,AVERAGE(E101:Q101)) -> 7.0766667 | S101: =IF(COUNTIF(E101:Q101,"")>10,2.2,STDEV(E101:Q101)) -> 1.5697016 | T101: =R101-$V$96*S101 -> 6.0186878 | U101: bis | V101: =R101+$V$96*S101 -> 8.1346455 | X101: =R100/V$111 -> 6.9097222
B102: 7.8 | D102: =D78 -> 0.83333333 | E102: 5.9444444 | F102: 10.722222 | G102: 7.7 | H102: 10.7 | I102: 7 | J102: 11.9 | K102: 10.8 | L102: 5.2 | M102: 5.2 | N102: 8.7 | R102: =IF(COUNTIF(E102:Q102,"")>10,B102,AVERAGE(E102:Q102)) -> 8.3866667 | S102: =IF(COUNTIF(E102:Q102,"")>10,2.2,STDEV(E102:Q102)) -> 2.5329099 | T102: =R102-$V$96*S102 -> 6.6794854 | U102: bis | V102: =R102+$V$96*S102 -> 10.093848 | X102: =R101/V$111 -> 7.0766667
B103: 6.7 | D103: =D79 -> 0.95833333 | E103: 10 | F103: 7.2222222 | G103: 7.4 | H103: 9 | I103: 7.6 | J103: 5.3 | K103: 9.7 | M103: 5.3 | N103: 7.9 | R103: =IF(COUNTIF(E103:Q103,"")>10,B103,AVERAGE(E103:Q103)) -> 7.7135802 | S103: =IF(COUNTIF(E103:Q103,"")>10,2.2,STDEV(E103:Q103)) -> 1.6906586 | T103: =R103-$V$96*S103 -> 6.5740764 | U103: bis | V103: =R103+$V$96*S103 -> 8.8530841 | X103: =R102/V$111 -> 8.3866667
B104: 4.7 | D104: =D80 -> Nacht | E104: 5.2777778 | F104: 5.5555556 | G104: 5.9 | H104: 5.8 | I104: 6.5 | J104: 6.6 | K104: 6.5 | M104: 5.8 | N104: 6.1 | R104: =IF(COUNTIF(E104:Q104,"")>10,B104,AVERAGE(E104:Q104)) -> 6.0037037 | S104: =IF(COUNTIF(E104:Q104,"")>10,2.2,STDEV(E104:Q104)) -> 0.45812285 | T104: =R104-$V$96*S104 -> 5.6949289 | U104: bis | V104: =R104+$V$96*S104 -> 6.3124785 | X104: =R103/V$111 -> 7.7135802
B105: 5.5 | D105: =D81 -> Früh | E105: 6.2777778 | F105: 6.2222222 | I105: 6 | J105: 6.2 | M105: 6.2 | N105: 6.3 | R105: =IF(COUNTIF(E105:Q105,"")>10,B105,AVERAGE(E105:Q105)) -> 6.2 | S105: =IF(COUNTIF(E105:Q105,"")>10,2.2,STDEV(E105:Q105)) -> 0.1063421 | T105: =R105-$V$96*S105 -> 6.1283254 | U105: bis | V105: =R105+$V$96*S105 -> 6.2716746 | X105: =R104/V$111 -> 6.0037037
D106: =D82 -> Datum | E106: =V112 -> 41274 | F106: =E106+$V113 -> 41277.5 | G106: =F106+$V113 -> 41281 | H106: =G106+$V113 -> 41284.5 | I106: =H106+$V113 -> 41288 | J106: =I106+$V113 -> 41291.5 | K106: =J106+$V113 -> 41295 | L106: =K106+$V113 -> 41298.5 | M106: =L106+$V113 -> 41302 | N106: =M106+$V113 -> 41305.5 | O106: =N106+$V$113*2 -> 41312.5 | P106: =O106+$V$113*2 -> 41319.5 | Q106: =P106+$V$113*2 -> 41326.5 | S106: =(AVERAGE('(intern)'!BF4:BR12)+(86/18)/33.3) -> 7.2588709 | T106: % über den ges. Zeitraum | X106: =R105/V$111 -> 6.2
...

Sheet I.17
A1: ='IN (mmol|L)'!R18 -> I. Quartal | C1: ='IN (mmol|L)'!E13 -> 41274 | D1: ='IN (mmol|L)'!F13 -> 41281 | E1: ='IN (mmol|L)'!G13 -> 41288 | F1: ='IN (mmol|L)'!H13 -> 41295 | G1: ='IN (mmol|L)'!I13 -> 41302 | H1: ='IN (mmol|L)'!J13 -> 41309 | I1: ='IN (mmol|L)'!K13 -> 41316 | J1: ='IN (mmol|L)'!L13 -> 41323 | ... O1: ='IN (mmol|L)'!Q13 -> 41358
E36: =CONCATENATE(ROUND('IN (mmol|L)'!S14,1)," %") -> 7,6 % | M36: =CONCATENATE(ROUND('IN (mmol|L)'!S16,1)," %") -> 7,5 %
A37: HbA1c Wert der
I38: =CONCATENATE(ROUND('IN (mmol|L)'!S15,1)," %") -> 7,8 %
A39: Zeiträume
A40: (Näherung) | I40: =CONCATENATE(ROUND('IN (mmol|L)'!S13,1)," %") -> 7,6 %
A70: Tagebuch | B70: ='IN (mmol|L)'!D$18 -> I.E. / Basal | C70: ='IN (mmol|L)'!D$19 -> BE | D70: Faktor | E70: =CONCATENATE('IN (mmol|L)'!D$20," / ",'IN (mmol|L)'!D$21," / ",'IN (mmol|L)'!D$22," / ",'IN (mmol|L)'!D$23) -> Sport / Krankheit / Besonderheiten / Sonstiges
A71: =C$1 -> 41274 | B71: =IF('IN (mmol|L)'!$E$18=0,"",'IN (mmol|L)'!$E$18) -> 15 - 10 - 09/ 10+15 | C71: =IF('IN (mmol|L)'!$E$19=0,"",'IN (mmol|L)'!$E$19) -> 06 - 04 - 03 | D71: =IF(OR(B71="",C71=0),"",CONCATENATE(IF(LEFT(B71,2)*LEFT(C71,2)=0,"X",ROUND(LEFT(B71,2)/LEFT(C71,2),1))," - ",IF(MID(B71,6,2)*MID(C71,6,2)=0,"X",ROUND(MID(B71,6,2)/MID(C71,6,2),1))," - ",IF(MID(B71,11,2)*MID(C71,11,2)=0,"X",ROUND(MID(B71,11,2)/MID(C71,11,2),1)))) -> 2,5 - 2,5 - 3 | E71: =CONCATENATE('IN (mmol|L)'!E$20," / ",'IN (mmol|L)'!E$21," / ",'IN (mmol|L)'!E$22," / ",'IN (mmol|L)'!E$23) -> / / /
A72: =D$1 -> 41281 | B72: =IF('IN (mmol|L)'!$F$18=0,"",'IN (mmol|L)'!$F$18) -> 15 - 10 - 09/ 10+15 | C72: =IF('IN (mmol|L)'!$F$19=0,"",'IN (mmol|L)'!$F$19) -> 06 - 04 - 03 | D72: =IF(OR(B72="",C72=0),"",CONCATENATE(IF(LEFT(B72,2)*LEFT(C72,2)=0,"X",ROUND(LEFT(B72,2)/LEFT(C72,2),1))," - ",IF(MID(B72,6,2)*MID(C72,6,2)=0,"X",ROUND(MID(B72,6,2)/MID(C72,6,2),1))," - ",IF(MID(B72,11,2)*MID(C72,11,2)=0,"X",ROUND(MID(B72,11,2)/MID(C72,11,2),1)))) -> 2,5 - 2,5 - 3 | E72: =CONCATENATE('IN (mmol|L)'!F$20," / ",'IN (mmol|L)'!F$21," / ",'IN (mmol|L)'!F$22," / ",'IN (mmol|L)'!F$23) -> / / /
A73: =E$1 -> 41288 | B73: =IF('IN (mmol|L)'!$G$18=0,"",'IN (mmol|L)'!$G$18) -> 15 - 10 - 09/ 10+15 | C73: =IF('IN (mmol|L)'!$G$19=0,"",'IN (mmol|L)'!$G$19) -> 06 - 04 - 03 | D73: =IF(OR(B73="",C73=0),"",CONCATENATE(IF(LEFT(B73,2)*LEFT(C73,2)=0,"X",ROUND(LEFT(B73,2)/LEFT(C73,2),1))," - ",IF(MID(B73,6,2)*MID(C73,6,2)=0,"X",ROUND(MID(B73,6,2)/MID(C73,6,2),1))," - ",IF(MID(B73,11,2)*MID(C73,11,2)=0,"X",ROUND(MID(B73,11,2)/MID(C73,11,2),1)))) -> 2,5 - 2,5 - 3 | E73: =CONCATENATE('IN (mmol|L)'!G$20," / ",'IN (mmol|L)'!G$21," / ",'IN (mmol|L)'!G$22," / ",'IN (mmol|L)'!G$23) -> / / /
A74: =F$1 -> 41295 | B74: =IF('IN (mmol|L)'!$H$18=0,"",'IN (mmol|L)'!$H$18) -> 15 - 10 - 09/ 10+15 | C74: =IF('IN (mmol|L)'!$H$19=0,"",'IN (mmol|L)'!$H$19) -> 06 - 04 - 03 | D74: =IF(OR(B74="",C74=0),"",CONCATENATE(IF(LEFT(B74,2)*LEFT(C74,2)=0,"X",ROUND(LEFT(B74,2)/LEFT(C74,2),1))," - ",IF(MID(B74,6,2)*MID(C74,6,2)=0,"X",ROUND(MID(B74,6,2)/MID(C74,6,2),1))," - ",IF(MID(B74,11,2)*MID(C74,11,2)=0,"X",ROUND(MID(B74,11,2)/MID(C74,11,2),1)))) -> 2,5 - 2,5 - 3 | E74: =CONCATENATE('IN (mmol|L)'!H$20," / ",'IN (mmol|L)'!H$21," / ",'IN (mmol|L)'!H$22," / ",'IN (mmol|L)'!H$23) -> / / /
A75: =G$1 -> 41302 | B75: =IF('IN (mmol|L)'!$I$18=0,"",'IN (mmol|L)'!$I$18) -> 15 - 10 - 09/ 10+15 | C75: =IF('IN (mmol|L)'!$I$19=0,"",'IN (mmol|L)'!$I$19) -> 06 - 04 - 03 | D75: =IF(OR(B75="",C75=0),"",CONCATENATE(IF(LEFT(B75,2)*LEFT(C75,2)=0,"X",ROUND(LEFT(B75,2)/LEFT(C75,2),1))," - ",IF(MID(B75,6,2)*MID(C75,6,2)=0,"X",ROUND(MID(B75,6,2)/MID(C75,6,2),1))," - ",IF(MID(B75,11,2)*MID(C75,11,2)=0,"X",ROUND(MID(B75,11,2)/MID(C75,11,2),1)))) -> 2,5 - 2,5 - 3 | E75: =CONCATENATE('IN (mmol|L)'!I$20," / ",'IN (mmol|L)'!I$21," / ",'IN (mmol|L)'!I$22," / ",'IN (mmol|L)'!I$23) -> / / /
A76: =H$1 -> 41309 | B76: =IF('IN (mmol|L)'!$J$18=0,"",'IN (mmol|L)'!$J$18) -> 15 - 10 - 09/ 10+15 | C76: =IF('IN (mmol|L)'!$J$19=0,"",'IN (mmol|L)'!$J$19) -> 06 - 04 - 03 | D76: =IF(OR(B76="",C76=0),"",CONCATENATE(IF(LEFT(B76,2)*LEFT(C76,2)=0,"X",ROUND(LEFT(B76,2)/LEFT(C76,2),1))," - ",IF(MID(B76,6,2)*MID(C76,6,2)=0,"X",ROUND(MID(B76,6,2)/MID(C76,6,2),1))," - ",IF(MID(B76,11,2)*MID(C76,11,2)=0,"X",ROUND(MID(B76,11,2)/MID(C76,11,2),1)))) -> 2,5 - 2,5 - 3 | E76: =CONCATENATE('IN (mmol|L)'!J$20," / ",'IN (mmol|L)'!J$21," / ",'IN (mmol|L)'!J$22," / ",'IN (mmol|L)'!J$23) -> / / /
A77: =I$1 -> 41316 | B77: =IF('IN (mmol|L)'!$K$18=0,"",'IN (mmol|L)'!$K$18) -> 15 - 10 - 09/ 10+15 | C77: =IF('IN (mmol|L)'!$K$19=0,"",'IN (mmol|L)'!$K$19) -> 06 - 04 - 03 | D77: =IF(OR(B77="",C77=0),"",CONCATENATE(IF(LEFT(B77,2)*LEFT(C77,2)=0,"X",ROUND(LEFT(B77,2)/LEFT(C77,2),1))," - ",IF(MID(B77,6,2)*MID(C77,6,2)=0,"X",ROUND(MID(B77,6,2)/MID(C77,6,2),1))," - ",IF(MID(B77,11,2)*MID(C77,11,2)=0,"X",ROUND(MID(B77,11,2)/MID(C77,11,2),1)))) -> 2,5 - 2,5 - 3 | E77: =CONCATENATE('IN (mmol|L)'!K$20," / ",'IN (mmol|L)'!K$21," / ",'IN (mmol|L)'!K$22," / ",'IN (mmol|L)'!K$23) -> / / /
A78: =J$1 -> 41323 | B78: =IF('IN (mmol|L)'!$L$18=0,"",'IN (mmol|L)'!$L$18) -> 15 - 10 - 09/ 10+15 | C78: =IF('IN (mmol|L)'!$L$19=0,"",'IN (mmol|L)'!$L$19) -> 06 - 04 - 03 | D78: =IF(OR(B78="",C78=0),"",CONCATENATE(IF(LEFT(B78,2)*LEFT(C78,2)=0,"X",ROUND(LEFT(B78,2)/LEFT(C78,2),1))," - ",IF(MID(B78,6,2)*MID(C78,6,2)=0,"X",ROUND(MID(B78,6,2)/MID(C78,6,2),1))," - ",IF(MID(B78,11,2)*MID(C78,11,2)=0,"X",ROUND(MID(B78,11,2)/MID(C78,11,2),1)))) -> 2,5 - 2,5 - 3 | E78: =CONCATENATE('IN (mmol|L)'!L$20," / ",'IN (mmol|L)'!L$21," / ",'IN (mmol|L)'!L$22," / ",'IN (mmol|L)'!L$23) -> / / /
A79: =K$1 -> 41330 | B79: =IF('IN (mmol|L)'!$M$18=0,"",'IN (mmol|L)'!$M$18) -> 15 - 10 - 09/ 10+15 | C79: =IF('IN (mmol|L)'!$M$19=0,"",'IN (mmol|L)'!$M$19) -> 06 - 04 - 03 | D79: =IF(OR(B79="",C79=0),"",CONCATENATE(IF(LEFT(B79,2)*LEFT(C79,2)=0,"X",ROUND(LEFT(B79,2)/LEFT(C79,2),1))," - ",IF(MID(B79,6,2)*MID(C79,6,2)=0,"X",ROUND(MID(B79,6,2)/MID(C79,6,2),1))," - ",IF(MID(B79,11,2)*MID(C79,11,2)=0,"X",ROUND(MID(B79,11,2)/MID(C79,11,2),1)))) -> 2,5 - 2,5 - 3 | E79: =CONCATENATE('IN (mmol|L)'!M$20," / ",'IN (mmol|L)'!M$21," / ",'IN (mmol|L)'!M$22," / ",'IN (mmol|L)'!M$23) -> / / /
A80: =L$1 -> 41337 | B80: =IF('IN (mmol|L)'!$N$18=0,"",'IN (mmol|L)'!$N$18) -> 15 - 10 - 09/ 10+15 | C80: =IF('IN (mmol|L)'!$N$19=0,"",'IN (mmol|L)'!$N$19) -> 06 - 04 - 03 | D80: =IF(OR(B80="",C80=0),"",CONCATENATE(IF(LEFT(B80,2)*LEFT(C80,2)=0,"X",ROUND(LEFT(B80,2)/LEFT(C80,2),1))," - ",IF(MID(B80,6,2)*MID(C80,6,2)=0,"X",ROUND(MID(B80,6,2)/MID(C80,6,2),1))," - ",IF(MID(B80,11,2)*MID(C80,11,2)=0,"X",ROUND(MID(B80,11,2)/MID(C80,11,2),1)))) -> 2,5 - 2,5 - 3 | E80: =CONCATENATE('IN (mmol|L)'!N$20," / ",'IN (mmol|L)'!N$21," / ",'IN (mmol|L)'!N$22," / ",'IN (mmol|L)'!N$23) -> / / /
A81: =M$1 -> 41344 | B81: =IF('IN (mmol|L)'!$O$18=0,"",'IN (mmol|L)'!$O$18) -> 15 - 10 - 09/ 10+15 | C81: =IF('IN (mmol|L)'!$O$19=0,"",'IN (mmol|L)'!$O$19) -> 06 - 04 - 03 | D81: =IF(OR(B81="",C81=0),"",CONCATENATE(IF(LEFT(B81,2)*LEFT(C81,2)=0,"X",ROUND(LEFT(B81,2)/LEFT(C81,2),1))," - ",IF(MID(B81,6,2)*MID(C81,6,2)=0,"X",ROUND(MID(B81,6,2)/MID(C81,6,2),1))," - ",IF(MID(B81,11,2)*MID(C81,11,2)=0,"X",ROUND(MID(B81,11,2)/MID(C81,11,2),1)))) -> 2,5 - 2,5 - 3 | E81: =CONCATENATE('IN (mmol|L)'!O$20," / ",'IN (mmol|L)'!O$21," / ",'IN (mmol|L)'!O$22," / ",'IN (mmol|L)'!O$23) -> / / /
A82: =N$1 -> 41351 | B82: =IF('IN (mmol|L)'!$P$18=0,"",'IN (mmol|L)'!$P$18) -> 15 - 10 - 09/ 10+15 | C82: =IF('IN (mmol|L)'!$P$19=0,"",'IN (mmol|L)'!$P$19) -> 06 - 04 - 03 | D82: =IF(OR(B82="",C82=0),"",CONCATENATE(IF(LEFT(B82,2)*LEFT(C82,2)=0,"X",ROUND(LEFT(B82,2)/LEFT(C82,2),1))," - ",IF(MID(B82,6,2)*MID(C82,6,2)=0,"X",ROUND(MID(B82,6,2)/MID(C82,6,2),1))," - ",IF(MID(B82,11,2)*MID(C82,11,2)=0,"X",ROUND(MID(B82,11,2)/MID(C82,11,2),1)))) -> 2,5 - 2,5 - 3 | E82: =CONCATENATE('IN (mmol|L)'!P$20," / ",'IN (mmol|L)'!P$21," / ",'IN (mmol|L)'!P$22," / ",'IN (mmol|L)'!P$23) -> / / /
A83: =O$1 -> 41358 | B83: =IF('IN (mmol|L)'!$Q$18=0,"",'IN (mmol|L)'!$Q$18) -> 15 - 10 - 09/ 10+15 | C83: =IF('IN (mmol|L)'!$Q$19=0,"",'IN (mmol|L)'!$Q$19) -> 06 - 04 - 03 | D83: =IF(OR(B83="",C83=0),"",CONCATENATE(IF(LEFT(B83,2)*LEFT(C83,2)=0,"X",ROUND(LEFT(B83,2)/LEFT(C83,2),1))," - ",IF(MID(B83,6,2)*MID(C83,6,2)=0,"X",ROUND(MID(B83,6,2)/MID(C83,6,2),1))," - ",IF(MID(B83,11,2)*MID(C83,11,2)=0,"X",ROUND(MID(B83,11,2)/MID(C83,11,2),1)))) -> 2,5 - 2,5 - 3 | E83: =CONCATENATE('IN (mmol|L)'!Q$20," / ",'IN (mmol|L)'!Q$21," / ",'IN (mmol|L)'!Q$22," / ",'IN (mmol|L)'!Q$23) -> / / /

Sheet II.17
A1: ='IN (mmol|L)'!R41 -> II. Quartal | C1: ='IN (mmol|L)'!E36 -> 41365 | D1: ='IN (mmol|L)'!F36 -> 41372 | E1: ='IN (mmol|L)'!G36 -> 41379 | F1: ='IN (mmol|L)'!H36 -> 41386 | G1: ='IN (mmol|L)'!I36 -> 41393 | H1: ='IN (mmol|L)'!J36 -> 41400 | I1: ='IN (mmol|L)'!K36 -> 41407 | J1: ='IN (mmol|L)'!L36 -> 41414 | ... O1: ='IN (mmol|L)'!Q36 -> 41449
E36: =CONCATENATE(ROUND('IN (mmol|L)'!S37,1)," %") -> 7 % | M36: =CONCATENATE(ROUND('IN (mmol|L)'!S39,1)," %") -> 7 %
A37: HbA1c Wert der
I38: =CONCATENATE(ROUND('IN (mmol|L)'!S38,1)," %") -> 7 %
A39: Zeiträume
A40: (Näherung) | I40: =CONCATENATE(ROUND('IN (mmol|L)'!S36,1)," %") -> 7 %
A70: Tagebuch | B70: ='IN (mmol|L)'!D$18 -> I.E. / Basal | C70: ='IN (mmol|L)'!D$19 -> BE | D70: Faktor | E70: =CONCATENATE('IN (mmol|L)'!D$20," / ",'IN (mmol|L)'!D$21," / ",'IN (mmol|L)'!D$22," / ",'IN (mmol|L)'!D$23) -> Sport / Krankheit / Besonderheiten / Sonstiges
A71: =C$1 -> 41365 | B71: =IF('IN (mmol|L)'!$E$41=0,"",'IN (mmol|L)'!$E$41) -> 15 - 10 - 09/ 10+15 | C71: =IF('IN (mmol|L)'!$E$42=0,"",'IN (mmol|L)'!$E$42) -> 05 - 04 - 03 | D71: =IF(OR(B71="",C71=0),"",CONCATENATE(IF(LEFT(B71,2)*LEFT(C71,2)=0,"X",ROUND(LEFT(B71,2)/LEFT(C71,2),1))," - ",IF(MID(B71,6,2)*MID(C71,6,2)=0,"X",ROUND(MID(B71,6,2)/MID(C71,6,2),1))," - ",IF(MID(B71,11,2)*MID(C71,11,2)=0,"X",ROUND(MID(B71,11,2)/MID(C71,11,2),1)))) -> 3 - 2,5 - 3 | E71: =CONCATENATE('IN (mmol|L)'!E$43," / ",'IN (mmol|L)'!E$44," / ",'IN (mmol|L)'!E$45," / ",'IN (mmol|L)'!E$46) -> / / /
A72: =D$1 -> 41372 | B72: =IF('IN (mmol|L)'!$F$41=0,"",'IN (mmol|L)'!$F$41) -> 15 - 10 - 09/ 10+15 | C72: =IF('IN (mmol|L)'!$F$42=0,"",'IN (mmol|L)'!$F$42) -> 05 - 04 - 03 | D72: =IF(OR(B72="",C72=0),"",CONCATENATE(IF(LEFT(B72,2)*LEFT(C72,2)=0,"X",ROUND(LEFT(B72,2)/LEFT(C72,2),1))," - ",IF(MID(B72,6,2)*MID(C72,6,2)=0,"X",ROUND(MID(B72,6,2)/MID(C72,6,2),1))," - ",IF(MID(B72,11,2)*MID(C72,11,2)=0,"X",ROUND(MID(B72,11,2)/MID(C72,11,2),1)))) -> 3 - 2,5 - 3 | E72: =CONCATENATE('IN (mmol|L)'!F$43," / ",'IN (mmol|L)'!F$44," / ",'IN (mmol|L)'!F$45," / ",'IN (mmol|L)'!F$46) -> / / /
A73: =E$1 -> 41379 | B73: =IF('IN (mmol|L)'!$G$41=0,"",'IN (mmol|L)'!$G$41) -> 15 - 10 - 09/ 10+15 | C73: =IF('IN (mmol|L)'!$G$42=0,"",'IN (mmol|L)'!$G$42) -> 05 - 04 - 03 | D73: =IF(OR(B73="",C73=0),"",CONCATENATE(IF(LEFT(B73,2)*LEFT(C73,2)=0,"X",ROUND(LEFT(B73,2)/LEFT(C73,2),1))," - ",IF(MID(B73,6,2)*MID(C73,6,2)=0,"X",ROUND(MID(B73,6,2)/MID(C73,6,2),1))," - ",IF(MID(B73,11,2)*MID(C73,11,2)=0,"X",ROUND(MID(B73,11,2)/MID(C73,11,2),1)))) -> 3 - 2,5 - 3 | E73: =CONCATENATE('IN (mmol|L)'!G$43," / ",'IN (mmol|L)'!G$44," / ",'IN (mmol|L)'!G$45," / ",'IN (mmol|L)'!G$46) -> / / /
A74: =F$1 -> 41386 | B74: =IF('IN (mmol|L)'!$H$41=0,"",'IN (mmol|L)'!$H$41) -> 15 - 10 - 09/ 10+15 | C74: =IF('IN (mmol|L)'!$H$42=0,"",'IN (mmol|L)'!$H$42) -> 05 - 04 - 03 | D74: =IF(OR(B74="",C74=0),"",CONCATENATE(IF(LEFT(B74,2)*LEFT(C74,2)=0,"X",ROUND(LEFT(B74,2)/LEFT(C74,2),1))," - ",IF(MID(B74,6,2)*MID(C74,6,2)=0,"X",ROUND(MID(B74,6,2)/MID(C74,6,2),1))," - ",IF(MID(B74,11,2)*MID(C74,11,2)=0,"X",ROUND(MID(B74,11,2)/MID(C74,11,2),1)))) -> 3 - 2,5 - 3 | E74: =CONCATENATE('IN (mmol|L)'!H$43," / ",'IN (mmol|L)'!H$44," / ",'IN (mmol|L)'!H$45," / ",'IN (mmol|L)'!H$46) -> / / /
A75: =G$1 -> 41393 | B75: =IF('IN (mmol|L)'!$I$41=0,"",'IN (mmol|L)'!$I$41) -> 15 - 10 - 09/ 10+15 | C75: =IF('IN (mmol|L)'!$I$42=0,"",'IN (mmol|L)'!$I$42) -> 05 - 04 - 03 | D75: =IF(OR(B75="",C75=0),"",CONCATENATE(IF(LEFT(B75,2)*LEFT(C75,2)=0,"X",ROUND(LEFT(B75,2)/LEFT(C75,2),1))," - ",IF(MID(B75,6,2)*MID(C75,6,2)=0,"X",ROUND(MID(B75,6,2)/MID(C75,6,2),1))," - ",IF(MID(B75,11,2)*MID(C75,11,2)=0,"X",ROUND(MID(B75,11,2)/MID(C75,11,2),1)))) -> 3 - 2,5 - 3 | E75: =CONCATENATE('IN (mmol|L)'!I$43," / ",'IN (mmol|L)'!I$44," / ",'IN (mmol|L)'!I$45," / ",'IN (mmol|L)'!I$46) -> / / /
A76: =H$1 -> 41400 | B76: =IF('IN (mmol|L)'!$J$41=0,"",'IN (mmol|L)'!$J$41) -> 15 - 10 - 09/ 10+15 | C76: =IF('IN (mmol|L)'!$J$42=0,"",'IN (mmol|L)'!$J$42) -> 05 - 04 - 03 | D76: =IF(OR(B76="",C76=0),"",CONCATENATE(IF(LEFT(B76,2)*LEFT(C76,2)=0,"X",ROUND(LEFT(B76,2)/LEFT(C76,2),1))," - ",IF(MID(B76,6,2)*MID(C76,6,2)=0,"X",ROUND(MID(B76,6,2)/MID(C76,6,2),1))," - ",IF(MID(B76,11,2)*MID(C76,11,2)=0,"X",ROUND(MID(B76,11,2)/MID(C76,11,2),1)))) -> 3 - 2,5 - 3 | E76: =CONCATENATE('IN (mmol|L)'!J$43," / ",'IN (mmol|L)'!J$44," / ",'IN (mmol|L)'!J$45," / ",'IN (mmol|L)'!J$46) -> / / /
A77: =I$1 -> 41407 | B77: =IF('IN (mmol|L)'!$K$41=0,"",'IN (mmol|L)'!$K$41) -> 15 - 10 - 09/ 10+15 | C77: =IF('IN (mmol|L)'!$K$42=0,"",'IN (mmol|L)'!$K$42) -> 05 - 04 - 03 | D77: =IF(OR(B77="",C77=0),"",CONCATENATE(IF(LEFT(B77,2)*LEFT(C77,2)=0,"X",ROUND(LEFT(B77,2)/LEFT(C77,2),1))," - ",IF(MID(B77,6,2)*MID(C77,6,2)=0,"X",ROUND(MID(B77,6,2)/MID(C77,6,2),1))," - ",IF(MID(B77,11,2)*MID(C77,11,2)=0,"X",ROUND(MID(B77,11,2)/MID(C77,11,2),1)))) -> 3 - 2,5 - 3 | E77: =CONCATENATE('IN (mmol|L)'!K$43," / ",'IN (mmol|L)'!G$45," / ",'IN (mmol|L)'!K$45," / ",'IN (mmol|L)'!K$46) -> / / /
A78: =J$1 -> 41414 | B78: =IF('IN (mmol|L)'!$L$41=0,"",'IN (mmol|L)'!$L$41) -> 15 - 10 - 09/ 10+15 | C78: =IF('IN (mmol|L)'!$L$42=0,"",'IN (mmol|L)'!$L$42) -> 05 - 04 - 03 | D78: =IF(OR(B78="",C78=0),"",CONCATENATE(IF(LEFT(B78,2)*LEFT(C78,2)=0,"X",ROUND(LEFT(B78,2)/LEFT(C78,2),1))," - ",IF(MID(B78,6,2)*MID(C78,6,2)=0,"X",ROUND(MID(B78,6,2)/MID(C78,6,2),1))," - ",IF(MID(B78,11,2)*MID(C78,11,2)=0,"X",ROUND(MID(B78,11,2)/MID(C78,11,2),1)))) -> 3 - 2,5 - 3 | E78: =CONCATENATE('IN (mmol|L)'!L$43," / ",'IN (mmol|L)'!L$44," / ",'IN (mmol|L)'!L$45," / ",'IN (mmol|L)'!L$46) -> / / /
A79: =K$1 -> 41421 | B79: =IF('IN (mmol|L)'!$M$41=0,"",'IN (mmol|L)'!$M$41) -> 15 - 10 - 09/ 10+15 | C79: =IF('IN (mmol|L)'!$M$42=0,"",'IN (mmol|L)'!$M$42) -> 05 - 04 - 03 | D79: =IF(OR(B79="",C79=0),"",CONCATENATE(IF(LEFT(B79,2)*LEFT(C79,2)=0,"X",ROUND(LEFT(B79,2)/LEFT(C79,2),1))," - ",IF(MID(B79,6,2)*MID(C79,6,2)=0,"X",ROUND(MID(B79,6,2)/MID(C79,6,2),1))," - ",IF(MID(B79,11,2)*MID(C79,11,2)=0,"X",ROUND(MID(B79,11,2)/MID(C79,11,2),1)))) -> 3 - 2,5 - 3 | E79: =CONCATENATE('IN (mmol|L)'!M$43," / ",'IN (mmol|L)'!M$44," / ",'IN (mmol|L)'!M$45," / ",'IN (mmol|L)'!M$46) -> / / /
A80: =L$1 -> 41428 | B80: =IF('IN (mmol|L)'!$N$41=0,"",'IN (mmol|L)'!$N$41) -> 15 - 10 - 09/ 10+15 | C80: =IF('IN (mmol|L)'!$N$42=0,"",'IN (mmol|L)'!$N$42) -> 05 - 04 - 03 | D80: =IF(OR(B80="",C80=0),"",CONCATENATE(IF(LEFT(B80,2)*LEFT(C80,2)=0,"X",ROUND(LEFT(B80,2)/LEFT(C80,2),1))," - ",IF(MID(B80,6,2)*MID(C80,6,2)=0,"X",ROUND(MID(B80,6,2)/MID(C80,6,2),1))," - ",IF(MID(B80,11,2)*MID(C80,11,2)=0,"X",ROUND(MID(B80,11,2)/MID(C80,11,2),1)))) -> 3 - 2,5 - 3 | E80: =CONCATENATE('IN (mmol|L)'!N$43," / ",'IN (mmol|L)'!N$44," / ",'IN (mmol|L)'!N$45," / ",'IN (mmol|L)'!N$46) -> / / /
A81: =L$1 -> 41428 | B81: =IF('IN (mmol|L)'!$O$41=0,"",'IN (mmol|L)'!$O$41) -> 15 - 10 - 09/ 10+15 | C81: =IF('IN (mmol|L)'!$O$42=0,"",'IN (mmol|L)'!$O$42) -> 05 - 04 - 03 | D81: =IF(OR(B81="",C81=0),"",CONCATENATE(IF(LEFT(B81,2)*LEFT(C81,2)=0,"X",ROUND(LEFT(B81,2)/LEFT(C81,2),1))," - ",IF(MID(B81,6,2)*MID(C81,6,2)=0,"X",ROUND(MID(B81,6,2)/MID(C81,6,2),1))," - ",IF(MID(B81,11,2)*MID(C81,11,2)=0,"X",ROUND(MID(B81,11,2)/MID(C81,11,2),1)))) -> 3 - 2,5 - 3 | E81: =CONCATENATE('IN (mmol|L)'!O$43," / ",'IN (mmol|L)'!O$44," / ",'IN (mmol|L)'!O$45," / ",'IN (mmol|L)'!O$46) -> / / /
A82: =L$1 -> 41428 | B82: =IF('IN (mmol|L)'!$P$41=0,"",'IN (mmol|L)'!$P$41) -> 15 - 10 - 09/ 10+15 | C82: =IF('IN (mmol|L)'!$P$42=0,"",'IN (mmol|L)'!$P$42) -> 05 - 04 - 03 | D82: =IF(OR(B82="",C82=0),"",CONCATENATE(IF(LEFT(B82,2)*LEFT(C82,2)=0,"X",ROUND(LEFT(B82,2)/LEFT(C82,2),1))," - ",IF(MID(B82,6,2)*MID(C82,6,2)=0,"X",ROUND(MID(B82,6,2)/MID(C82,6,2),1))," - ",IF(MID(B82,11,2)*MID(C82,11,2)=0,"X",ROUND(MID(B82,11,2)/MID(C82,11,2),1)))) -> 3 - 2,5 - 3 | E82: =CONCATENATE('IN (mmol|L)'!P$43," / ",'IN (mmol|L)'!P$44," / ",'IN (mmol|L)'!P$45," / ",'IN (mmol|L)'!P$46) -> / / /
A83: =L$1 -> 41428 | B83: =IF('IN (mmol|L)'!$Q$41=0,"",'IN (mmol|L)'!$Q$41) -> 15 - 10 - 09/ 10+15 | C83: =IF('IN (mmol|L)'!$Q$42=0,"",'IN (mmol|L)'!$Q$42) -> 05 - 04 - 03 | D83: =IF(OR(B83="",C83=0),"",CONCATENATE(IF(LEFT(B83,2)*LEFT(C83,2)=0,"X",ROUND(LEFT(B83,2)/LEFT(C83,2),1))," - ",IF(MID(B83,6,2)*MID(C83,6,2)=0,"X",ROUND(MID(B83,6,2)/MID(C83,6,2),1))," - ",IF(MID(B83,11,2)*MID(C83,11,2)=0,"X",ROUND(MID(B83,11,2)/MID(C83,11,2),1)))) -> 3 - 2,5 - 3 | E83: =CONCATENATE('IN (mmol|L)'!Q$43," / ",'IN (mmol|L)'!Q$44," / ",'IN (mmol|L)'!Q$45," / ",'IN (mmol|L)'!Q$46) -> / / /

Sheet III.17
A1: ='IN (mmol|L)'!R64 -> III. Quartal | C1: ='IN (mmol|L)'!E59 -> 41456 | D1: ='IN (mmol|L)'!F59 -> 41463 | E1: ='IN (mmol|L)'!G59 -> 41470 | F1: ='IN (mmol|L)'!H59 -> 41477 | G1: ='IN (mmol|L)'!I59 -> 41484 | H1: ='IN (mmol|L)'!J59 -> 41491 | I1: ='IN (mmol|L)'!K59 -> 41498 | J1: ='IN (mmol|L)'!L59 -> 41505 | ... O1: ='IN (mmol|L)'!Q59 -> 41540
E36: =CONCATENATE(ROUND('IN (mmol|L)'!S60,1)," %") -> 7 % | M36: =CONCATENATE(ROUND('IN (mmol|L)'!S62,1)," %") -> 7 %
A37: HbA1c Wert der
I38: =CONCATENATE(ROUND('IN (mmol|L)'!S61,1)," %") -> 7 %
A39: Zeiträume
A40: (Näherung) | I40: =CONCATENATE(ROUND('IN (mmol|L)'!S59,1)," %") -> 7 %
A70: Tagebuch | B70: ='IN (mmol|L)'!D$18 -> I.E. / Basal | C70: ='IN (mmol|L)'!D$19 -> BE | D70: Faktor | E70: =CONCATENATE('IN (mmol|L)'!D$20," / ",'IN (mmol|L)'!D$21," / ",'IN (mmol|L)'!D$22," / ",'IN (mmol|L)'!D$23) -> Sport / Krankheit / Besonderheiten / Sonstiges
A71: =C$1 -> 41456 | B71: =IF('IN (mmol|L)'!$E$64=0,"",'IN (mmol|L)'!$E$64) -> 15 - 10 - 09/ 10+15 | C71: =IF('IN (mmol|L)'!$E$65=0,"",'IN (mmol|L)'!$E$65) -> 05 - 04 - 03 | D71: =IF(OR(B71="",C71=0),"",CONCATENATE(IF(LEFT(B71,2)*LEFT(C71,2)=0,"X",ROUND(LEFT(B71,2)/LEFT(C71,2),1))," - ",IF(MID(B71,6,2)*MID(C71,6,2)=0,"X",ROUND(MID(B71,6,2)/MID(C71,6,2),1))," - ",IF(MID(B71,11,2)*MID(C71,11,2)=0,"X",ROUND(MID(B71,11,2)/MID(C71,11,2),1)))) -> 3 - 2,5 - 3 | E71: =CONCATENATE('IN (mmol|L)'!E$66," / ",'IN (mmol|L)'!E$67," / ",'IN (mmol|L)'!E$68," / ",'IN (mmol|L)'!E$69) -> / / /
A72: =D$1 -> 41463 | B72: =IF('IN (mmol|L)'!$F$64=0,"",'IN (mmol|L)'!$F$64) -> 15 - 10 - 09/ 10+15 | C72: =IF('IN (mmol|L)'!$F$65=0,"",'IN (mmol|L)'!$F$65) -> 05 - 04 - 03 | D72: =IF(OR(B72="",C72=0),"",CONCATENATE(IF(LEFT(B72,2)*LEFT(C72,2)=0,"X",ROUND(LEFT(B72,2)/LEFT(C72,2),1))," - ",IF(MID(B72,6,2)*MID(C72,6,2)=0,"X",ROUND(MID(B72,6,2)/MID(C72,6,2),1))," - ",IF(MID(B72,11,2)*MID(C72,11,2)=0,"X",ROUND(MID(B72,11,2)/MID(C72,11,2),1)))) -> 3 - 2,5 - 3 | E72: =CONCATENATE('IN (mmol|L)'!F$66," / ",'IN (mmol|L)'!F$67," / ",'IN (mmol|L)'!F$68," / ",'IN (mmol|L)'!F$69) -> / / /
A73: =E$1 -> 41470 | B73: =IF('IN (mmol|L)'!$G$64=0,"",'IN (mmol|L)'!$G$64) -> 15 - 10 - 09/ 10+15 | C73: =IF('IN (mmol|L)'!$G$65=0,"",'IN (mmol|L)'!$G$65) -> 05 - 04 - 03 | D73: =IF(OR(B73="",C73=0),"",CONCATENATE(IF(LEFT(B73,2)*LEFT(C73,2)=0,"X",ROUND(LEFT(B73,2)/LEFT(C73,2),1))," - ",IF(MID(B73,6,2)*MID(C73,6,2)=0,"X",ROUND(MID(B73,6,2)/MID(C73,6,2),1))," - ",IF(MID(B73,11,2)*MID(C73,11,2)=0,"X",ROUND(MID(B73,11,2)/MID(C73,11,2),1)))) -> 3 - 2,5 - 3 | E73: =CONCATENATE('IN (mmol|L)'!G$66," / ",'IN (mmol|L)'!G$67," / ",'IN (mmol|L)'!G$68," / ",'IN (mmol|L)'!G$69) -> / / /
A74: =F$1 -> 41477 | B74: =IF('IN (mmol|L)'!$H$64=0,"",'IN (mmol|L)'!$H$64) -> 15 - 10 - 09/ 10+15 | C74: =IF('IN (mmol|L)'!$H$65=0,"",'IN (mmol|L)'!$H$65) -> 05 - 04 - 03 | D74: =IF(OR(B74="",C74=0),"",CONCATENATE(IF(LEFT(B74,2)*LEFT(C74,2)=0,"X",ROUND(LEFT(B74,2)/LEFT(C74,2),1))," - ",IF(MID(B74,6,2)*MID(C74,6,2)=0,"X",ROUND(MID(B74,6,2)/MID(C74,6,2),1))," - ",IF(MID(B74,11,2)*MID(C74,11,2)=0,"X",ROUND(MID(B74,11,2)/MID(C74,11,2),1)))) -> 3 - 2,5 - 3 | E74: =CONCATENATE('IN (mmol|L)'!H$66," / ",'IN (mmol|L)'!H$67," / ",'IN (mmol|L)'!H$68," / ",'IN (mmol|L)'!H$69) -> / / /
A75: =G$1 -> 41484 | B75: =IF('IN (mmol|L)'!$I$64=0,"",'IN (mmol|L)'!$I$64) -> 15 - 10 - 09/ 10+15 | C75: =IF('IN (mmol|L)'!$I$65=0,"",'IN (mmol|L)'!$I$65) -> 05 - 04 - 03 | D75: =IF(OR(B75="",C75=0),"",CONCATENATE(IF(LEFT(B75,2)*LEFT(C75,2)=0,"X",ROUND(LEFT(B75,2)/LEFT(C75,2),1))," - ",IF(MID(B75,6,2)*MID(C75,6,2)=0,"X",ROUND(MID(B75,6,2)/MID(C75,6,2),1))," - ",IF(MID(B75,11,2)*MID(C75,11,2)=0,"X",ROUND(MID(B75,11,2)/MID(C75,11,2),1)))) -> 3 - 2,5 - 3 | E75: =CONCATENATE('IN (mmol|L)'!I$66," / ",'IN (mmol|L)'!I$67," / ",'IN (mmol|L)'!K$68," / ",'IN (mmol|L)'!I$69) -> / / /
A76: =H$1 -> 41491 | B76: =IF('IN (mmol|L)'!$J$64=0,"",'IN (mmol|L)'!$J$64) -> 15 - 10 - 09/ 10+15 | C76: =IF('IN (mmol|L)'!$J$65=0,"",'IN (mmol|L)'!$J$65) -> 05 - 04 - 03 | D76: =IF(OR(B76="",C76=0),"",CONCATENATE(IF(LEFT(B76,2)*LEFT(C76,2)=0,"X",ROUND(LEFT(B76,2)/LEFT(C76,2),1))," - ",IF(MID(B76,6,2)*MID(C76,6,2)=0,"X",ROUND(MID(B76,6,2)/MID(C76,6,2),1))," - ",IF(MID(B76,11,2)*MID(C76,11,2)=0,"X",ROUND(MID(B76,11,2)/MID(C76,11,2),1)))) -> 3 - 2,5 - 3 | E76: =CONCATENATE('IN (mmol|L)'!J$66," / ",'IN (mmol|L)'!J$67," / ",'IN (mmol|L)'!J$68," / ",'IN (mmol|L)'!J$69) -> / / /
A77: =I$1 -> 41498 | B77: =IF('IN (mmol|L)'!$K$64=0,"",'IN (mmol|L)'!$K$64) -> 15 - 10 - 09/ 10+15 | C77: =IF('IN (mmol|L)'!$K$65=0,"",'IN (mmol|L)'!$K$65) -> 05 - 04 - 03 | D77: =IF(OR(B77="",C77=0),"",CONCATENATE(IF(LEFT(B77,2)*LEFT(C77,2)=0,"X",ROUND(LEFT(B77,2)/LEFT(C77,2),1))," - ",IF(MID(B77,6,2)*MID(C77,6,2)=0,"X",ROUND(MID(B77,6,2)/MID(C77,6,2),1))," - ",IF(MID(B77,11,2)*MID(C77,11,2)=0,"X",ROUND(MID(B77,11,2)/MID(C77,11,2),1)))) -> 3 - 2,5 - 3 | E77: =CONCATENATE('IN (mmol|L)'!K$66," / ",'IN (mmol|L)'!K$67," / ",'IN (mmol|L)'!K$68," / ",'IN (mmol|L)'!K$69) -> / / /
A78: =J$1 -> 41505 | B78: =IF('IN (mmol|L)'!$L$64=0,"",'IN (mmol|L)'!$L$64) -> 15 - 10 - 09/ 10+15 | C78: =IF('IN (mmol|L)'!$L$65=0,"",'IN (mmol|L)'!$L$65) -> 05 - 04 - 03 | D78: =IF(OR(B78="",C78=0),"",CONCATENATE(IF(LEFT(B78,2)*LEFT(C78,2)=0,"X",ROUND(LEFT(B78,2)/LEFT(C78,2),1))," - ",IF(MID(B78,6,2)*MID(C78,6,2)=0,"X",ROUND(MID(B78,6,2)/MID(C78,6,2),1))," - ",IF(MID(B78,11,2)*MID(C78,11,2)=0,"X",ROUND(MID(B78,11,2)/MID(C78,11,2),1)))) -> 3 - 2,5 - 3 | E78: =CONCATENATE('IN (mmol|L)'!L$66," / ",'IN (mmol|L)'!L$67," / ",'IN (mmol|L)'!L$68," / ",'IN (mmol|L)'!L$69) -> / / /
A79: =K$1 -> 41512 | B79: =IF('IN (mmol|L)'!$M$64=0,"",'IN (mmol|L)'!$M$64) -> 15 - 10 - 09/ 10+15 | C79: =IF('IN (mmol|L)'!$M$65=0,"",'IN (mmol|L)'!$M$65) -> 05 - 04 - 03 | D79: =IF(OR(B79="",C79=0),"",CONCATENATE(IF(LEFT(B79,2)*LEFT(C79,2)=0,"X",ROUND(LEFT(B79,2)/LEFT(C79,2),1))," - ",IF(MID(B79,6,2)*MID(C79,6,2)=0,"X",ROUND(MID(B79,6,2)/MID(C79,6,2),1))," - ",IF(MID(B79,11,2)*MID(C79,11,2)=0,"X",ROUND(MID(B79,11,2)/MID(C79,11,2),1)))) -> 3 - 2,5 - 3 | E79: =CONCATENATE('IN (mmol|L)'!M$66," / ",'IN (mmol|L)'!M$67," / ",'IN (mmol|L)'!M$68," / ",'IN (mmol|L)'!M$69) -> / / /
A80: =L$1 -> 41519 | B80: =IF('IN (mmol|L)'!$N$64=0,"",'IN (mmol|L)'!$N$64) -> 15 - 10 - 09/ 10+15 | C80: =IF('IN (mmol|L)'!$N$65=0,"",'IN (mmol|L)'!$N$65) -> 05 - 04 - 03 | D80: =IF(OR(B80="",C80=0),"",CONCATENATE(IF(LEFT(B80,2)*LEFT(C80,2)=0,"X",ROUND(LEFT(B80,2)/LEFT(C80,2),1))," - ",IF(MID(B80,6,2)*MID(C80,6,2)=0,"X",ROUND(MID(B80,6,2)/MID(C80,6,2),1))," - ",IF(MID(B80,11,2)*MID(C80,11,2)=0,"X",ROUND(MID(B80,11,2)/MID(C80,11,2),1)))) -> 3 - 2,5 - 3 | E80: =CONCATENATE('IN (mmol|L)'!N$66," / ",'IN (mmol|L)'!N$67," / ",'IN (mmol|L)'!N$68," / ",'IN (mmol|L)'!N$69) -> / / /
A81: =M$1 -> 41526 | B81: =IF('IN (mmol|L)'!$O$64=0,"",'IN (mmol|L)'!$O$64) -> 15 - 10 - 09/ 10+15 | C81: =IF('IN (mmol|L)'!$O$65=0,"",'IN (mmol|L)'!$O$65) -> 05 - 04 - 03 | D81: =IF(OR(B81="",C81=0),"",CONCATENATE(IF(LEFT(B81,2)*LEFT(C81,2)=0,"X",ROUND(LEFT(B81,2)/LEFT(C81,2),1))," - ",IF(MID(B81,6,2)*MID(C81,6,2)=0,"X",ROUND(MID(B81,6,2)/MID(C81,6,2),1))," - ",IF(MID(B81,11,2)*MID(C81,11,2)=0,"X",ROUND(MID(B81,11,2)/MID(C81,11,2),1)))) -> 3 - 2,5 - 3 | E81: =CONCATENATE('IN (mmol|L)'!O$66," / ",'IN (mmol|L)'!O$67," / ",'IN (mmol|L)'!O$68," / ",'IN (mmol|L)'!O$69) -> / / /
A82: =N$1 -> 41533 | B82: =IF('IN (mmol|L)'!$P$64=0,"",'IN (mmol|L)'!$P$64) -> 15 - 10 - 09/ 10+15 | C82: =IF('IN (mmol|L)'!$P$65=0,"",'IN (mmol|L)'!$P$65) -> 05 - 04 - 03 | D82: =IF(OR(B82="",C82=0),"",CONCATENATE(IF(LEFT(B82,2)*LEFT(C82,2)=0,"X",ROUND(LEFT(B82,2)/LEFT(C82,2),1))," - ",IF(MID(B82,6,2)*MID(C82,6,2)=0,"X",ROUND(MID(B82,6,2)/MID(C82,6,2),1))," - ",IF(MID(B82,11,2)*MID(C82,11,2)=0,"X",ROUND(MID(B82,11,2)/MID(C82,11,2),1)))) -> 3 - 2,5 - 3 | E82: =CONCATENATE('IN (mmol|L)'!P$66," / ",'IN (mmol|L)'!P$67," / ",'IN (mmol|L)'!P$68," / ",'IN (mmol|L)'!P$69) -> / / /
A83: =O$1 -> 41540 | B83: =IF('IN (mmol|L)'!$Q$64=0,"",'IN (mmol|L)'!$Q$64) -> 15 - 10 - 09/ 10+15 | C83: =IF('IN (mmol|L)'!$Q$65=0,"",'IN (mmol|L)'!$Q$65) -> 05 - 04 - 03 | D83: =IF(OR(B83="",C83=0),"",CONCATENATE(IF(LEFT(B83,2)*LEFT(C83,2)=0,"X",ROUND(LEFT(B83,2)/LEFT(C83,2),1))," - ",IF(MID(B83,6,2)*MID(C83,6,2)=0,"X",ROUND(MID(B83,6,2)/MID(C83,6,2),1))," - ",IF(MID(B83,11,2)*MID(C83,11,2)=0,"X",ROUND(MID(B83,11,2)/MID(C83,11,2),1)))) -> 3 - 2,5 - 3 | E83: =CONCATENATE('IN (mmol|L)'!Q$66," / ",'IN (mmol|L)'!Q$67," / ",'IN (mmol|L)'!Q$68," / ",'IN (mmol|L)'!Q$69) -> / / /

Sheet IV.17
A1: ='IN (mmol|L)'!R87 -> IV. Quartal | C1: ='IN (mmol|L)'!E82 -> 41547 | D1: ='IN (mmol|L)'!F82 -> 41554 | E1: ='IN (mmol|L)'!G82 -> 41561 | F1: ='IN (mmol|L)'!H82 -> 41568 | G1: ='IN (mmol|L)'!I82 -> 41575 | H1: ='IN (mmol|L)'!J82 -> 41582 | I1: ='IN (mmol|L)'!K82 -> 41589 | J1: ='IN (mmol|L)'!L82 -> 41596 | ... O1: ='IN (mmol|L)'!Q82 -> 41631
E36: =CONCATENATE(ROUND('IN (mmol|L)'!S83,1)," %") -> 7 % | M36: =CONCATENATE(ROUND('IN (mmol|L)'!S85,1)," %") -> 7 %
A37: HbA1c Wert der
I38: =CONCATENATE(ROUND('IN (mmol|L)'!S84,1)," %") -> 7 %
A39: Zeiträume
A40: (Näherung) | I40: =CONCATENATE(ROUND('IN (mmol|L)'!S82,1)," %") -> 7 %
A70: Tagebuch | B70: ='IN (mmol|L)'!D$18 -> I.E. / Basal | C70: ='IN (mmol|L)'!D$19 -> BE | D70: Faktor | E70: =CONCATENATE('IN (mmol|L)'!D$20," / ",'IN (mmol|L)'!D$21," / ",'IN (mmol|L)'!D$22," / ",'IN (mmol|L)'!D$23) -> Sport / Krankheit / Besonderheiten / Sonstiges
A71: =C$1 -> 41547 | B71: =IF('IN (mmol|L)'!$E$87=0,"",'IN (mmol|L)'!$E$87) -> 15 - 10 - 09/ 10+15 | C71: =IF('IN (mmol|L)'!$E$88=0,"",'IN (mmol|L)'!$E$88) -> 05 - 04 - 03 | D71: =IF(OR(B71="",C71=0),"",CONCATENATE(IF(LEFT(B71,2)*LEFT(C71,2)=0,"X",ROUND(LEFT(B71,2)/LEFT(C71,2),1))," - ",IF(MID(B71,6,2)*MID(C71,6,2)=0,"X",ROUND(MID(B71,6,2)/MID(C71,6,2),1))," - ",IF(MID(B71,11,2)*MID(C71,11,2)=0,"X",ROUND(MID(B71,11,2)/MID(C71,11,2),1)))) -> 3 - 2,5 - 3 | E71: =CONCATENATE('IN (mmol|L)'!E$89," / ",'IN (mmol|L)'!E$90," / ",'IN (mmol|L)'!E$91," / ",'IN (mmol|L)'!E$92) -> / / /
A72: =D$1 -> 41554 | B72: =IF('IN (mmol|L)'!$F$87=0,"",'IN (mmol|L)'!$F$87) -> 15 - 10 - 09/ 10+15 | C72: =IF('IN (mmol|L)'!$F$88=0,"",'IN (mmol|L)'!$F$88) -> 05 - 04 - 03 | D72: =IF(OR(B72="",C72=0),"",CONCATENATE(IF(LEFT(B72,2)*LEFT(C72,2)=0,"X",ROUND(LEFT(B72,2)/LEFT(C72,2),1))," - ",IF(MID(B72,6,2)*MID(C72,6,2)=0,"X",ROUND(MID(B72,6,2)/MID(C72,6,2),1))," - ",IF(MID(B72,11,2)*MID(C72,11,2)=0,"X",ROUND(MID(B72,11,2)/MID(C72,11,2),1)))) -> 3 - 2,5 - 3 | E72: =CONCATENATE('IN (mmol|L)'!F$89," / ",'IN (mmol|L)'!F$90," / ",'IN (mmol|L)'!F$91," / ",'IN (mmol|L)'!F$92) -> / / /
A73: =E$1 -> 41561 | B73: =IF('IN (mmol|L)'!$G$87=0,"",'IN (mmol|L)'!$G$87) -> 15 - 10 - 09/ 10+15 | C73: =IF('IN (mmol|L)'!$G$88=0,"",'IN (mmol|L)'!$G$88) -> 05 - 04 - 03 | D73: =IF(OR(B73="",C73=0),"",CONCATENATE(IF(LEFT(B73,2)*LEFT(C73,2)=0,"X",ROUND(LEFT(B73,2)/LEFT(C73,2),1))," - ",IF(MID(B73,6,2)*MID(C73,6,2)=0,"X",ROUND(MID(B73,6,2)/MID(C73,6,2),1))," - ",IF(MID(B73,11,2)*MID(C73,11,2)=0,"X",ROUND(MID(B73,11,2)/MID(C73,11,2),1)))) -> 3 - 2,5 - 3 | E73: =CONCATENATE('IN (mmol|L)'!G$89," / ",'IN (mmol|L)'!G$90," / ",'IN (mmol|L)'!G$91," / ",'IN (mmol|L)'!G$92) -> / / /
A74: =F$1 -> 41568 | B74: =IF('IN (mmol|L)'!$H$87=0,"",'IN (mmol|L)'!$H$87) -> 15 - 10 - 09/ 10+15 | C74: =IF('IN (mmol|L)'!$H$88=0,"",'IN (mmol|L)'!$H$88) -> 05 - 04 - 03 | D74: =IF(OR(B74="",C74=0),"",CONCATENATE(IF(LEFT(B74,2)*LEFT(C74,2)=0,"X",ROUND(LEFT(B74,2)/LEFT(C74,2),1))," - ",IF(MID(B74,6,2)*MID(C74,6,2)=0,"X",ROUND(MID(B74,6,2)/MID(C74,6,2),1))," - ",IF(MID(B74,11,2)*MID(C74,11,2)=0,"X",ROUND(MID(B74,11,2)/MID(C74,11,2),1)))) -> 3 - 2,5 - 3 | E74: =CONCATENATE('IN (mmol|L)'!H$89," / ",'IN (mmol|L)'!H$90," / ",'IN (mmol|L)'!H$91," / ",'IN (mmol|L)'!H$92) -> / / /
A75: =G$1 -> 41575 | B75: =IF('IN (mmol|L)'!$I$87=0,"",'IN (mmol|L)'!$I$87) -> 15 - 10 - 09/ 10+15 | C75: =IF('IN (mmol|L)'!$I$88=0,"",'IN (mmol|L)'!$I$88) -> 05 - 04 - 03 | D75: =IF(OR(B75="",C75=0),"",CONCATENATE(IF(LEFT(B75,2)*LEFT(C75,2)=0,"X",ROUND(LEFT(B75,2)/LEFT(C75,2),1))," - ",IF(MID(B75,6,2)*MID(C75,6,2)=0,"X",ROUND(MID(B75,6,2)/MID(C75,6,2),1))," - ",IF(MID(B75,11,2)*MID(C75,11,2)=0,"X",ROUND(MID(B75,11,2)/MID(C75,11,2),1)))) -> 3 - 2,5 - 3 | E75: =CONCATENATE('IN (mmol|L)'!I$89," / ",'IN (mmol|L)'!I$90," / ",'IN (mmol|L)'!I$91," / ",'IN (mmol|L)'!I$92) -> / / /
A76: =H$1 -> 41582 | B76: =IF('IN (mmol|L)'!$J$87=0,"",'IN (mmol|L)'!$J$87) -> 15 - 10 - 09/ 10+15 | C76: =IF('IN (mmol|L)'!$J$88=0,"",'IN (mmol|L)'!$J$88) -> 05 - 04 - 03 | D76: =IF(OR(B76="",C76=0),"",CONCATENATE(IF(LEFT(B76,2)*LEFT(C76,2)=0,"X",ROUND(LEFT(B76,2)/LEFT(C76,2),1))," - ",IF(MID(B76,6,2)*MID(C76,6,2)=0,"X",ROUND(MID(B76,6,2)/MID(C76,6,2),1))," - ",IF(MID(B76,11,2)*MID(C76,11,2)=0,"X",ROUND(MID(B76,11,2)/MID(C76,11,2),1)))) -> 3 - 2,5 - 3 | E76: =CONCATENATE('IN (mmol|L)'!J$89," / ",'IN (mmol|L)'!J$90," / ",'IN (mmol|L)'!J$91," / ",'IN (mmol|L)'!J$92) -> / / /
A77: =I$1 -> 41589 | B77: =IF('IN (mmol|L)'!$K$87=0,"",'IN (mmol|L)'!$K$87) -> 15 - 10 - 09/ 10+15 | C77: =IF('IN (mmol|L)'!$K$88=0,"",'IN (mmol|L)'!$K$88) -> 05 - 04 - 03 | D77: =IF(OR(B77="",C77=0),"",CONCATENATE(IF(LEFT(B77,2)*LEFT(C77,2)=0,"X",ROUND(LEFT(B77,2)/LEFT(C77,2),1))," - ",IF(MID(B77,6,2)*MID(C77,6,2)=0,"X",ROUND(MID(B77,6,2)/MID(C77,6,2),1))," - ",IF(MID(B77,11,2)*MID(C77,11,2)=0,"X",ROUND(MID(B77,11,2)/MID(C77,11,2),1)))) -> 3 - 2,5 - 3 | E77: =CONCATENATE('IN (mmol|L)'!K$89," / ",'IN (mmol|L)'!K$90," / ",'IN (mmol|L)'!K$91," / ",'IN (mmol|L)'!K$92) -> / / /
A78: =J$1 -> 41596 | B78: =IF('IN (mmol|L)'!$L$87=0,"",'IN (mmol|L)'!$L$87) -> 15 - 10 - 09/ 10+15 | C78: =IF('IN (mmol|L)'!$L$88=0,"",'IN (mmol|L)'!$L$88) -> 05 - 04 - 03 | D78: =IF(OR(B78="",C78=0),"",CONCATENATE(IF(LEFT(B78,2)*LEFT(C78,2)=0,"X",ROUND(LEFT(B78,2)/LEFT(C78,2),1))," - ",IF(MID(B78,6,2)*MID(C78,6,2)=0,"X",ROUND(MID(B78,6,2)/MID(C78,6,2),1))," - ",IF(MID(B78,11,2)*MID(C78,11,2)=0,"X",ROUND(MID(B78,11,2)/MID(C78,11,2),1)))) -> 3 - 2,5 - 3 | E78: =CONCATENATE('IN (mmol|L)'!L$89," / ",'IN (mmol|L)'!L$90," / ",'IN (mmol|L)'!L$91," / ",'IN (mmol|L)'!L$92) -> / / /
A79: =K$1 -> 41603 | B79: =IF('IN (mmol|L)'!$M$87=0,"",'IN (mmol|L)'!$M$87) -> 15 - 10 - 09/ 10+15 | C79: =IF('IN (mmol|L)'!$M$88=0,"",'IN (mmol|L)'!$M$88) -> 05 - 04 - 03 | D79: =IF(OR(B79="",C79=0),"",CONCATENATE(IF(LEFT(B79,2)*LEFT(C79,2)=0,"X",ROUND(LEFT(B79,2)/LEFT(C79,2),1))," - ",IF(MID(B79,6,2)*MID(C79,6,2)=0,"X",ROUND(MID(B79,6,2)/MID(C79,6,2),1))," - ",IF(MID(B79,11,2)*MID(C79,11,2)=0,"X",ROUND(MID(B79,11,2)/MID(C79,11,2),1)))) -> 3 - 2,5 - 3 | E79: =CONCATENATE('IN (mmol|L)'!M$89," / ",'IN (mmol|L)'!M$90," / ",'IN (mmol|L)'!M$91," / ",'IN (mmol|L)'!M$92) -> / / /
A80: =L$1 -> 41610 | B80: =IF('IN (mmol|L)'!$N$87=0,"",'IN (mmol|L)'!$N$87) -> 15 - 10 - 09/ 10+15 | C80: =IF('IN (mmol|L)'!$N$88=0,"",'IN (mmol|L)'!$N$88) -> 05 - 04 - 03 | D80: =IF(OR(B80="",C80=0),"",CONCATENATE(IF(LEFT(B80,2)*LEFT(C80,2)=0,"X",ROUND(LEFT(B80,2)/LEFT(C80,2),1))," - ",IF(MID(B80,6,2)*MID(C80,6,2)=0,"X",ROUND(MID(B80,6,2)/MID(C80,6,2),1))," - ",IF(MID(B80,11,2)*MID(C80,11,2)=0,"X",ROUND(MID(B80,11,2)/MID(C80,11,2),1)))) -> 3 - 2,5 - 3 | E80: =CONCATENATE('IN (mmol|L)'!N$89," / ",'IN (mmol|L)'!N$90," / ",'IN (mmol|L)'!N$91," / ",'IN (mmol|L)'!N$92) -> / / /
A81: =M$1 -> 41617 | B81: =IF('IN (mmol|L)'!$O$87=0,"",'IN (mmol|L)'!$O$87) -> 15 - 10 - 09/ 10+15 | C81: =IF('IN (mmol|L)'!$O$88=0,"",'IN (mmol|L)'!$O$88) -> 05 - 04 - 03 | D81: =IF(OR(B81="",C81=0),"",CONCATENATE(IF(LEFT(B81,2)*LEFT(C81,2)=0,"X",ROUND(LEFT(B81,2)/LEFT(C81,2),1))," - ",IF(MID(B81,6,2)*MID(C81,6,2)=0,"X",ROUND(MID(B81,6,2)/MID(C81,6,2),1))," - ",IF(MID(B81,11,2)*MID(C81,11,2)=0,"X",ROUND(MID(B81,11,2)/MID(C81,11,2),1)))) -> 3 - 2,5 - 3 | E81: =CONCATENATE('IN (mmol|L)'!O$89," / ",'IN (mmol|L)'!O$90," / ",'IN (mmol|L)'!O$91," / ",'IN (mmol|L)'!O$92) -> / / /
A82: =N$1 -> 41624 | B82: =IF('IN (mmol|L)'!$P$87=0,"",'IN (mmol|L)'!$P$87) -> 15 - 10 - 09/ 10+15 | C82: =IF('IN (mmol|L)'!$P$88=0,"",'IN (mmol|L)'!$P$88) -> 05 - 04 - 03 | D82: =IF(OR(B82="",C82=0),"",CONCATENATE(IF(LEFT(B82,2)*LEFT(C82,2)=0,"X",ROUND(LEFT(B82,2)/LEFT(C82,2),1))," - ",IF(MID(B82,6,2)*MID(C82,6,2)=0,"X",ROUND(MID(B82,6,2)/MID(C82,6,2),1))," - ",IF(MID(B82,11,2)*MID(C82,11,2)=0,"X",ROUND(MID(B82,11,2)/MID(C82,11,2),1)))) -> 3 - 2,5 - 3 | E82: =CONCATENATE('IN (mmol|L)'!P$89," / ",'IN (mmol|L)'!P$90," / ",'IN (mmol|L)'!P$91," / ",'IN (mmol|L)'!P$92) -> / / /
A83: =O$1 -> 41631 | B83: =IF('IN (mmol|L)'!$Q$87=0,"",'IN (mmol|L)'!$Q$87) -> 15 - 10 - 09/ 10+15 | C83: =IF('IN (mmol|L)'!$Q$88=0,"",'IN (mmol|L)'!$Q$88) -> 05 - 04 - 03 | D83: =IF(OR(B83="",C83=0),"",CONCATENATE(IF(LEFT(B83,2)*LEFT(C83,2)=0,"X",ROUND(LEFT(B83,2)/LEFT(C83,2),1))," - ",IF(MID(B83,6,2)*MID(C83,6,2)=0,"X",ROUND(MID(B83,6,2)/MID(C83,6,2),1))," - ",IF(MID(B83,11,2)*MID(C83,11,2)=0,"X",ROUND(MID(B83,11,2)/MID(C83,11,2),1)))) -> 3 - 2,5 - 3 | E83: =CONCATENATE('IN (mmol|L)'!Q$89," / ",'IN (mmol|L)'!Q$90," / ",'IN (mmol|L)'!Q$91," / ",'IN (mmol|L)'!Q$92) -> / / /

Sheet Zwischendurch
A1: ='IN (mmol|L)'!R111 -> Zwischendurch | C1: ='IN (mmol|L)'!E106 -> 41274 | D1: ='IN (mmol|L)'!F106 -> 41277.5 | E1: ='IN (mmol|L)'!G106 -> 41281 | F1: ='IN (mmol|L)'!H106 -> 41284.5 | G1: ='IN (mmol|L)'!I106 -> 41288 | H1: ='IN (mmol|L)'!J106 -> 41291.5 | I1: ='IN (mmol|L)'!K106 -> 41295 | J1: ='IN (mmol|L)'!L106 -> 41298.5 | ... O1: ='IN (mmol|L)'!Q106 -> 41326.5
A36: HbA1c Wert der | D36: =CONCATENATE(ROUND('IN (mmol|L)'!S107,1)," %") -> 7,6 % | M36: =CONCATENATE(ROUND('IN (mmol|L)'!S109,1)," %") -> 7 %
H37: =CONCATENATE(ROUND('IN (mmol|L)'!S108,1)," %") -> 7,7 % | N37: Trend
A38: Zeiträume
A39: (Näherung) | H39: =CONCATENATE(ROUND('IN (mmol|L)'!S106,1)," %") -> 7,3 %
S45: grüner Bereich
S46: von
S47: 3.3 | T47: mmol/L
S49: 9.2 | T49: mmol/L
A106: Tagebuch | B106: ='IN (mmol|L)'!D$18 -> I.E. / Basal | C106: ='IN (mmol|L)'!D$19 -> BE | D106: Faktor | E106: Fazit | F106: =CONCATENATE('IN (mmol|L)'!D$20," / ",'IN (mmol|L)'!D$21," / ",'IN (mmol|L)'!D$22," / ",'IN (mmol|L)'!D$23) -> Sport / Krankheit / Besonderheiten / Sonstiges
A107: =C$1 -> 41274 | B107: =IF('IN (mmol|L)'!$E$111=0,"",'IN (mmol|L)'!$E$111) -> 15 - 10 - 09/ 10+15 | C107: =IF('IN (mmol|L)'!$E$112=0,"",'IN (mmol|L)'!$E$112) -> 05 - 04 - 03 | D107: =IF(OR(B107="",C107=0),"",CONCATENATE(IF(LEFT(B107,2)*LEFT(C107,2)=0,"X",ROUND(LEFT(B107,2)/LEFT(C107,2),1))," - ",IF(MID(B107,6,2)*MID(C107,6,2)=0,"X",ROUND(MID(B107,6,2)/MID(C107,6,2),1))," - ",IF(MID(B107,11,2)*MID(C107,11,2)=0,"X",ROUND(MID(B107,11,2)/MID(C107,11,2),1)))) -> 3 - 2,5 - 3 | E107: ='(intern2)'!BA200 -> Faktor höher: 1x | F107: =CONCATENATE('IN (mmol|L)'!E$113," / ",'IN (mmol|L)'!E$114," / ",'IN (mmol|L)'!E$115," / ",'IN (mmol|L)'!E$116) -> …ist Mord / Geldarmut / mag nicht mehr / immer frisch bleiben
A108: =D$1 -> 41277.5 | B108: =IF('IN (mmol|L)'!$F$111=0,"",'IN (mmol|L)'!$F$111) -> 15 - 10 - 09/ 10+15 | C108: =IF('IN (mmol|L)'!$F$112=0,"",'IN (mmol|L)'!$F$112) -> 05 - 04 - 03 | D108: =IF(OR(B108="",C108=0),"",CONCATENATE(IF(LEFT(B108,2)*LEFT(C108,2)=0,"X",ROUND(LEFT(B108,2)/LEFT(C108,2),1))," - ",IF(MID(B108,6,2)*MID(C108,6,2)=0,"X",ROUND(MID(B108,6,2)/MID(C108,6,2),1))," - ",IF(MID(B108,11,2)*MID(C108,11,2)=0,"X",ROUND(MID(B108,11,2)/MID(C108,11,2),1)))) -> 3 - 2,5 - 3 | E108: ='(intern2)'!BA201 -> Faktor höher: 2x | F108: =CONCATENATE('IN (mmol|L)'!F$113," / ",'IN (mmol|L)'!F$114," / ",'IN (mmol|L)'!F$115," / ",'IN (mmol|L)'!F$116) -> / / /
A109: =E$1 -> 41281 | B109: =IF('IN (mmol|L)'!$G$111=0,"",'IN (mmol|L)'!$G$111) -> 15 - 10 - 09/ 10+15 | C109: =IF('IN (mmol|L)'!$G$112=0,"",'IN (mmol|L)'!$G$112) -> 05 - 04 - 03 | D109: =IF(OR(B109="",C109=0),"",CONCATENATE(IF(LEFT(B109,2)*LEFT(C109,2)=0,"X",ROUND(LEFT(B109,2)/LEFT(C109,2),1))," - ",IF(MID(B109,6,2)*MID(C109,6,2)=0,"X",ROUND(MID(B109,6,2)/MID(C109,6,2),1))," - ",IF(MID(B109,11,2)*MID(C109,11,2)=0,"X",ROUND(MID(B109,11,2)/MID(C109,11,2),1)))) -> 3 - 2,5 - 3 | E109: ='(intern2)'!BA202 -> Faktor höher: 1x | F109: =CONCATENATE('IN (mmol|L)'!H$113," / ",'IN (mmol|L)'!G$114," / ",'IN (mmol|L)'!G$115," / ",'IN (mmol|L)'!G$116) -> / Kopfweh / /
A110: =F$1 -> 41284.5 | B110: =IF('IN (mmol|L)'!$H$111=0,"",'IN (mmol|L)'!$H$111) -> 15 - 10 - 09/ 10+15 | C110: =IF('IN (mmol|L)'!$H$112=0,"",'IN (mmol|L)'!$H$112) -> 05 - 04 - 03 | D110: =IF(OR(B110="",C110=0),"",CONCATENATE(IF(LEFT(B110,2)*LEFT(C110,2)=0,"X",ROUND(LEFT(B110,2)/LEFT(C110,2),1))," - ",IF(MID(B110,6,2)*MID(C110,6,2)=0,"X",ROUND(MID(B110,6,2)/MID(C110,6,2),1))," - ",IF(MID(B110,11,2)*MID(C110,11,2)=0,"X",ROUND(MID(B110,11,2)/MID(C110,11,2),1)))) -> 3 - 2,5 - 3 | E110: ='(intern2)'!BA203 -> Faktor höher: 1x | F110: =CONCATENATE('IN (mmol|L)'!H$113," / ",'IN (mmol|L)'!H$114," / ",'IN (mmol|L)'!H$115," / ",'IN (mmol|L)'!H$116) -> / / /
A111: =G$1 -> 41288 | B111: =IF('IN (mmol|L)'!$I$111=0,"",'IN (mmol|L)'!$I$111) -> 15 - 10 - 09/ 10+15 | C111: =IF('IN (mmol|L)'!$I$112=0,"",'IN (mmol|L)'!$I$112) -> 05 - 04 - 03 | D111: =IF(OR(B111="",C111=0),"",CONCATENATE(IF(LEFT(B111,2)*LEFT(C111,2)=0,"X",ROUND(LEFT(B111,2)/LEFT(C111,2),1))," - ",IF(MID(B111,6,2)*MID(C111,6,2)=0,"X",ROUND(MID(B111,6,2)/MID(C111,6,2),1))," - ",IF(MID(B111,11,2)*MID(C111,11,2)=0,"X",ROUND(MID(B111,11,2)/MID(C111,11,2),1)))) -> 3 - 2,5 - 3 | E111: ='(intern2)'!BA204 -> weiter so | F111: =CONCATENATE('IN (mmol|L)'!I$113," / ",'IN (mmol|L)'!I$114," / ",'IN (mmol|L)'!I$115," / ",'IN (mmol|L)'!I$116) -> / / /
A112: =H$1 -> 41291.5 | B112: =IF('IN (mmol|L)'!$J$111=0,"",'IN (mmol|L)'!$J$111) -> 15 - 10 - 09/ 10+15 | C112: =IF('IN (mmol|L)'!$J$112=0,"",'IN (mmol|L)'!$J$112) -> 05 - 04 - 03 | D112: =IF(OR(B112="",C112=0),"",CONCATENATE(IF(LEFT(B112,2)*LEFT(C112,2)=0,"X",ROUND(LEFT(B112,2)/LEFT(C112,2),1))," - ",IF(MID(B112,6,2)*MID(C112,6,2)=0,"X",ROUND(MID(B112,6,2)/MID(C112,6,2),1))," - ",IF(MID(B112,11,2)*MID(C112,11,2)=0,"X",ROUND(MID(B112,11,2)/MID(C112,11,2),1)))) -> 3 - 2,5 - 3 | E112: ='(intern2)'!BA205 -> Faktor höher: 2x | F112: =CONCATENATE('IN (mmol|L)'!J$113," / ",'IN (mmol|L)'!J$114," / ",'IN (mmol|L)'!J$115," / ",'IN (mmol|L)'!J$116) -> / / /
A113: =I$1 -> 41295 | B113: =IF('IN (mmol|L)'!$K$111=0,"",'IN (mmol|L)'!$K$111) -> 15 - 10 - 09/ 10+15 | C113: =IF('IN (mmol|L)'!$K$112=0,"",'IN (mmol|L)'!$K$112) -> 05 - 04 - 03 | D113: =IF(OR(B113="",C113=0),"",CONCATENATE(IF(LEFT(B113,2)*LEFT(C113,2)=0,"X",ROUND(LEFT(B113,2)/LEFT(C113,2),1))," - ",IF(MID(B113,6,2)*MID(C113,6,2)=0,"X",ROUND(MID(B113,6,2)/MID(C113,6,2),1))," - ",IF(MID(B113,11,2)*MID(C113,11,2)=0,"X",ROUND(MID(B113,11,2)/MID(C113,11,2),1)))) -> 3 - 2,5 - 3 | E113: ='(intern2)'!BA206 -> Faktor höher: 2x | F113: =CONCATENATE('IN (mmol|L)'!K$113," / ",'IN (mmol|L)'!K$114," / ",'IN (mmol|L)'!K$115," / ",'IN (mmol|L)'!K$116) -> / / /
A114: =J$1 -> 41298.5 | B114: =IF('IN (mmol|L)'!$L$111=0,"",'IN (mmol|L)'!$L$111) -> 15 - 10 - 09/ 10+15 | C114: =IF('IN (mmol|L)'!$L$112=0,"",'IN (mmol|L)'!$L$112) -> 05 - 04 - 03 | D114: =IF(OR(B114="",C114=0),"",CONCATENATE(IF(LEFT(B114,2)*LEFT(C114,2)=0,"X",ROUND(LEFT(B114,2)/LEFT(C114,2),1))," - ",IF(MID(B114,6,2)*MID(C114,6,2)=0,"X",ROUND(MID(B114,6,2)/MID(C114,6,2),1))," - ",IF(MID(B114,11,2)*MID(C114,11,2)=0,"X",ROUND(MID(B114,11,2)/MID(C114,11,2),1)))) -> 3 - 2,5 - 3 | E114: ='(intern2)'!BA207 -> Faktor höher: 1x | F114: =CONCATENATE('IN (mmol|L)'!L$113," / ",'IN (mmol|L)'!L$114," / ",'IN (mmol|L)'!L$115," / ",'IN (mmol|L)'!L$116) -> / / /
A115: =K$1 -> 41302 | B115: =IF('IN (mmol|L)'!$M$111=0,"",'IN (mmol|L)'!$M$111) -> 15 - 10 - 09/ 10+15 | C115: =IF('IN (mmol|L)'!$M$112=0,"",'IN (mmol|L)'!$M$112) -> 05 - 04 - 03 | D115: =IF(OR(B115="",C115=0),"",CONCATENATE(IF(LEFT(B115,2)*LEFT(C115,2)=0,"X",ROUND(LEFT(B115,2)/LEFT(C115,2),1))," - ",IF(MID(B115,6,2)*MID(C115,6,2)=0,"X",ROUND(MID(B115,6,2)/MID(C115,6,2),1))," - ",IF(MID(B115,11,2)*MID(C115,11,2)=0,"X",ROUND(MID(B115,11,2)/MID(C115,11,2),1)))) -> 3 - 2,5 - 3 | E115: ='(intern2)'!BA208 -> weiter so | F115: =CONCATENATE('IN (mmol|L)'!M$113," / ",'IN (mmol|L)'!M$114," / ",'IN (mmol|L)'!M$115," / ",'IN (mmol|L)'!M$116) -> / / /
A116: =L$1 -> 41305.5 | B116: =IF('IN (mmol|L)'!$N$111=0,"",'IN (mmol|L)'!$N$111) -> 15 - 10 - 09/ 10+15 | C116: =IF('IN (mmol|L)'!$N$112=0,"",'IN (mmol|L)'!$N$112) -> 05 - 04 - 03 | D116: =IF(OR(B116="",C116=0),"",CONCATENATE(IF(LEFT(B116,2)*LEFT(C116,2)=0,"X",ROUND(LEFT(B116,2)/LEFT(C116,2),1))," - ",IF(MID(B116,6,2)*MID(C116,6,2)=0,"X",ROUND(MID(B116,6,2)/MID(C116,6,2),1))," - ",IF(MID(B116,11,2)*MID(C116,11,2)=0,"X",ROUND(MID(B116,11,2)/MID(C116,11,2),1)))) -> 3 - 2,5 - 3 | E116: ='(intern2)'!BA209 -> Faktor höher: 1x | F116: =CONCATENATE('IN (mmol|L)'!N$113," / ",'IN (mmol|L)'!N$114," / ",'IN (mmol|L)'!N$115," / ",'IN (mmol|L)'!N$116) -> / / /
A117: =M$1 -> 41312.5 | B117: =IF('IN (mmol|L)'!$O$111=0,"",'IN (mmol|L)'!$O$111) -> Trend | C117: =IF('IN (mmol|L)'!$O$112=0,"",'IN (mmol|L)'!$O$112) -> Trend | D117: =IF('IN (mmol|L)'!$O$112=0,"",'IN (mmol|L)'!$O$112) -> Trend | F117: =CONCATENATE('IN (mmol|L)'!O$113," / ",'IN (mmol|L)'!O$114," / ",'IN (mmol|L)'!O$115," / ",'IN (mmol|L)'!O$116) -> Trend / Trend / Trend / Trend
A118: =N$1 -> 41319.5 | B118: =IF('IN (mmol|L)'!$P$111=0,"",'IN (mmol|L)'!$P$111) -> Trend | C118: =IF('IN (mmol|L)'!$P$112=0,"",'IN (mmol|L)'!$P$112) -> Trend | D118: =IF('IN (mmol|L)'!$P$112=0,"",'IN (mmol|L)'!$P$112) -> Trend | F118: =CONCATENATE('IN (mmol|L)'!P$113," / ",'IN (mmol|L)'!P$114," / ",'IN (mmol|L)'!P$115," / ",'IN (mmol|L)'!P$116) -> Trend / Trend / Trend / Trend
A119: =O$1 -> 41326.5 | B119: =IF('IN (mmol|L)'!$Q$111=0,"",'IN (mmol|L)'!$Q$111) -> Trend | C119: =IF('IN (mmol|L)'!$Q$112=0,"",'IN (mmol|L)'!$Q$112) -> Trend | D119: =IF('IN (mmol|L)'!$Q$112=0,"",'IN (mmol|L)'!$Q$112) -> Trend | F119: =CONCATENATE('IN (mmol|L)'!Q$113," / ",'IN (mmol|L)'!Q$114," / ",'IN (mmol|L)'!Q$115," / ",'IN (mmol|L)'!Q$116) -> Trend / Trend / Trend / Trend

Sheet hjt-pp
B1: - - - - - | C1: pp-Nr01 | D1: pp-Nr02 | E1: pp-Nr03 | F1: pp-Nr04 | G1: pp-Nr05 | H1: Mittelwert
B2: Ziel | C2: 20.08. früh | D2: 30.04. früh | E2: 03.05. früh | F2: 11.05. früh | G2: 17.05. früh | H2: Xquer
A3: vorher | B3: 6.6666667 | C3: 6.3 | D3: 7.7777778 | E3: 8.6111111 | F3: 8.5 | G3: 7.4444444 | H3: =AVERAGE(C3:G3) -> 7.7266667 | I3: * vorher = SEA 20-30 Minuten
A4: essen | B4: 6.6666667 | C4: 7.2 | D4: 7.5 | E4: 7.4444444 | F4: 7.1666667 | G4: 7.2777778 | H4: =AVERAGE(C4:G4) -> 7.3177778
A5: 1h | B5: 9.1666667 | C5: 10.3 | D5: 10.888889 | E5: 11.5 | F5: 15.388889 | G5: 12.555556 | H5: =AVERAGE(C5:G5) -> 12.126667 | M5: = Sch… gelaufen
A6: 2h | B6: 8.0555556 | C6: 9.5 | D6: 11.055556 | E6: 13.055556 | F6: 14.833333 | G6: 11.777778 | H6: =AVERAGE(C6:G6) -> 12.044444 | I6: * seit 25.4. 10 IE Basal! (nur früh)
A7: 3h | B7: 6.9444444 | C7: 6.5 | D7: 9.7777778 | E7: 8.7777778 | F7: 11.888889 | G7: 8.6666667 | H7: =AVERAGE(C7:G7) -> 9.1222222
A8: 4h | B8: 6.6666667 | C8: 6.3 | D8: 9.8888889 | E8: 4.2777778 | F8: 8.4444444 | G8: 6.5555556 | H8: =AVERAGE(C8:G8) -> 7.0933333
B12: =B2 -> Ziel | C12: =C2 -> 20.08. früh | D12: =D2 -> 30.04. früh | E12: =E2 -> 03.05. früh | F12: =F2 -> 11.05. früh | G12: =G2 -> 17.05. früh | H12: =H2 -> Xquer | I12: Abweichung
A13: =A3 -> vorher | B13: =B3 -> 6.6666667 | C13: =C3-$B13 -> -0.36666667 | D13: =D3-$B13 -> 1.1111111 | E13: =E3-$B13 -> 1.9444444 | F13: =F3-$B13 -> 1.8333333 | G13: =G3-$B13 -> 0.77777778 | H13: =H3-$B13 -> 1.06 | I13: 0
A14: =A4 -> essen | B14: =B4 -> 6.6666667 | C14: =C4-$B14 -> 0.53333333 | D14: =D4-$B14 -> 0.83333333 | E14: =E4-$B14 -> 0.77777778 | F14: =F4-$B14 -> 0.5 | G14: =G4-$B14 -> 0.61111111 | H14: =H4-$B14 -> 0.65111111 | I14: 0
A15: =A5 -> 1h | B15: =B5 -> 9.1666667 | C15: =C5-$B15 -> 1.1333333 | D15: =D5-$B15 -> 1.7222222 | E15: =E5-$B15 -> 2.3333333 | F15: =F5-$B15 -> 6.2222222 | G15: =G5-$B15 -> 3.3888889 | H15: =H5-$B15 -> 2.96 | I15: 0
A16: =A6 -> 2h | B16: =B6 -> 8.0555556 | C16: =C6-$B16 -> 1.4444444 | D16: =D6-$B16 -> 3 | E16: =E6-$B16 -> 5 | F16: =F6-$B16 -> 6.7777778 | G16: =G6-$B16 -> 3.7222222 | H16: =H6-$B16 -> 3.9888889 | I16: 0
A17: =A7 -> 3h | B17: =B7 -> 6.9444444 | C17: =C7-$B17 -> -0.44444444 | D17: =D7-$B17 -> 2.8333333 | E17: =E7-$B17 -> 1.8333333 | F17: =F7-$B17 -> 4.9444444 | G17: =G7-$B17 -> 1.7222222 | H17: =H7-$B17 -> 2.1777778 | I17: 0
A18: =A8 -> 4h | B18: =B8 -> 6.6666667 | C18: =C8-$B18 -> -0.36666667 | D18: =D8-$B18 -> 3.2222222 | E18: =E8-$B18 -> -2.3888889 | F18: =F8-$B18 -> 1.7777778 | G18: =G8-$B18 -> -0.11111111 | H18: =H8-$B18 -> 0.42666667 | I18: 0

Sheet Verteilung
AN1: Ziel:
AN2: σ < 2,5
AK6: f | AL6: =CONCATENATE("n=",'(intern)'!M80) -> n=15 | AM6: σ= | AN6: ='(intern)'!BB137 -> 0.11340489
AK8: m | AL8: =CONCATENATE("n=",'(intern)'!M82) -> n=14 | AM8: σ= | AN8: ='(intern)'!BB139 -> 1.5663631
AK10: a | AL10: =CONCATENATE("n=",'(intern)'!M84) -> n=15 | AM10: σ= | AN10: ='(intern)'!BB141 -> 1.5175602
AL12: =CONCATENATE("n=",'(intern)'!M92) -> n=128 | AM12: σ= | AN12: 1.8
AK20: f | AL20: =CONCATENATE("n=",'(intern)'!M81) -> n=13 | AM20: σ= | AN20: ='(intern)'!BB138 -> 1.06379
AK22: m | AL22: =CONCATENATE("n=",'(intern)'!M83) -> n=12 | AM22: σ= | AN22: ='(intern)'!BB140 -> 1.9778846
AK24: a | AL24: =CONCATENATE("n=",'(intern)'!M85) -> n=14 | AM24: σ= | AN24: ='(intern)'!BB142 -> 2.4410873
AL26: =CONCATENATE("n=",'(intern)'!M93) -> n=128 | AM26: σ= | AN26: 1.8
AK34: S | AL34: =CONCATENATE("n=",'(intern)'!M86) -> n=14 | AM34: σ= | AN34: ='(intern)'!BB143 -> 1.6316469
AK36: N | AL36: =CONCATENATE("n=",'(intern)'!M87) -> n=14 | AM36: σ= | AN36: ='(intern)'!BB144 -> 0.44007698
AK38: F | AL38: =CONCATENATE("n=",'(intern)'!M88) -> n=11 | AM38: σ= | AN38: ='(intern)'!BB145 -> 0.11105049
AL40: =CONCATENATE("n=",'(intern)'!M92) -> n=128 | AM40: σ= | AN40: 1.8
AN45: =AVERAGE(AN34:AN38,AN20:AN24,AN6:AN10) -> 1.206985

Sheet Leerseite

Sheet (intern)
B1: ='IN (mmol|L)'!R18 -> I. Quartal | O1: ='IN (mmol|L)'!R41 -> II. Quartal | AB1: ='IN (mmol|L)'!R64 -> III. Quartal | AO1: ='IN (mmol|L)'!R87 -> IV. Quartal | BB1: Statistik | BF1: ='IN (mmol|L)'!R111 -> Zwischendurch
B2: ='IN (mmol|L)'!E13 -> 41274 | C2: =IF(MONTH('IN (mmol|L)'!E13)=MONTH('IN (mmol|L)'!F13),"",'IN (mmol|L)'!F13) | D2: =IF(MONTH('IN (mmol|L)'!F13)=MONTH('IN (mmol|L)'!G13),"",'IN (mmol|L)'!G13) | E2: =IF(MONTH('IN (mmol|L)'!G13)=MONTH('IN (mmol|L)'!H13),"",'IN (mmol|L)'!H13) | F2: =IF(MONTH('IN (mmol|L)'!H13)=MONTH('IN (mmol|L)'!I13),"",'IN (mmol|L)'!I13) | G2: =IF(MONTH('IN (mmol|L)'!I13)=MONTH('IN (mmol|L)'!J13),"",'IN (mmol|L)'!J13) -> 41309 | H2: =IF(MONTH('IN (mmol|L)'!J13)=MONTH('IN (mmol|L)'!K13),"",'IN (mmol|L)'!K13) | I2: =IF(MONTH('IN (mmol|L)'!K13)=MONTH('IN (mmol|L)'!L13),"",'IN (mmol|L)'!L13) | J2: =IF(MONTH('IN (mmol|L)'!L13)=MONTH('IN (mmol|L)'!M13),"",'IN (mmol|L)'!M13) | ... N2: =IF(MONTH('IN (mmol|L)'!P13)=MONTH('IN (mmol|L)'!Q13),"",'IN (mmol|L)'!Q13) | O2: ='IN (mmol|L)'!E36 -> 41365 | P2: =IF(MONTH('IN (mmol|L)'!E36)=MONTH('IN (mmol|L)'!F36),"",'IN (mmol|L)'!F36) | Q2: =IF(MONTH('IN (mmol|L)'!F36)=MONTH('IN (mmol|L)'!G36),"",'IN (mmol|L)'!G36) | R2: =IF(MONTH('IN (mmol|L)'!G36)=MONTH('IN (mmol|L)'!H36),"",'IN (mmol|L)'!H36) | S2: =IF(MONTH('IN (mmol|L)'!H36)=MONTH('IN (mmol|L)'!I36),"",'IN (mmol|L)'!I36) | T2: =IF(MONTH('IN (mmol|L)'!I36)=MONTH('IN (mmol|L)'!J36),"",'IN (mmol|L)'!J36) -> 41400 | U2: =IF(MONTH('IN (mmol|L)'!J36)=MONTH('IN (mmol|L)'!K36),"",'IN (mmol|L)'!K36) | V2: =IF(MONTH('IN (mmol|L)'!K36)=MONTH('IN (mmol|L)'!L36),"",'IN (mmol|L)'!L36) | W2: =IF(MONTH('IN (mmol|L)'!L36)=MONTH('IN (mmol|L)'!M36),"",'IN (mmol|L)'!M36) | ... AA2: =IF(MONTH('IN (mmol|L)'!P36)=MONTH('IN (mmol|L)'!Q36),"",'IN (mmol|L)'!Q36) | AB2: ='IN (mmol|L)'!E59 -> 41456 | AC2: =IF(MONTH('IN (mmol|L)'!E59)=MONTH('IN (mmol|L)'!F59),"",'IN (mmol|L)'!F59) | AD2: =IF(MONTH('IN (mmol|L)'!F59)=MONTH('IN (mmol|L)'!G59),"",'IN (mmol|L)'!G59) | AE2: =IF(MONTH('IN (mmol|L)'!G59)=MONTH('IN (mmol|L)'!H59),"",'IN (mmol|L)'!H59) | AF2: =IF(MONTH('IN (mmol|L)'!H59)=MONTH('IN (mmol|L)'!I59),"",'IN (mmol|L)'!I59) | AG2: =IF(MONTH('IN (mmol|L)'!I59)=MONTH('IN (mmol|L)'!J59),"",'IN (mmol|L)'!J59) -> 41491 | AH2: =IF(MONTH('IN (mmol|L)'!J59)=MONTH('IN (mmol|L)'!K59),"",'IN (mmol|L)'!K59) | AI2: =IF(MONTH('IN (mmol|L)'!K59)=MONTH('IN (mmol|L)'!L59),"",'IN (mmol|L)'!L59) | AJ2: =IF(MONTH('IN (mmol|L)'!L59)=MONTH('IN (mmol|L)'!M59),"",'IN (mmol|L)'!M59) | ... AN2: =IF(MONTH('IN (mmol|L)'!P59)=MONTH('IN (mmol|L)'!Q59),"",'IN (mmol|L)'!Q59) | AO2: ='IN (mmol|L)'!E82 -> 41547 | AP2: =IF(MONTH('IN (mmol|L)'!E82)=MONTH('IN (mmol|L)'!F82),"",'IN (mmol|L)'!F82) | AQ2: =IF(MONTH('IN (mmol|L)'!F82)=MONTH('IN (mmol|L)'!G82),"",'IN (mmol|L)'!G82) | AR2: =IF(MONTH('IN (mmol|L)'!G82)=MONTH('IN (mmol|L)'!H82),"",'IN (mmol|L)'!H82) | AS2: =IF(MONTH('IN (mmol|L)'!H82)=MONTH('IN (mmol|L)'!I82),"",'IN (mmol|L)'!I82) | AT2: =IF(MONTH('IN (mmol|L)'!I82)=MONTH('IN (mmol|L)'!J82),"",'IN (mmol|L)'!J82) -> 41582 | AU2: =IF(MONTH('IN (mmol|L)'!J82)=MONTH('IN (mmol|L)'!K82),"",'IN (mmol|L)'!K82) | AV2: =IF(MONTH('IN (mmol|L)'!K82)=MONTH('IN (mmol|L)'!L82),"",'IN (mmol|L)'!L82) | AW2: =IF(MONTH('IN (mmol|L)'!L82)=MONTH('IN (mmol|L)'!M82),"",'IN (mmol|L)'!M82) | ... BA2: =IF(MONTH('IN (mmol|L)'!P82)=MONTH('IN (mmol|L)'!Q82),"",'IN (mmol|L)'!Q82) | BB2: ='IN (mmol|L)'!R3 -> MW | BC2: ='IN (mmol|L)'!S3 -> Stabw. | BD2: ='IN (mmol|L)'!T3 -> ±1,645σ | BF2: ='IN (mmol|L)'!E106 -> 41274 | BG2: =IF(MONTH('IN (mmol|L)'!E106)=MONTH('IN (mmol|L)'!F106),"",'IN (mmol|L)'!F106) | BH2: =IF(MONTH('IN (mmol|L)'!F106)=MONTH('IN (mmol|L)'!G106),"",'IN (mmol|L)'!G106) | BI2: =IF(MONTH('IN (mmol|L)'!G106)=MONTH('IN (mmol|L)'!H106),"",'IN (mmol|L)'!H106) | BJ2: =IF(MONTH('IN (mmol|L)'!H106)=MONTH('IN (mmol|L)'!I106),"",'IN (mmol|L)'!I106) | BK2: =IF(MONTH('IN (mmol|L)'!I106)=MONTH('IN (mmol|L)'!J106),"",'IN (mmol|L)'!J106) | BL2: =IF(MONTH('IN (mmol|L)'!J106)=MONTH('IN (mmol|L)'!K106),"",'IN (mmol|L)'!K106) | BM2: =IF(MONTH('IN (mmol|L)'!K106)=MONTH('IN (mmol|L)'!L106),"",'IN (mmol|L)'!L106) | BN2: =IF(MONTH('IN (mmol|L)'!I106)=MONTH('IN (mmol|L)'!M106),"",'IN (mmol|L)'!M106) | BO2: =IF(MONTH('IN (mmol|L)'!J106)=MONTH('IN (mmol|L)'!N106),"",'IN (mmol|L)'!N106) -> 41305.5 | BP2: =IF(MONTH('IN (mmol|L)'!K106)=MONTH('IN (mmol|L)'!O106),"",'IN (mmol|L)'!O106) -> 41312.5 | BQ2: =IF(MONTH('IN (mmol|L)'!L106)=MONTH('IN (mmol|L)'!P106),"",'IN (mmol|L)'!P106) -> 41319.5 | BR2: =IF(MONTH('IN (mmol|L)'!P106)=MONTH('IN (mmol|L)'!Q106),"",'IN (mmol|L)'!Q106)
A3: KW | B3: =CONCATENATE("KW ",B66) -> KW 1 | C3: =CONCATENATE("KW ",C66) -> KW 2 | D3: =CONCATENATE("KW ",D66) -> KW 3 | E3: =CONCATENATE("KW ",E66) -> KW 4 | F3: =CONCATENATE("KW ",F66) -> KW 5 | G3: =CONCATENATE("KW ",G66) -> KW 6 | H3: =CONCATENATE("KW ",H66) -> KW 7 | I3: =CONCATENATE("KW ",I66) -> KW 8 | ... BA3: =CONCATENATE("KW ",BA66) -> KW 52 | BF3: ='IN (mmol|L)'!E96 -> SO | BG3: ='IN (mmol|L)'!F96 -> MI | BH3: ='IN (mmol|L)'!G96 -> SO | BI3: ='IN (mmol|L)'!H96 -> MI | BJ3: ='IN (mmol|L)'!I96 -> SO | BK3: ='IN (mmol|L)'!J96 -> MI | BL3: ='IN (mmol|L)'!K96 -> SO | BM3: ='IN (mmol|L)'!L96 -> MI | ... BR3: ='IN (mmol|L)'!Q96 -> MI
A4: ='IN (mmol|L)'!D4 -> 0.29166667 | B4: =IF('IN (mmol|L)'!E4="",'IN (mmol|L)'!$R4/'IN (mmol|L)'!$V$18,'IN (mmol|L)'!E4/'IN (mmol|L)'!$V$18) -> 6.1666667 | C4: =IF('IN (mmol|L)'!F4="",'IN (mmol|L)'!$R4/'IN (mmol|L)'!$V$18,'IN (mmol|L)'!F4/'IN (mmol|L)'!$V$18) -> 6.1111111 | D4: =IF('IN (mmol|L)'!G4="",AVERAGE(B4:C4),'IN (mmol|L)'!G4/'IN (mmol|L)'!$V$18) -> 6 | E4: =IF('IN (mmol|L)'!H4="",AVERAGE(B4:D4),'IN (mmol|L)'!H4/'IN (mmol|L)'!$V$18) -> 6.2222222 | F4: =IF('IN (mmol|L)'!I4="",AVERAGE(C4:E4),'IN (mmol|L)'!I4/'IN (mmol|L)'!$V$18) -> 6 | G4: =IF('IN (mmol|L)'!J4="",AVERAGE(D4:F4),'IN (mmol|L)'!J4/'IN (mmol|L)'!$V$18) -> 6.2777778 | H4: =IF('IN (mmol|L)'!K4="",AVERAGE(E4:G4),'IN (mmol|L)'!K4/'IN (mmol|L)'!$V$18) -> 6.2222222 | I4: =IF('IN (mmol|L)'!L4="",AVERAGE(F4:H4),'IN (mmol|L)'!L4/'IN (mmol|L)'!$V$18) -> 6.2 | J4: =IF('IN (mmol|L)'!M4="",AVERAGE(G4:I4),'IN (mmol|L)'!M4/'IN (mmol|L)'!$V$18) -> 6.1 | K4: =IF('IN (mmol|L)'!N4="",AVERAGE(H4:J4),'IN (mmol|L)'!N4/'IN (mmol|L)'!$V$18) -> 6 | L4: =IF('IN (mmol|L)'!O4="",AVERAGE(I4:K4),'IN (mmol|L)'!O4/'IN (mmol|L)'!$V$18) -> 6.2 | ... N4: =IF('IN (mmol|L)'!Q4="",AVERAGE(K4:M4),'IN (mmol|L)'!Q4/'IN (mmol|L)'!$V$18) -> 6.2 | O4: =IF('IN (mmol|L)'!E27="",AVERAGE(L4:N4),'IN (mmol|L)'!E27/'IN (mmol|L)'!$V$41) -> 6.2 | P4: =IF('IN (mmol|L)'!F27="",AVERAGE(M4:O4),'IN (mmol|L)'!F27/'IN (mmol|L)'!$V$41) -> 5.9 | Q4: =IF('IN (mmol|L)'!G27="",AVERAGE(N4:P4),'IN (mmol|L)'!G27/'IN (mmol|L)'!$V$41) -> 6.1 | R4: =IF('IN (mmol|L)'!H27="",AVERAGE(O4:Q4),'IN (mmol|L)'!H27/'IN (mmol|L)'!$V$41) -> 6.0666667 | S4: =IF('IN (mmol|L)'!I27="",AVERAGE(P4:R4),'IN (mmol|L)'!I27/'IN (mmol|L)'!$V$41) -> 6.0222222 | T4: =IF('IN (mmol|L)'!J27="",AVERAGE(Q4:S4),'IN (mmol|L)'!J27/'IN (mmol|L)'!$V$41) -> 6.062963 | U4: =IF('IN (mmol|L)'!K27="",AVERAGE(R4:T4),'IN (mmol|L)'!K27/'IN (mmol|L)'!$V$41) -> 6.0506173 | V4: =IF('IN (mmol|L)'!L27="",AVERAGE(S4:U4),'IN (mmol|L)'!L27/'IN (mmol|L)'!$V$41) -> 6.0452675 | ... AA4: =IF('IN (mmol|L)'!Q27="",AVERAGE(X4:Z4),'IN (mmol|L)'!Q27/'IN (mmol|L)'!$V$41) -> 6.0498332 | AB4: =IF('IN (mmol|L)'!E50="",AVERAGE(Y4:AA4),'IN (mmol|L)'!E50/'IN (mmol|L)'!$V$64) -> 6.0499071 | AC4: =IF('IN (mmol|L)'!F50="",AVERAGE(Z4:AB4),'IN (mmol|L)'!F50/'IN (mmol|L)'!$V$64) -> 6.0501175 | AD4: =IF('IN (mmol|L)'!G50="",AVERAGE(AA4:AC4),'IN (mmol|L)'!G50/'IN (mmol|L)'!$V$64) -> 6.0499526 | AE4: =IF('IN (mmol|L)'!H50="",AVERAGE(AB4:AD4),'IN (mmol|L)'!H50/'IN (mmol|L)'!$V$64) -> 6.0499924 | AF4: =IF('IN (mmol|L)'!I50="",AVERAGE(AC4:AE4),'IN (mmol|L)'!I50/'IN (mmol|L)'!$V$64) -> 6.0500208 | AG4: =IF('IN (mmol|L)'!J50="",AVERAGE(AD4:AF4),'IN (mmol|L)'!J50/'IN (mmol|L)'!$V$64) -> 6.0499886 | AH4: =IF('IN (mmol|L)'!K50="",AVERAGE(AE4:AG4),'IN (mmol|L)'!K50/'IN (mmol|L)'!$V$64) -> 6.0500006 | AI4: =IF('IN (mmol|L)'!L50="",AVERAGE(AF4:AH4),'IN (mmol|L)'!L50/'IN (mmol|L)'!$V$64) -> 6.0500034 | ... AN4: =IF('IN (mmol|L)'!Q50="",AVERAGE(AK4:AM4),'IN (mmol|L)'!Q50/'IN (mmol|L)'!$V$64) -> 6.0500002 | AO4: =IF('IN (mmol|L)'!E73="",AVERAGE(AL4:AN4),'IN (mmol|L)'!E73/'IN (mmol|L)'!$V$87) -> 6.0500001 | AP4: =IF('IN (mmol|L)'!F73="",AVERAGE(AM4:AO4),'IN (mmol|L)'!F73/'IN (mmol|L)'!$V$87) -> 6.0499999 | AQ4: =IF('IN (mmol|L)'!G73="",AVERAGE(AN4:AP4),'IN (mmol|L)'!G73/'IN (mmol|L)'!$V$87) -> 6.05 | AR4: =IF('IN (mmol|L)'!H73="",AVERAGE(AO4:AQ4),'IN (mmol|L)'!H73/'IN (mmol|L)'!$V$87) -> 6.05 | AS4: =IF('IN (mmol|L)'!I73="",AVERAGE(AP4:AR4),'IN (mmol|L)'!I73/'IN (mmol|L)'!$V$87) -> 6.05 | AT4: =IF('IN (mmol|L)'!J73="",AVERAGE(AQ4:AS4),'IN (mmol|L)'!J73/'IN (mmol|L)'!$V$87) -> 6.05 | AU4: =IF('IN (mmol|L)'!K73="",AVERAGE(AR4:AT4),'IN (mmol|L)'!K73/'IN (mmol|L)'!$V$87) -> 6.05 | AV4: =IF('IN (mmol|L)'!L73="",AVERAGE(AS4:AU4),'IN (mmol|L)'!L73/'IN (mmol|L)'!$V$87) -> 6.05 | ... BA4: =IF('IN (mmol|L)'!Q73="",AVERAGE(AX4:AZ4),'IN (mmol|L)'!Q73/'IN (mmol|L)'!$V$87) -> 6.05 | BB4: =AVERAGE($B4:$BA4) -> 6.0711538 | BC4: =STDEV($B4:$BA4) -> 0.067740878 | BD4: =BB4-2*BC4 -> 5.9356721 | BE4: =BB4+2*BC4 -> 6.2066356 | BF4: =IF('IN (mmol|L)'!E97="",'IN (mmol|L)'!$R97/'IN (mmol|L)'!$V$111,'IN (mmol|L)'!E97/'IN (mmol|L)'!$V$111) -> 6.2777778 | BG4: =IF('IN (mmol|L)'!F97="",'IN (mmol|L)'!$R97/'IN (mmol|L)'!$V$111,'IN (mmol|L)'!F97/'IN (mmol|L)'!$V$111) -> 6.2222222 | BH4: =IF('IN (mmol|L)'!G97="",AVERAGE(BF4:BG4),'IN (mmol|L)'!G97/'IN (mmol|L)'!$V$111) -> 6.2 | BI4: =IF('IN (mmol|L)'!H97="",AVERAGE(BG4:BH4),'IN (mmol|L)'!H97/'IN (mmol|L)'!$V$111) -> 6.1 | BJ4: =IF('IN (mmol|L)'!I97="",AVERAGE(BH4:BI4),'IN (mmol|L)'!I97/'IN (mmol|L)'!$V$111) -> 6 | BK4: =IF('IN (mmol|L)'!J97="",AVERAGE(BI4:BJ4),'IN (mmol|L)'!J97/'IN (mmol|L)'!$V$111) -> 6.2 | BL4: =IF('IN (mmol|L)'!K97="",AVERAGE(BJ4:BK4),'IN (mmol|L)'!K97/'IN (mmol|L)'!$V$111) -> 6 | BM4: =IF('IN (mmol|L)'!L97="",AVERAGE(BK4:BL4),'IN (mmol|L)'!L97/'IN (mmol|L)'!$V$111) -> 6.2 | BN4: =IF('IN (mmol|L)'!M97="",AVERAGE(BL4:BM4),'IN (mmol|L)'!M97/'IN (mmol|L)'!$V$111) -> 6.2 | BO4: =IF('IN (mmol|L)'!N97="",AVERAGE(BM4:BN4),'IN (mmol|L)'!N97/'IN (mmol|L)'!$V$111) -> 5.9 | BP4: =TREND($BF4:$BO4,$BF$21:$BO$21,BP$21) -> 5.9859933 | BQ4: =TREND($BF4:$BO4,$BF$21:$BO$21,BQ$21) -> 5.9416835 | BR4: =TREND($BF4:$BO4,$BF$21:$BO$21,BR$21) -> 5.8973737
A5: ='IN (mmol|L)'!D5 -> 0.39583333 | B5: =IF('IN (mmol|L)'!E5="",'IN (mmol|L)'!$R5/'IN (mmol|L)'!$V$18,'IN (mmol|L)'!E5/'IN (mmol|L)'!$V$18) -> 8.2222222 | C5: =IF('IN (mmol|L)'!F5="",'IN (mmol|L)'!$R5/'IN (mmol|L)'!$V$18,'IN (mmol|L)'!F5/'IN (mmol|L)'!$V$18) -> 9.0555556 | D5: =IF('IN (mmol|L)'!G5="",AVERAGE(B5:C5),'IN (mmol|L)'!G5/'IN (mmol|L)'!$V$18) -> 10.388889 | E5: =IF('IN (mmol|L)'!H5="",AVERAGE(B5:D5),'IN (mmol|L)'!H5/'IN (mmol|L)'!$V$18) -> 10.333333 | F5: =IF('IN (mmol|L)'!I5="",AVERAGE(C5:E5),'IN (mmol|L)'!I5/'IN (mmol|L)'!$V$18) -> 10.555556 | G5: =IF('IN (mmol|L)'!J5="",AVERAGE(D5:F5),'IN (mmol|L)'!J5/'IN (mmol|L)'!$V$18) -> 12.111111 | H5: =IF('IN (mmol|L)'!K5="",AVERAGE(E5:G5),'IN (mmol|L)'!K5/'IN (mmol|L)'!$V$18) -> 9.8888889 | I5: =IF('IN (mmol|L)'!L5="",AVERAGE(F5:H5),'IN (mmol|L)'!L5/'IN (mmol|L)'!$V$18) -> 8.2 | J5: =IF('IN (mmol|L)'!M5="",AVERAGE(G5:I5),'IN (mmol|L)'!M5/'IN (mmol|L)'!$V$18) -> 9.1 | K5: =IF('IN (mmol|L)'!N5="",AVERAGE(H5:J5),'IN (mmol|L)'!N5/'IN (mmol|L)'!$V$18) -> 9.062963 | L5: =IF('IN (mmol|L)'!O5="",AVERAGE(I5:K5),'IN (mmol|L)'!O5/'IN (mmol|L)'!$V$18) -> 10.3 | ... N5: =IF('IN (mmol|L)'!Q5="",AVERAGE(K5:M5),'IN (mmol|L)'!Q5/'IN (mmol|L)'!$V$18) -> 9.6 | O5: =IF('IN (mmol|L)'!E28="",AVERAGE(L5:N5),'IN (mmol|L)'!E28/'IN (mmol|L)'!$V$41) -> 10.133333 | P5: =IF('IN (mmol|L)'!F28="",AVERAGE(M5:O5),'IN (mmol|L)'!F28/'IN (mmol|L)'!$V$41) -> 9.4 | Q5: =IF('IN (mmol|L)'!G28="",AVERAGE(N5:P5),'IN (mmol|L)'!G28/'IN (mmol|L)'!$V$41) -> 9.7111111 | R5: =IF('IN (mmol|L)'!H28="",AVERAGE(O5:Q5),'IN (mmol|L)'!H28/'IN (mmol|L)'!$V$41) -> 9.7481481 | S5: =IF('IN (mmol|L)'!I28="",AVERAGE(P5:R5),'IN (mmol|L)'!I28/'IN (mmol|L)'!$V$41) -> 9.6197531 | T5: =IF('IN (mmol|L)'!J28="",AVERAGE(Q5:S5),'IN (mmol|L)'!J28/'IN (mmol|L)'!$V$41) -> 9.6930041 | U5: =IF('IN (mmol|L)'!K28="",AVERAGE(R5:T5),'IN (mmol|L)'!K28/'IN (mmol|L)'!$V$41) -> 9.6869684 | V5: =IF('IN (mmol|L)'!L28="",AVERAGE(S5:U5),'IN (mmol|L)'!L28/'IN (mmol|L)'!$V$41) -> 9.6665752 | ... AA5: =IF('IN (mmol|L)'!Q28="",AVERAGE(X5:Z5),'IN (mmol|L)'!Q28/'IN (mmol|L)'!$V$41) -> 9.6777328 | AB5: =IF('IN (mmol|L)'!E51="",AVERAGE(Y5:AA5),'IN (mmol|L)'!E51/'IN (mmol|L)'!$V$64) -> 9.6774519 | AC5: =IF('IN (mmol|L)'!F51="",AVERAGE(Z5:AB5),'IN (mmol|L)'!F51/'IN (mmol|L)'!$V$64) -> 9.67801 | AD5: =IF('IN (mmol|L)'!G51="",AVERAGE(AA5:AC5),'IN (mmol|L)'!G51/'IN (mmol|L)'!$V$64) -> 9.6777316 | AE5: =IF('IN (mmol|L)'!H51="",AVERAGE(AB5:AD5),'IN (mmol|L)'!H51/'IN (mmol|L)'!$V$64) -> 9.6777312 | AF5: =IF('IN (mmol|L)'!I51="",AVERAGE(AC5:AE5),'IN (mmol|L)'!I51/'IN (mmol|L)'!$V$64) -> 9.6778242 | AG5: =IF('IN (mmol|L)'!J51="",AVERAGE(AD5:AF5),'IN (mmol|L)'!J51/'IN (mmol|L)'!$V$64) -> 9.6777623 | AH5: =IF('IN (mmol|L)'!K51="",AVERAGE(AE5:AG5),'IN (mmol|L)'!K51/'IN (mmol|L)'!$V$64) -> 9.6777726 | AI5: =IF('IN (mmol|L)'!L51="",AVERAGE(AF5:AH5),'IN (mmol|L)'!L51/'IN (mmol|L)'!$V$64) -> 9.6777864 | ... AN5: =IF('IN (mmol|L)'!Q51="",AVERAGE(AK5:AM5),'IN (mmol|L)'!Q51/'IN (mmol|L)'!$V$64) -> 9.6777779 | AO5: =IF('IN (mmol|L)'!E74="",AVERAGE(AL5:AN5),'IN (mmol|L)'!E74/'IN (mmol|L)'!$V$87) -> 9.677778 | AP5: =IF('IN (mmol|L)'!F74="",AVERAGE(AM5:AO5),'IN (mmol|L)'!F74/'IN (mmol|L)'!$V$87) -> 9.6777776 | AQ5: =IF('IN (mmol|L)'!G74="",AVERAGE(AN5:AP5),'IN (mmol|L)'!G74/'IN (mmol|L)'!$V$87) -> 9.6777778 | AR5: =IF('IN (mmol|L)'!H74="",AVERAGE(AO5:AQ5),'IN (mmol|L)'!H74/'IN (mmol|L)'!$V$87) -> 9.6777778 | AS5: =IF('IN (mmol|L)'!I74="",AVERAGE(AP5:AR5),'IN (mmol|L)'!I74/'IN (mmol|L)'!$V$87) -> 9.6777777 | AT5: =IF('IN (mmol|L)'!J74="",AVERAGE(AQ5:AS5),'IN (mmol|L)'!J74/'IN (mmol|L)'!$V$87) -> 9.6777778 | AU5: =IF('IN (mmol|L)'!K74="",AVERAGE(AR5:AT5),'IN (mmol|L)'!K74/'IN (mmol|L)'!$V$87) -> 9.6777778 | AV5: =IF('IN (mmol|L)'!L74="",AVERAGE(AS5:AU5),'IN (mmol|L)'!L74/'IN (mmol|L)'!$V$87) -> 9.6777778 | ... BA5: =IF('IN (mmol|L)'!Q74="",AVERAGE(AX5:AZ5),'IN (mmol|L)'!Q74/'IN (mmol|L)'!$V$87) -> 9.6777778 | BB5: =AVERAGE($B5:$BA5) -> 9.711396 | BC5: =STDEV($B5:$BA5) -> 0.5309654 | BD5: =BB5-2*BC5 -> 8.6494652 | BE5: =BB5+2*BC5 -> 10.773327 | BF5: =IF('IN (mmol|L)'!E98="",'IN (mmol|L)'!$R98/'IN (mmol|L)'!$V$111,'IN (mmol|L)'!E98/'IN (mmol|L)'!$V$111) -> 12.111111 | BG5: =IF('IN (mmol|L)'!F98="",'IN (mmol|L)'!$R98/'IN (mmol|L)'!$V$111,'IN (mmol|L)'!F98/'IN (mmol|L)'!$V$111) -> 9.8888889 | BH5: =IF('IN (mmol|L)'!G98="",AVERAGE(BF5:BG5),'IN (mmol|L)'!G98/'IN (mmol|L)'!$V$111) -> 8.2 | BI5: =IF('IN (mmol|L)'!H98="",AVERAGE(BG5:BH5),'IN (mmol|L)'!H98/'IN (mmol|L)'!$V$111) -> 9.1 | BJ5: =IF('IN (mmol|L)'!I98="",AVERAGE(BH5:BI5),'IN (mmol|L)'!I98/'IN (mmol|L)'!$V$111) -> 8.65 | BK5: =IF('IN (mmol|L)'!J98="",AVERAGE(BI5:BJ5),'IN (mmol|L)'!J98/'IN (mmol|L)'!$V$111) -> 10.3 | BL5: =IF('IN (mmol|L)'!K98="",AVERAGE(BJ5:BK5),'IN (mmol|L)'!K98/'IN (mmol|L)'!$V$111) -> 10.5 | BM5: =IF('IN (mmol|L)'!L98="",AVERAGE(BK5:BL5),'IN (mmol|L)'!L98/'IN (mmol|L)'!$V$111) -> 9.6 | BN5: =IF('IN (mmol|L)'!M98="",AVERAGE(BL5:BM5),'IN (mmol|L)'!M98/'IN (mmol|L)'!$V$111) -> 10.05 | BO5: =IF('IN (mmol|L)'!N98="",AVERAGE(BM5:BN5),'IN (mmol|L)'!N98/'IN (mmol|L)'!$V$111) -> 9.4 | BP5: =TREND($BF5:$BO5,$BF$21:$BO$21,BP$21) -> 9.3694276 | BQ5: =TREND($BF5:$BO5,$BF$21:$BO$21,BQ$21) -> 9.2430976 | BR5: =TREND($BF5:$BO5,$BF$21:$BO$21,BR$21) -> 9.1167677
A6: ='IN (mmol|L)'!D6 -> 0.5 | B6: =IF('IN (mmol|L)'!E6="",'IN (mmol|L)'!$R6/'IN (mmol|L)'!$V$18,'IN (mmol|L)'!E6/'IN (mmol|L)'!$V$18) -> 4.7777778 | C6: =IF('IN (mmol|L)'!F6="",'IN (mmol|L)'!$R6/'IN (mmol|L)'!$V$18,'IN (mmol|L)'!F6/'IN (mmol|L)'!$V$18) -> 6.7777778 | D6: =IF('IN (mmol|L)'!G6="",AVERAGE(B6:C6),'IN (mmol|L)'!G6/'IN (mmol|L)'!$V$18) -> 6.7777778 | E6: =IF('IN (mmol|L)'!H6="",AVERAGE(B6:D6),'IN (mmol|L)'!H6/'IN (mmol|L)'!$V$18) -> 8.7777778 | F6: =IF('IN (mmol|L)'!I6="",AVERAGE(C6:E6),'IN (mmol|L)'!I6/'IN (mmol|L)'!$V$18) -> 8.7222222 | G6: =IF('IN (mmol|L)'!J6="",AVERAGE(D6:F6),'IN (mmol|L)'!J6/'IN (mmol|L)'!$V$18) -> 8.0555556 | H6: =IF('IN (mmol|L)'!K6="",AVERAGE(E6:G6),'IN (mmol|L)'!K6/'IN (mmol|L)'!$V$18) -> 6.7777778 | I6: =IF('IN (mmol|L)'!L6="",AVERAGE(F6:H6),'IN (mmol|L)'!L6/'IN (mmol|L)'!$V$18) -> 4.8 | J6: =IF('IN (mmol|L)'!M6="",AVERAGE(G6:I6),'IN (mmol|L)'!M6/'IN (mmol|L)'!$V$18) -> 6.8 | K6: =IF('IN (mmol|L)'!N6="",AVERAGE(H6:J6),'IN (mmol|L)'!N6/'IN (mmol|L)'!$V$18) -> 10.3 | L6: =IF('IN (mmol|L)'!O6="",AVERAGE(I6:K6),'IN (mmol|L)'!O6/'IN (mmol|L)'!$V$18) -> 8.2 | ... N6: =IF('IN (mmol|L)'!Q6="",AVERAGE(K6:M6),'IN (mmol|L)'!Q6/'IN (mmol|L)'!$V$18) -> 6 | O6: =IF('IN (mmol|L)'!E29="",AVERAGE(L6:N6),'IN (mmol|L)'!E29/'IN (mmol|L)'!$V$41) -> 7.6333333 | P6: =IF('IN (mmol|L)'!F29="",AVERAGE(M6:O6),'IN (mmol|L)'!F29/'IN (mmol|L)'!$V$41) -> 7.4 | Q6: =IF('IN (mmol|L)'!G29="",AVERAGE(N6:P6),'IN (mmol|L)'!G29/'IN (mmol|L)'!$V$41) -> 7.0111111 | R6: =IF('IN (mmol|L)'!H29="",AVERAGE(O6:Q6),'IN (mmol|L)'!H29/'IN (mmol|L)'!$V$41) -> 7.3481481 | S6: =IF('IN (mmol|L)'!I29="",AVERAGE(P6:R6),'IN (mmol|L)'!I29/'IN (mmol|L)'!$V$41) -> 7.2530864 | T6: =IF('IN (mmol|L)'!J29="",AVERAGE(Q6:S6),'IN (mmol|L)'!J29/'IN (mmol|L)'!$V$41) -> 7.2041152 | U6: =IF('IN (mmol|L)'!K29="",AVERAGE(R6:T6),'IN (mmol|L)'!K29/'IN (mmol|L)'!$V$41) -> 7.2684499 | V6: =IF('IN (mmol|L)'!L29="",AVERAGE(S6:U6),'IN (mmol|L)'!L29/'IN (mmol|L)'!$V$41) -> 7.2418839 | ... AA6: =IF('IN (mmol|L)'!Q29="",AVERAGE(X6:Z6),'IN (mmol|L)'!Q29/'IN (mmol|L)'!$V$41) -> 7.2454257 | AB6: =IF('IN (mmol|L)'!E52="",AVERAGE(Y6:AA6),'IN (mmol|L)'!E52/'IN (mmol|L)'!$V$64) -> 7.2440695 | AC6: =IF('IN (mmol|L)'!F52="",AVERAGE(Z6:AB6),'IN (mmol|L)'!F52/'IN (mmol|L)'!$V$64) -> 7.2443673 | AD6: =IF('IN (mmol|L)'!G52="",AVERAGE(AA6:AC6),'IN (mmol|L)'!G52/'IN (mmol|L)'!$V$64) -> 7.2446208 | AE6: =IF('IN (mmol|L)'!H52="",AVERAGE(AB6:AD6),'IN (mmol|L)'!H52/'IN (mmol|L)'!$V$64) -> 7.2443526 | AF6: =IF('IN (mmol|L)'!I52="",AVERAGE(AC6:AE6),'IN (mmol|L)'!I52/'IN (mmol|L)'!$V$64) -> 7.2444469 | AG6: =IF('IN (mmol|L)'!J52="",AVERAGE(AD6:AF6),'IN (mmol|L)'!J52/'IN (mmol|L)'!$V$64) -> 7.2444734 | AH6: =IF('IN (mmol|L)'!K52="",AVERAGE(AE6:AG6),'IN (mmol|L)'!K52/'IN (mmol|L)'!$V$64) -> 7.2444243 | AI6: =IF('IN (mmol|L)'!L52="",AVERAGE(AF6:AH6),'IN (mmol|L)'!L52/'IN (mmol|L)'!$V$64) -> 7.2444482 | ... AN6: =IF('IN (mmol|L)'!Q52="",AVERAGE(AK6:AM6),'IN (mmol|L)'!Q52/'IN (mmol|L)'!$V$64) -> 7.2444437 | AO6: =IF('IN (mmol|L)'!E75="",AVERAGE(AL6:AN6),'IN (mmol|L)'!E75/'IN (mmol|L)'!$V$87) -> 7.2444448 | AP6: =IF('IN (mmol|L)'!F75="",AVERAGE(AM6:AO6),'IN (mmol|L)'!F75/'IN (mmol|L)'!$V$87) -> 7.2444445 | AQ6: =IF('IN (mmol|L)'!G75="",AVERAGE(AN6:AP6),'IN (mmol|L)'!G75/'IN (mmol|L)'!$V$87) -> 7.2444443 | AR6: =IF('IN (mmol|L)'!H75="",AVERAGE(AO6:AQ6),'IN (mmol|L)'!H75/'IN (mmol|L)'!$V$87) -> 7.2444445 | AS6: =IF('IN (mmol|L)'!I75="",AVERAGE(AP6:AR6),'IN (mmol|L)'!I75/'IN (mmol|L)'!$V$87) -> 7.2444444 | AT6: =IF('IN (mmol|L)'!J75="",AVERAGE(AQ6:AS6),'IN (mmol|L)'!J75/'IN (mmol|L)'!$V$87) -> 7.2444444 | AU6: =IF('IN (mmol|L)'!K75="",AVERAGE(AR6:AT6),'IN (mmol|L)'!K75/'IN (mmol|L)'!$V$87) -> 7.2444445 | AV6: =IF('IN (mmol|L)'!L75="",AVERAGE(AS6:AU6),'IN (mmol|L)'!L75/'IN (mmol|L)'!$V$87) -> 7.2444444 | ... BA6: =IF('IN (mmol|L)'!Q75="",AVERAGE(AX6:AZ6),'IN (mmol|L)'!Q75/'IN (mmol|L)'!$V$87) -> 7.2444444 | BB6: =AVERAGE($B6:$BA6) -> 7.2769587 | BC6: =STDEV($B6:$BA6) -> 0.79469142 | BD6: =BB6-2*BC6 -> 5.6875758 | BE6: =BB6+2*BC6 -> 8.8663415 | BF6: =IF('IN (mmol|L)'!E99="",'IN (mmol|L)'!$R99/'IN (mmol|L)'!$V$111,'IN (mmol|L)'!E99/'IN (mmol|L)'!$V$111) -> 8.0555556 | BG6: =IF('IN (mmol|L)'!F99="",'IN (mmol|L)'!$R99/'IN (mmol|L)'!$V$111,'IN (mmol|L)'!F99/'IN (mmol|L)'!$V$111) -> 6.7777778 | BH6: =IF('IN (mmol|L)'!G99="",AVERAGE(BF6:BG6),'IN (mmol|L)'!G99/'IN (mmol|L)'!$V$111) -> 4.8 | BI6: =IF('IN (mmol|L)'!H99="",AVERAGE(BG6:BH6),'IN (mmol|L)'!H99/'IN (mmol|L)'!$V$111) -> 6.8 | BJ6: =IF('IN (mmol|L)'!I99="",AVERAGE(BH6:BI6),'IN (mmol|L)'!I99/'IN (mmol|L)'!$V$111) -> 10.3 | BK6: =IF('IN (mmol|L)'!J99="",AVERAGE(BI6:BJ6),'IN (mmol|L)'!J99/'IN (mmol|L)'!$V$111) -> 8.2 | BL6: =IF('IN (mmol|L)'!K99="",AVERAGE(BJ6:BK6),'IN (mmol|L)'!K99/'IN (mmol|L)'!$V$111) -> 8.7 | BM6: =IF('IN (mmol|L)'!L99="",AVERAGE(BK6:BL6),'IN (mmol|L)'!L99/'IN (mmol|L)'!$V$111) -> 6 | BN6: =IF('IN (mmol|L)'!M99="",AVERAGE(BL6:BM6),'IN (mmol|L)'!M99/'IN (mmol|L)'!$V$111) -> 7.35 | BO6: =IF('IN (mmol|L)'!N99="",AVERAGE(BM6:BN6),'IN (mmol|L)'!N99/'IN (mmol|L)'!$V$111) -> 7.4 | BP6: =TREND($BF6:$BO6,$BF$21:$BO$21,BP$21) -> 7.7418855 | BQ6: =TREND($BF6:$BO6,$BF$21:$BO$21,BQ$21) -> 7.8352862 | BR6: =TREND($BF6:$BO6,$BF$21:$BO$21,BR$21) -> 7.9286869
A7: ='IN (mmol|L)'!D7 -> 0.60416667 | B7: =IF('IN (mmol|L)'!E7="",'IN (mmol|L)'!$R7/'IN (mmol|L)'!$V$18,'IN (mmol|L)'!E7/'IN (mmol|L)'!$V$18) -> 10.611111 | C7: =IF('IN (mmol|L)'!F7="",'IN (mmol|L)'!$R7/'IN (mmol|L)'!$V$18,'IN (mmol|L)'!F7/'IN (mmol|L)'!$V$18) -> 6.2222222 | D7: =IF('IN (mmol|L)'!G7="",AVERAGE(B7:C7),'IN (mmol|L)'!G7/'IN (mmol|L)'!$V$18) -> 6.3888889 | E7: =IF('IN (mmol|L)'!H7="",AVERAGE(B7:D7),'IN (mmol|L)'!H7/'IN (mmol|L)'!$V$18) -> 5.3888889 | F7: =IF('IN (mmol|L)'!I7="",AVERAGE(C7:E7),'IN (mmol|L)'!I7/'IN (mmol|L)'!$V$18) -> 6 | G7: =IF('IN (mmol|L)'!J7="",AVERAGE(D7:F7),'IN (mmol|L)'!J7/'IN (mmol|L)'!$V$18) -> 7.0555556 | H7: =IF('IN (mmol|L)'!K7="",AVERAGE(E7:G7),'IN (mmol|L)'!K7/'IN (mmol|L)'!$V$18) -> 8.7222222 | I7: =IF('IN (mmol|L)'!L7="",AVERAGE(F7:H7),'IN (mmol|L)'!L7/'IN (mmol|L)'!$V$18) -> 10.6 | J7: =IF('IN (mmol|L)'!M7="",AVERAGE(G7:I7),'IN (mmol|L)'!M7/'IN (mmol|L)'!$V$18) -> 6.2 | K7: =IF('IN (mmol|L)'!N7="",AVERAGE(H7:J7),'IN (mmol|L)'!N7/'IN (mmol|L)'!$V$18) -> 6.8 | L7: =IF('IN (mmol|L)'!O7="",AVERAGE(I7:K7),'IN (mmol|L)'!O7/'IN (mmol|L)'!$V$18) -> 5.4 | ... N7: =IF('IN (mmol|L)'!Q7="",AVERAGE(K7:M7),'IN (mmol|L)'!Q7/'IN (mmol|L)'!$V$18) -> 4.5 | O7: =IF('IN (mmol|L)'!E30="",AVERAGE(L7:N7),'IN (mmol|L)'!E30/'IN (mmol|L)'!$V$41) -> 5.3444444 | P7: =IF('IN (mmol|L)'!F30="",AVERAGE(M7:O7),'IN (mmol|L)'!F30/'IN (mmol|L)'!$V$41) -> 6 | Q7: =IF('IN (mmol|L)'!G30="",AVERAGE(N7:P7),'IN (mmol|L)'!G30/'IN (mmol|L)'!$V$41) -> 5.2814815 | R7: =IF('IN (mmol|L)'!H30="",AVERAGE(O7:Q7),'IN (mmol|L)'!H30/'IN (mmol|L)'!$V$41) -> 5.5419753 | S7: =IF('IN (mmol|L)'!I30="",AVERAGE(P7:R7),'IN (mmol|L)'!I30/'IN (mmol|L)'!$V$41) -> 5.6078189 | T7: =IF('IN (mmol|L)'!J30="",AVERAGE(Q7:S7),'IN (mmol|L)'!J30/'IN (mmol|L)'!$V$41) -> 5.4770919 | U7: =IF('IN (mmol|L)'!K30="",AVERAGE(R7:T7),'IN (mmol|L)'!K30/'IN (mmol|L)'!$V$41) -> 5.5422954 | V7: =IF('IN (mmol|L)'!L30="",AVERAGE(S7:U7),'IN (mmol|L)'!L30/'IN (mmol|L)'!$V$41) -> 5.5424021 | ... AA7: =IF('IN (mmol|L)'!Q30="",AVERAGE(X7:Z7),'IN (mmol|L)'!Q30/'IN (mmol|L)'!$V$41) -> 5.5324204 | AB7: =IF('IN (mmol|L)'!E53="",AVERAGE(Y7:AA7),'IN (mmol|L)'!E53/'IN (mmol|L)'!$V$64) -> 5.5315279 | AC7: =IF('IN (mmol|L)'!F53="",AVERAGE(Z7:AB7),'IN (mmol|L)'!F53/'IN (mmol|L)'!$V$64) -> 5.5311376 | AD7: =IF('IN (mmol|L)'!G53="",AVERAGE(AA7:AC7),'IN (mmol|L)'!G53/'IN (mmol|L)'!$V$64) -> 5.5316953 | AE7: =IF('IN (mmol|L)'!H53="",AVERAGE(AB7:AD7),'IN (mmol|L)'!H53/'IN (mmol|L)'!$V$64) -> 5.5314536 | AF7: =IF('IN (mmol|L)'!I53="",AVERAGE(AC7:AE7),'IN (mmol|L)'!I53/'IN (mmol|L)'!$V$64) -> 5.5314288 | AG7: =IF('IN (mmol|L)'!J53="",AVERAGE(AD7:AF7),'IN (mmol|L)'!J53/'IN (mmol|L)'!$V$64) -> 5.5315259 | AH7: =IF('IN (mmol|L)'!K53="",AVERAGE(AE7:AG7),'IN (mmol|L)'!K53/'IN (mmol|L)'!$V$64) -> 5.5314694 | AI7: =IF('IN (mmol|L)'!L53="",AVERAGE(AF7:AH7),'IN (mmol|L)'!L53/'IN (mmol|L)'!$V$64) -> 5.5314747 | ... AN7: =IF('IN (mmol|L)'!Q53="",AVERAGE(AK7:AM7),'IN (mmol|L)'!Q53/'IN (mmol|L)'!$V$64) -> 5.5314807 | AO7: =IF('IN (mmol|L)'!E76="",AVERAGE(AL7:AN7),'IN (mmol|L)'!E76/'IN (mmol|L)'!$V$87) -> 5.5314815 | AP7: =IF('IN (mmol|L)'!F76="",AVERAGE(AM7:AO7),'IN (mmol|L)'!F76/'IN (mmol|L)'!$V$87) -> 5.5314817 | AQ7: =IF('IN (mmol|L)'!G76="",AVERAGE(AN7:AP7),'IN (mmol|L)'!G76/'IN (mmol|L)'!$V$87) -> 5.5314813 | AR7: =IF('IN (mmol|L)'!H76="",AVERAGE(AO7:AQ7),'IN (mmol|L)'!H76/'IN (mmol|L)'!$V$87) -> 5.5314815 | AS7: =IF('IN (mmol|L)'!I76="",AVERAGE(AP7:AR7),'IN (mmol|L)'!I76/'IN (mmol|L)'!$V$87) -> 5.5314815 | AT7: =IF('IN (mmol|L)'!J76="",AVERAGE(AQ7:AS7),'IN (mmol|L)'!J76/'IN (mmol|L)'!$V$87) -> 5.5314814 | AU7: =IF('IN (mmol|L)'!K76="",AVERAGE(AR7:AT7),'IN (mmol|L)'!K76/'IN (mmol|L)'!$V$87) -> 5.5314815 | AV7: =IF('IN (mmol|L)'!L76="",AVERAGE(AS7:AU7),'IN (mmol|L)'!L76/'IN (mmol|L)'!$V$87) -> 5.5314815 | ... BA7: =IF('IN (mmol|L)'!Q76="",AVERAGE(AX7:AZ7),'IN (mmol|L)'!Q76/'IN (mmol|L)'!$V$87) -> 5.5314815 | BB7: =AVERAGE($B7:$BA7) -> 5.8813153 | BC7: =STDEV($B7:$BA7) -> 1.1106445 | BD7: =BB7-2*BC7 -> 3.6600263 | BE7: =BB7+2*BC7 -> 8.1026043 | BF7: =IF('IN (mmol|L)'!E100="",'IN (mmol|L)'!$R100/'IN (mmol|L)'!$V$111,'IN (mmol|L)'!E100/'IN (mmol|L)'!$V$111) -> 7.0555556 | BG7: =IF('IN (mmol|L)'!F100="",'IN (mmol|L)'!$R100/'IN (mmol|L)'!$V$111,'IN (mmol|L)'!F100/'IN (mmol|L)'!$V$111) -> 8.7222222 | BH7: =IF('IN (mmol|L)'!G100="",AVERAGE(BF7:BG7),'IN (mmol|L)'!G100/'IN (mmol|L)'!$V$111) -> 10.6 | BI7: =IF('IN (mmol|L)'!H100="",AVERAGE(BG7:BH7),'IN (mmol|L)'!H100/'IN (mmol|L)'!$V$111) -> 6.2 | BJ7: =IF('IN (mmol|L)'!I100="",AVERAGE(BH7:BI7),'IN (mmol|L)'!I100/'IN (mmol|L)'!$V$111) -> 6.8 | BK7: =IF('IN (mmol|L)'!J100="",AVERAGE(BI7:BJ7),'IN (mmol|L)'!J100/'IN (mmol|L)'!$V$111) -> 5.4 | BL7: =IF('IN (mmol|L)'!K100="",AVERAGE(BJ7:BK7),'IN (mmol|L)'!K100/'IN (mmol|L)'!$V$111) -> 6.1 | BM7: =IF('IN (mmol|L)'!L100="",AVERAGE(BK7:BL7),'IN (mmol|L)'!L100/'IN (mmol|L)'!$V$111) -> 4.5 | BN7: =IF('IN (mmol|L)'!M100="",AVERAGE(BL7:BM7),'IN (mmol|L)'!M100/'IN (mmol|L)'!$V$111) -> 5.3 | BO7: =IF('IN (mmol|L)'!N100="",AVERAGE(BM7:BN7),'IN (mmol|L)'!N100/'IN (mmol|L)'!$V$111) -> 6 | BP7: =TREND($BF7:$BO7,$BF$21:$BO$21,BP$21) -> 4.0813468 | BQ7: =TREND($BF7:$BO7,$BF$21:$BO$21,BQ$21) -> 3.2855219 | BR7: =TREND($BF7:$BO7,$BF$21:$BO$21,BR$21) -> 2.489697
A8: ='IN (mmol|L)'!D8 -> 0.72916667 | B8: =IF('IN (mmol|L)'!E8="",'IN (mmol|L)'!$R8/'IN (mmol|L)'!$V$18,'IN (mmol|L)'!E8/'IN (mmol|L)'!$V$18) -> 6.9444444 | C8: =IF('IN (mmol|L)'!F8="",'IN (mmol|L)'!$R8/'IN (mmol|L)'!$V$18,'IN (mmol|L)'!F8/'IN (mmol|L)'!$V$18) -> 8.2777778 | D8: =IF('IN (mmol|L)'!G8="",AVERAGE(B8:C8),'IN (mmol|L)'!G8/'IN (mmol|L)'!$V$18) -> 7.0555556 | E8: =IF('IN (mmol|L)'!H8="",AVERAGE(B8:D8),'IN (mmol|L)'!H8/'IN (mmol|L)'!$V$18) -> 5 | F8: =IF('IN (mmol|L)'!I8="",AVERAGE(C8:E8),'IN (mmol|L)'!I8/'IN (mmol|L)'!$V$18) -> 9.1666667 | G8: =IF('IN (mmol|L)'!J8="",AVERAGE(D8:F8),'IN (mmol|L)'!J8/'IN (mmol|L)'!$V$18) -> 6 | H8: =IF('IN (mmol|L)'!K8="",AVERAGE(E8:G8),'IN (mmol|L)'!K8/'IN (mmol|L)'!$V$18) -> 9.1666667 | I8: =IF('IN (mmol|L)'!L8="",AVERAGE(F8:H8),'IN (mmol|L)'!L8/'IN (mmol|L)'!$V$18) -> 6.9 | J8: =IF('IN (mmol|L)'!M8="",AVERAGE(G8:I8),'IN (mmol|L)'!M8/'IN (mmol|L)'!$V$18) -> 8.2 | K8: =IF('IN (mmol|L)'!N8="",AVERAGE(H8:J8),'IN (mmol|L)'!N8/'IN (mmol|L)'!$V$18) -> 6.4 | L8: =IF('IN (mmol|L)'!O8="",AVERAGE(I8:K8),'IN (mmol|L)'!O8/'IN (mmol|L)'!$V$18) -> 5 | ... N8: =IF('IN (mmol|L)'!Q8="",AVERAGE(K8:M8),'IN (mmol|L)'!Q8/'IN (mmol|L)'!$V$18) -> 4.9 | O8: =IF('IN (mmol|L)'!E31="",AVERAGE(L8:N8),'IN (mmol|L)'!E31/'IN (mmol|L)'!$V$41) -> 6.8 | P8: =IF('IN (mmol|L)'!F31="",AVERAGE(M8:O8),'IN (mmol|L)'!F31/'IN (mmol|L)'!$V$41) -> 8.2 | Q8: =IF('IN (mmol|L)'!G31="",AVERAGE(N8:P8),'IN (mmol|L)'!G31/'IN (mmol|L)'!$V$41) -> 6.6333333 | R8: =IF('IN (mmol|L)'!H31="",AVERAGE(O8:Q8),'IN (mmol|L)'!H31/'IN (mmol|L)'!$V$41) -> 7.2111111 | S8: =IF('IN (mmol|L)'!I31="",AVERAGE(P8:R8),'IN (mmol|L)'!I31/'IN (mmol|L)'!$V$41) -> 7.3481481 | T8: =IF('IN (mmol|L)'!J31="",AVERAGE(Q8:S8),'IN (mmol|L)'!J31/'IN (mmol|L)'!$V$41) -> 7.0641975 | U8: =IF('IN (mmol|L)'!K31="",AVERAGE(R8:T8),'IN (mmol|L)'!K31/'IN (mmol|L)'!$V$41) -> 7.2078189 | V8: =IF('IN (mmol|L)'!L31="",AVERAGE(S8:U8),'IN (mmol|L)'!L31/'IN (mmol|L)'!$V$41) -> 7.2067215 | ... AA8: =IF('IN (mmol|L)'!Q31="",AVERAGE(X8:Z8),'IN (mmol|L)'!Q31/'IN (mmol|L)'!$V$41) -> 7.1854042 | AB8: =IF('IN (mmol|L)'!E54="",AVERAGE(Y8:AA8),'IN (mmol|L)'!E54/'IN (mmol|L)'!$V$64) -> 7.1834145 | AC8: =IF('IN (mmol|L)'!F54="",AVERAGE(Z8:AB8),'IN (mmol|L)'!F54/'IN (mmol|L)'!$V$64) -> 7.1825889 | AD8: =IF('IN (mmol|L)'!G54="",AVERAGE(AA8:AC8),'IN (mmol|L)'!G54/'IN (mmol|L)'!$V$64) -> 7.1838026 | AE8: =IF('IN (mmol|L)'!H54="",AVERAGE(AB8:AD8),'IN (mmol|L)'!H54/'IN (mmol|L)'!$V$64) -> 7.1832687 | AF8: =IF('IN (mmol|L)'!I54="",AVERAGE(AC8:AE8),'IN (mmol|L)'!I54/'IN (mmol|L)'!$V$64) -> 7.18322 | AG8: =IF('IN (mmol|L)'!J54="",AVERAGE(AD8:AF8),'IN (mmol|L)'!J54/'IN (mmol|L)'!$V$64) -> 7.1834304 | AH8: =IF('IN (mmol|L)'!K54="",AVERAGE(AE8:AG8),'IN (mmol|L)'!K54/'IN (mmol|L)'!$V$64) -> 7.1833064 | AI8: =IF('IN (mmol|L)'!L54="",AVERAGE(AF8:AH8),'IN (mmol|L)'!L54/'IN (mmol|L)'!$V$64) -> 7.1833189 | ... AN8: =IF('IN (mmol|L)'!Q54="",AVERAGE(AK8:AM8),'IN (mmol|L)'!Q54/'IN (mmol|L)'!$V$64) -> 7.1833315 | AO8: =IF('IN (mmol|L)'!E77="",AVERAGE(AL8:AN8),'IN (mmol|L)'!E77/'IN (mmol|L)'!$V$87) -> 7.1833334 | AP8: =IF('IN (mmol|L)'!F77="",AVERAGE(AM8:AO8),'IN (mmol|L)'!F77/'IN (mmol|L)'!$V$87) -> 7.1833339 | AQ8: =IF('IN (mmol|L)'!G77="",AVERAGE(AN8:AP8),'IN (mmol|L)'!G77/'IN (mmol|L)'!$V$87) -> 7.1833329 | AR8: =IF('IN (mmol|L)'!H77="",AVERAGE(AO8:AQ8),'IN (mmol|L)'!H77/'IN (mmol|L)'!$V$87) -> 7.1833334 | AS8: =IF('IN (mmol|L)'!I77="",AVERAGE(AP8:AR8),'IN (mmol|L)'!I77/'IN (mmol|L)'!$V$87) -> 7.1833334 | AT8: =IF('IN (mmol|L)'!J77="",AVERAGE(AQ8:AS8),'IN (mmol|L)'!J77/'IN (mmol|L)'!$V$87) -> 7.1833333 | AU8: =IF('IN (mmol|L)'!K77="",AVERAGE(AR8:AT8),'IN (mmol|L)'!K77/'IN (mmol|L)'!$V$87) -> 7.1833334 | AV8: =IF('IN (mmol|L)'!L77="",AVERAGE(AS8:AU8),'IN (mmol|L)'!L77/'IN (mmol|L)'!$V$87) -> 7.1833333 | ... BA8: =IF('IN (mmol|L)'!Q77="",AVERAGE(AX8:AZ8),'IN (mmol|L)'!Q77/'IN (mmol|L)'!$V$87) -> 7.1833333 | BB8: =AVERAGE($B8:$BA8) -> 7.1644231 | BC8: =STDEV($B8:$BA8) -> 0.79937529 | BD8: =BB8-2*BC8 -> 5.5656725 | BE8: =BB8+2*BC8 -> 8.7631737 | BF8: =IF('IN (mmol|L)'!E101="",'IN (mmol|L)'!$R101/'IN (mmol|L)'!$V$111,'IN (mmol|L)'!E101/'IN (mmol|L)'!$V$111) -> 6 | BG8: =IF('IN (mmol|L)'!F101="",'IN (mmol|L)'!$R101/'IN (mmol|L)'!$V$111,'IN (mmol|L)'!F101/'IN (mmol|L)'!$V$111) -> 9.1666667 | BH8: =IF('IN (mmol|L)'!G101="",AVERAGE(BF8:BG8),'IN (mmol|L)'!G101/'IN (mmol|L)'!$V$111) -> 6.9 | BI8: =IF('IN (mmol|L)'!H101="",AVERAGE(BG8:BH8),'IN (mmol|L)'!H101/'IN (mmol|L)'!$V$111) -> 8.2 | BJ8: =IF('IN (mmol|L)'!I101="",AVERAGE(BH8:BI8),'IN (mmol|L)'!I101/'IN (mmol|L)'!$V$111) -> 6.4 | BK8: =IF('IN (mmol|L)'!J101="",AVERAGE(BI8:BJ8),'IN (mmol|L)'!J101/'IN (mmol|L)'!$V$111) -> 5 | BL8: =IF('IN (mmol|L)'!K101="",AVERAGE(BJ8:BK8),'IN (mmol|L)'!K101/'IN (mmol|L)'!$V$111) -> 9.2 | BM8: =IF('IN (mmol|L)'!L101="",AVERAGE(BK8:BL8),'IN (mmol|L)'!L101/'IN (mmol|L)'!$V$111) -> 4.9 | BN8: =IF('IN (mmol|L)'!M101="",AVERAGE(BL8:BM8),'IN (mmol|L)'!M101/'IN (mmol|L)'!$V$111) -> 6.8 | BO8: =IF('IN (mmol|L)'!N101="",AVERAGE(BM8:BN8),'IN (mmol|L)'!N101/'IN (mmol|L)'!$V$111) -> 8.2 | BP8: =TREND($BF8:$BO8,$BF$21:$BO$21,BP$21) -> 6.8731313 | BQ8: =TREND($BF8:$BO8,$BF$21:$BO$21,BQ$21) -> 6.8105051 | BR8: =TREND($BF8:$BO8,$BF$21:$BO$21,BR$21) -> 6.7478788
A9: ='IN (mmol|L)'!D9 -> 0.83333333 | B9: =IF('IN (mmol|L)'!E9="",'IN (mmol|L)'!$R9/'IN (mmol|L)'!$V$18,'IN (mmol|L)'!E9/'IN (mmol|L)'!$V$18) -> 7.7222222 | C9: =IF('IN (mmol|L)'!F9="",'IN (mmol|L)'!$R9/'IN (mmol|L)'!$V$18,'IN (mmol|L)'!F9/'IN (mmol|L)'!$V$18) -> 10.722222 | D9: =IF('IN (mmol|L)'!G9="",AVERAGE(B9:C9),'IN (mmol|L)'!G9/'IN (mmol|L)'!$V$18) -> 9.2222222 | E9: =IF('IN (mmol|L)'!H9="",AVERAGE(B9:D9),'IN (mmol|L)'!H9/'IN (mmol|L)'!$V$18) -> 11.944444 | F9: =IF('IN (mmol|L)'!I9="",AVERAGE(C9:E9),'IN (mmol|L)'!I9/'IN (mmol|L)'!$V$18) -> 10.666667 | G9: =IF('IN (mmol|L)'!J9="",AVERAGE(D9:F9),'IN (mmol|L)'!J9/'IN (mmol|L)'!$V$18) -> 5.9444444 | H9: =IF('IN (mmol|L)'!K9="",AVERAGE(E9:G9),'IN (mmol|L)'!K9/'IN (mmol|L)'!$V$18) -> 10.722222 | I9: =IF('IN (mmol|L)'!L9="",AVERAGE(F9:H9),'IN (mmol|L)'!L9/'IN (mmol|L)'!$V$18) -> 7.7 | J9: =IF('IN (mmol|L)'!M9="",AVERAGE(G9:I9),'IN (mmol|L)'!M9/'IN (mmol|L)'!$V$18) -> 10.7 | K9: =IF('IN (mmol|L)'!N9="",AVERAGE(H9:J9),'IN (mmol|L)'!N9/'IN (mmol|L)'!$V$18) -> 7 | L9: =IF('IN (mmol|L)'!O9="",AVERAGE(I9:K9),'IN (mmol|L)'!O9/'IN (mmol|L)'!$V$18) -> 11.9 | ... N9: =IF('IN (mmol|L)'!Q9="",AVERAGE(K9:M9),'IN (mmol|L)'!Q9/'IN (mmol|L)'!$V$18) -> 5.2 | O9: =IF('IN (mmol|L)'!E32="",AVERAGE(L9:N9),'IN (mmol|L)'!E32/'IN (mmol|L)'!$V$41) -> 5.2 | P9: =IF('IN (mmol|L)'!F32="",AVERAGE(M9:O9),'IN (mmol|L)'!F32/'IN (mmol|L)'!$V$41) -> 8.7 | Q9: =IF('IN (mmol|L)'!G32="",AVERAGE(N9:P9),'IN (mmol|L)'!G32/'IN (mmol|L)'!$V$41) -> 6.3666667 | R9: =IF('IN (mmol|L)'!H32="",AVERAGE(O9:Q9),'IN (mmol|L)'!H32/'IN (mmol|L)'!$V$41) -> 6.7555556 | S9: =IF('IN (mmol|L)'!I32="",AVERAGE(P9:R9),'IN (mmol|L)'!I32/'IN (mmol|L)'!$V$41) -> 7.2740741 | T9: =IF('IN (mmol|L)'!J32="",AVERAGE(Q9:S9),'IN (mmol|L)'!J32/'IN (mmol|L)'!$V$41) -> 6.7987654 | U9: =IF('IN (mmol|L)'!K32="",AVERAGE(R9:T9),'IN (mmol|L)'!K32/'IN (mmol|L)'!$V$41) -> 6.9427984 | V9: =IF('IN (mmol|L)'!L32="",AVERAGE(S9:U9),'IN (mmol|L)'!L32/'IN (mmol|L)'!$V$41) -> 7.0052126 | ... AA9: =IF('IN (mmol|L)'!Q32="",AVERAGE(X9:Z9),'IN (mmol|L)'!Q32/'IN (mmol|L)'!$V$41) -> 6.9519461 | AB9: =IF('IN (mmol|L)'!E55="",AVERAGE(Y9:AA9),'IN (mmol|L)'!E55/'IN (mmol|L)'!$V$64) -> 6.9510834 | AC9: =IF('IN (mmol|L)'!F55="",AVERAGE(Z9:AB9),'IN (mmol|L)'!F55/'IN (mmol|L)'!$V$64) -> 6.948629 | AD9: =IF('IN (mmol|L)'!G55="",AVERAGE(AA9:AC9),'IN (mmol|L)'!G55/'IN (mmol|L)'!$V$64) -> 6.9505528 | AE9: =IF('IN (mmol|L)'!H55="",AVERAGE(AB9:AD9),'IN (mmol|L)'!H55/'IN (mmol|L)'!$V$64) -> 6.9500884 | AF9: =IF('IN (mmol|L)'!I55="",AVERAGE(AC9:AE9),'IN (mmol|L)'!I55/'IN (mmol|L)'!$V$64) -> 6.9497568 | AG9: =IF('IN (mmol|L)'!J55="",AVERAGE(AD9:AF9),'IN (mmol|L)'!J55/'IN (mmol|L)'!$V$64) -> 6.9501327 | AH9: =IF('IN (mmol|L)'!K55="",AVERAGE(AE9:AG9),'IN (mmol|L)'!K55/'IN (mmol|L)'!$V$64) -> 6.9499926 | AI9: =IF('IN (mmol|L)'!L55="",AVERAGE(AF9:AH9),'IN (mmol|L)'!L55/'IN (mmol|L)'!$V$64) -> 6.9499607 | ... AN9: =IF('IN (mmol|L)'!Q55="",AVERAGE(AK9:AM9),'IN (mmol|L)'!Q55/'IN (mmol|L)'!$V$64) -> 6.949998 | AO9: =IF('IN (mmol|L)'!E78="",AVERAGE(AL9:AN9),'IN (mmol|L)'!E78/'IN (mmol|L)'!$V$87) -> 6.9499994 | AP9: =IF('IN (mmol|L)'!F78="",AVERAGE(AM9:AO9),'IN (mmol|L)'!F78/'IN (mmol|L)'!$V$87) -> 6.9500011 | AQ9: =IF('IN (mmol|L)'!G78="",AVERAGE(AN9:AP9),'IN (mmol|L)'!G78/'IN (mmol|L)'!$V$87) -> 6.9499995 | AR9: =IF('IN (mmol|L)'!H78="",AVERAGE(AO9:AQ9),'IN (mmol|L)'!H78/'IN (mmol|L)'!$V$87) -> 6.95 | AS9: =IF('IN (mmol|L)'!I78="",AVERAGE(AP9:AR9),'IN (mmol|L)'!I78/'IN (mmol|L)'!$V$87) -> 6.9500002 | AT9: =IF('IN (mmol|L)'!J78="",AVERAGE(AQ9:AS9),'IN (mmol|L)'!J78/'IN (mmol|L)'!$V$87) -> 6.9499999 | AU9: =IF('IN (mmol|L)'!K78="",AVERAGE(AR9:AT9),'IN (mmol|L)'!K78/'IN (mmol|L)'!$V$87) -> 6.95 | AV9: =IF('IN (mmol|L)'!L78="",AVERAGE(AS9:AU9),'IN (mmol|L)'!L78/'IN (mmol|L)'!$V$87) -> 6.95 | ... BA9: =IF('IN (mmol|L)'!Q78="",AVERAGE(AX9:AZ9),'IN (mmol|L)'!Q78/'IN (mmol|L)'!$V$87) -> 6.95 | BB9: =AVERAGE($B9:$BA9) -> 7.5136752 | BC9: =STDEV($B9:$BA9) -> 1.5410484 | BD9: =BB9-2*BC9 -> 4.4315784 | BE9: =BB9+2*BC9 -> 10.595772 | BF9: =IF('IN (mmol|L)'!E102="",'IN (mmol|L)'!$R102/'IN (mmol|L)'!$V$111,'IN (mmol|L)'!E102/'IN (mmol|L)'!$V$111) -> 5.9444444 | BG9: =IF('IN (mmol|L)'!F102="",'IN (mmol|L)'!$R102/'IN (mmol|L)'!$V$111,'IN (mmol|L)'!F102/'IN (mmol|L)'!$V$111) -> 10.722222 | BH9: =IF('IN (mmol|L)'!G102="",AVERAGE(BF9:BG9),'IN (mmol|L)'!G102/'IN (mmol|L)'!$V$111) -> 7.7 | BI9: =IF('IN (mmol|L)'!H102="",AVERAGE(BG9:BH9),'IN (mmol|L)'!H102/'IN (mmol|L)'!$V$111) -> 10.7 | BJ9: =IF('IN (mmol|L)'!I102="",AVERAGE(BH9:BI9),'IN (mmol|L)'!I102/'IN (mmol|L)'!$V$111) -> 7 | BK9: =IF('IN (mmol|L)'!J102="",AVERAGE(BI9:BJ9),'IN (mmol|L)'!J102/'IN (mmol|L)'!$V$111) -> 11.9 | BL9: =IF('IN (mmol|L)'!K102="",AVERAGE(BJ9:BK9),'IN (mmol|L)'!K102/'IN (mmol|L)'!$V$111) -> 10.8 | BM9: =IF('IN (mmol|L)'!L102="",AVERAGE(BK9:BL9),'IN (mmol|L)'!L102/'IN (mmol|L)'!$V$111) -> 5.2 | BN9: =IF('IN (mmol|L)'!M102="",AVERAGE(BL9:BM9),'IN (mmol|L)'!M102/'IN (mmol|L)'!$V$111) -> 5.2 | BO9: =IF('IN (mmol|L)'!N102="",AVERAGE(BM9:BN9),'IN (mmol|L)'!N102/'IN (mmol|L)'!$V$111) -> 8.7 | BP9: =TREND($BF9:$BO9,$BF$21:$BO$21,BP$21) -> 7.553266 | BQ9: =TREND($BF9:$BO9,$BF$21:$BO$21,BQ$21) -> 7.296835 | BR9: =TREND($BF9:$BO9,$BF$21:$BO$21,BR$21) -> 7.040404
A10: ='IN (mmol|L)'!D10 -> 0.95833333 | B10: =IF('IN (mmol|L)'!E10="",'IN (mmol|L)'!$R10/'IN (mmol|L)'!$V$18,'IN (mmol|L)'!E10/'IN (mmol|L)'!$V$18) -> 7.3888889 | C10: =IF('IN (mmol|L)'!F10="",'IN (mmol|L)'!$R10/'IN (mmol|L)'!$V$18,'IN (mmol|L)'!F10/'IN (mmol|L)'!$V$18) -> 9 | D10: =IF('IN (mmol|L)'!G10="",AVERAGE(B10:C10),'IN (mmol|L)'!G10/'IN (mmol|L)'!$V$18) -> 7.5555556 | E10: =IF('IN (mmol|L)'!H10="",AVERAGE(B10:D10),'IN (mmol|L)'!H10/'IN (mmol|L)'!$V$18) -> 5.2777778 | F10: =IF('IN (mmol|L)'!I10="",AVERAGE(C10:E10),'IN (mmol|L)'!I10/'IN (mmol|L)'!$V$18) -> 9.7222222 | G10: =IF('IN (mmol|L)'!J10="",AVERAGE(D10:F10),'IN (mmol|L)'!J10/'IN (mmol|L)'!$V$18) -> 10 | H10: =IF('IN (mmol|L)'!K10="",AVERAGE(E10:G10),'IN (mmol|L)'!K10/'IN (mmol|L)'!$V$18) -> 7.2222222 | I10: =IF('IN (mmol|L)'!L10="",AVERAGE(F10:H10),'IN (mmol|L)'!L10/'IN (mmol|L)'!$V$18) -> 7.4 | J10: =IF('IN (mmol|L)'!M10="",AVERAGE(G10:I10),'IN (mmol|L)'!M10/'IN (mmol|L)'!$V$18) -> 9 | K10: =IF('IN (mmol|L)'!N10="",AVERAGE(H10:J10),'IN (mmol|L)'!N10/'IN (mmol|L)'!$V$18) -> 7.6 | L10: =IF('IN (mmol|L)'!O10="",AVERAGE(I10:K10),'IN (mmol|L)'!O10/'IN (mmol|L)'!$V$18) -> 5.3 | ... N10: =IF('IN (mmol|L)'!Q10="",AVERAGE(K10:M10),'IN (mmol|L)'!Q10/'IN (mmol|L)'!$V$18) -> 7.5333333 | O10: =IF('IN (mmol|L)'!E33="",AVERAGE(L10:N10),'IN (mmol|L)'!E33/'IN (mmol|L)'!$V$41) -> 5.3 | P10: =IF('IN (mmol|L)'!F33="",AVERAGE(M10:O10),'IN (mmol|L)'!F33/'IN (mmol|L)'!$V$41) -> 7.9 | Q10: =IF('IN (mmol|L)'!G33="",AVERAGE(N10:P10),'IN (mmol|L)'!G33/'IN (mmol|L)'!$V$41) -> 6.9111111 | R10: =IF('IN (mmol|L)'!H33="",AVERAGE(O10:Q10),'IN (mmol|L)'!H33/'IN (mmol|L)'!$V$41) -> 6.7037037 | S10: =IF('IN (mmol|L)'!I33="",AVERAGE(P10:R10),'IN (mmol|L)'!I33/'IN (mmol|L)'!$V$41) -> 7.1716049 | T10: =IF('IN (mmol|L)'!J33="",AVERAGE(Q10:S10),'IN (mmol|L)'!J33/'IN (mmol|L)'!$V$41) -> 6.9288066 | U10: =IF('IN (mmol|L)'!K33="",AVERAGE(R10:T10),'IN (mmol|L)'!K33/'IN (mmol|L)'!$V$41) -> 6.9347051 | V10: =IF('IN (mmol|L)'!L33="",AVERAGE(S10:U10),'IN (mmol|L)'!L33/'IN (mmol|L)'!$V$41) -> 7.0117055 | ... AA10: =IF('IN (mmol|L)'!Q33="",AVERAGE(X10:Z10),'IN (mmol|L)'!Q33/'IN (mmol|L)'!$V$41) -> 6.9721487 | AB10: =IF('IN (mmol|L)'!E56="",AVERAGE(Y10:AA10),'IN (mmol|L)'!E56/'IN (mmol|L)'!$V$64) -> 6.973441 | AC10: =IF('IN (mmol|L)'!F56="",AVERAGE(Z10:AB10),'IN (mmol|L)'!F56/'IN (mmol|L)'!$V$64) -> 6.9714342 | AD10: =IF('IN (mmol|L)'!G56="",AVERAGE(AA10:AC10),'IN (mmol|L)'!G56/'IN (mmol|L)'!$V$64) -> 6.9723413 | AE10: =IF('IN (mmol|L)'!H56="",AVERAGE(AB10:AD10),'IN (mmol|L)'!H56/'IN (mmol|L)'!$V$64) -> 6.9724055 | AF10: =IF('IN (mmol|L)'!I56="",AVERAGE(AC10:AE10),'IN (mmol|L)'!I56/'IN (mmol|L)'!$V$64) -> 6.9720603 | AG10: =IF('IN (mmol|L)'!J56="",AVERAGE(AD10:AF10),'IN (mmol|L)'!J56/'IN (mmol|L)'!$V$64) -> 6.972269 | AH10: =IF('IN (mmol|L)'!K56="",AVERAGE(AE10:AG10),'IN (mmol|L)'!K56/'IN (mmol|L)'!$V$64) -> 6.972245 | AI10: =IF('IN (mmol|L)'!L56="",AVERAGE(AF10:AH10),'IN (mmol|L)'!L56/'IN (mmol|L)'!$V$64) -> 6.9721915 | ... AN10: =IF('IN (mmol|L)'!Q56="",AVERAGE(AK10:AM10),'IN (mmol|L)'!Q56/'IN (mmol|L)'!$V$64) -> 6.972222 | AO10: =IF('IN (mmol|L)'!E79="",AVERAGE(AL10:AN10),'IN (mmol|L)'!E79/'IN (mmol|L)'!$V$87) -> 6.9722214 | AP10: =IF('IN (mmol|L)'!F79="",AVERAGE(AM10:AO10),'IN (mmol|L)'!F79/'IN (mmol|L)'!$V$87) -> 6.9722229 | AQ10: =IF('IN (mmol|L)'!G79="",AVERAGE(AN10:AP10),'IN (mmol|L)'!G79/'IN (mmol|L)'!$V$87) -> 6.9722221 | AR10: =IF('IN (mmol|L)'!H79="",AVERAGE(AO10:AQ10),'IN (mmol|L)'!H79/'IN (mmol|L)'!$V$87) -> 6.9722221 | AS10: =IF('IN (mmol|L)'!I79="",AVERAGE(AP10:AR10),'IN (mmol|L)'!I79/'IN (mmol|L)'!$V$87) -> 6.9722224 | AT10: =IF('IN (mmol|L)'!J79="",AVERAGE(AQ10:AS10),'IN (mmol|L)'!J79/'IN (mmol|L)'!$V$87) -> 6.9722222 | AU10: =IF('IN (mmol|L)'!K79="",AVERAGE(AR10:AT10),'IN (mmol|L)'!K79/'IN (mmol|L)'!$V$87) -> 6.9722222 | AV10: =IF('IN (mmol|L)'!L79="",AVERAGE(AS10:AU10),'IN (mmol|L)'!L79/'IN (mmol|L)'!$V$87) -> 6.9722222 | ... BA10: =IF('IN (mmol|L)'!Q79="",AVERAGE(AX10:AZ10),'IN (mmol|L)'!Q79/'IN (mmol|L)'!$V$87) -> 6.9722222 | BB10: =AVERAGE($B10:$BA10) -> 7.1862892 | BC10: =STDEV($B10:$BA10) -> 0.89579857 | BD10: =BB10-2*BC10 -> 5.394692 | BE10: =BB10+2*BC10 -> 8.9778863 | BF10: =IF('IN (mmol|L)'!E103="",'IN (mmol|L)'!$R103/'IN (mmol|L)'!$V$111,'IN (mmol|L)'!E103/'IN (mmol|L)'!$V$111) -> 10 | BG10: =IF('IN (mmol|L)'!F103="",'IN (mmol|L)'!$R103/'IN (mmol|L)'!$V$111,'IN (mmol|L)'!F103/'IN (mmol|L)'!$V$111) -> 7.2222222 | BH10: =IF('IN (mmol|L)'!G103="",AVERAGE(BF10:BG10),'IN (mmol|L)'!G103/'IN (mmol|L)'!$V$111) -> 7.4 | BI10: =IF('IN (mmol|L)'!H103="",AVERAGE(BG10:BH10),'IN (mmol|L)'!H103/'IN (mmol|L)'!$V$111) -> 9 | BJ10: =IF('IN (mmol|L)'!I103="",AVERAGE(BH10:BI10),'IN (mmol|L)'!I103/'IN (mmol|L)'!$V$111) -> 7.6 | BK10: =IF('IN (mmol|L)'!J103="",AVERAGE(BI10:BJ10),'IN (mmol|L)'!J103/'IN (mmol|L)'!$V$111) -> 5.3 | BL10: =IF('IN (mmol|L)'!K103="",AVERAGE(BJ10:BK10),'IN (mmol|L)'!K103/'IN (mmol|L)'!$V$111) -> 9.7 | BM10: =IF('IN (mmol|L)'!L103="",AVERAGE(BK10:BL10),'IN (mmol|L)'!L103/'IN (mmol|L)'!$V$111) -> 7.5 | BN10: =IF('IN (mmol|L)'!M103="",AVERAGE(BL10:BM10),'IN (mmol|L)'!M103/'IN (mmol|L)'!$V$111) -> 5.3 | BO10: =IF('IN (mmol|L)'!N103="",AVERAGE(BM10:BN10),'IN (mmol|L)'!N103/'IN (mmol|L)'!$V$111) -> 7.9 | BP10: =TREND($BF10:$BO10,$BF$21:$BO$21,BP$21) -> 6.4294276 | BQ10: =TREND($BF10:$BO10,$BF$21:$BO$21,BQ$21) -> 6.0408754 | BR10: =TREND($BF10:$BO10,$BF$21:$BO$21,BR$21) -> 5.6523232
A11: ='IN (mmol|L)'!D11 -> Nacht | B11: =IF('IN (mmol|L)'!E11="",'IN (mmol|L)'!$R11/'IN (mmol|L)'!$V$18,'IN (mmol|L)'!E11/'IN (mmol|L)'!$V$18) -> 5.8888889 | C11: =IF('IN (mmol|L)'!F11="",'IN (mmol|L)'!$R11/'IN (mmol|L)'!$V$18,'IN (mmol|L)'!F11/'IN (mmol|L)'!$V$18) -> 5.6666667 | D11: =IF('IN (mmol|L)'!G11="",AVERAGE(B11:C11),'IN (mmol|L)'!G11/'IN (mmol|L)'!$V$18) -> 6.5 | E11: =IF('IN (mmol|L)'!H11="",AVERAGE(B11:D11),'IN (mmol|L)'!H11/'IN (mmol|L)'!$V$18) -> 6.5555556 | F11: =IF('IN (mmol|L)'!I11="",AVERAGE(C11:E11),'IN (mmol|L)'!I11/'IN (mmol|L)'!$V$18) -> 6.5 | G11: =IF('IN (mmol|L)'!J11="",AVERAGE(D11:F11),'IN (mmol|L)'!J11/'IN (mmol|L)'!$V$18) -> 5.2777778 | H11: =IF('IN (mmol|L)'!K11="",AVERAGE(E11:G11),'IN (mmol|L)'!K11/'IN (mmol|L)'!$V$18) -> 5.5555556 | I11: =IF('IN (mmol|L)'!L11="",AVERAGE(F11:H11),'IN (mmol|L)'!L11/'IN (mmol|L)'!$V$18) -> 5.9 | J11: =IF('IN (mmol|L)'!M11="",AVERAGE(G11:I11),'IN (mmol|L)'!M11/'IN (mmol|L)'!$V$18) -> 5.8 | K11: =IF('IN (mmol|L)'!N11="",AVERAGE(H11:J11),'IN (mmol|L)'!N11/'IN (mmol|L)'!$V$18) -> 6.5 | L11: =IF('IN (mmol|L)'!O11="",AVERAGE(I11:K11),'IN (mmol|L)'!O11/'IN (mmol|L)'!$V$18) -> 6.6 | ... N11: =IF('IN (mmol|L)'!Q11="",AVERAGE(K11:M11),'IN (mmol|L)'!Q11/'IN (mmol|L)'!$V$18) -> 6.5333333 | O11: =IF('IN (mmol|L)'!E34="",AVERAGE(L11:N11),'IN (mmol|L)'!E34/'IN (mmol|L)'!$V$41) -> 5.8 | P11: =IF('IN (mmol|L)'!F34="",AVERAGE(M11:O11),'IN (mmol|L)'!F34/'IN (mmol|L)'!$V$41) -> 6.1 | Q11: =IF('IN (mmol|L)'!G34="",AVERAGE(N11:P11),'IN (mmol|L)'!G34/'IN (mmol|L)'!$V$41) -> 6.1444444 | R11: =IF('IN (mmol|L)'!H34="",AVERAGE(O11:Q11),'IN (mmol|L)'!H34/'IN (mmol|L)'!$V$41) -> 6.0148148 | S11: =IF('IN (mmol|L)'!I34="",AVERAGE(P11:R11),'IN (mmol|L)'!I34/'IN (mmol|L)'!$V$41) -> 6.0864198 | T11: =IF('IN (mmol|L)'!J34="",AVERAGE(Q11:S11),'IN (mmol|L)'!J34/'IN (mmol|L)'!$V$41) -> 6.081893 | U11: =IF('IN (mmol|L)'!K34="",AVERAGE(R11:T11),'IN (mmol|L)'!K34/'IN (mmol|L)'!$V$41) -> 6.0610425 | V11: =IF('IN (mmol|L)'!L34="",AVERAGE(S11:U11),'IN (mmol|L)'!L34/'IN (mmol|L)'!$V$41) -> 6.0764518 | ... AA11: =IF('IN (mmol|L)'!Q34="",AVERAGE(X11:Z11),'IN (mmol|L)'!Q34/'IN (mmol|L)'!$V$41) -> 6.0718902 | AB11: =IF('IN (mmol|L)'!E57="",AVERAGE(Y11:AA11),'IN (mmol|L)'!E57/'IN (mmol|L)'!$V$64) -> 6.072451 | AC11: =IF('IN (mmol|L)'!F57="",AVERAGE(Z11:AB11),'IN (mmol|L)'!F57/'IN (mmol|L)'!$V$64) -> 6.0721804 | AD11: =IF('IN (mmol|L)'!G57="",AVERAGE(AA11:AC11),'IN (mmol|L)'!G57/'IN (mmol|L)'!$V$64) -> 6.0721739 | AE11: =IF('IN (mmol|L)'!H57="",AVERAGE(AB11:AD11),'IN (mmol|L)'!H57/'IN (mmol|L)'!$V$64) -> 6.0722684 | AF11: =IF('IN (mmol|L)'!I57="",AVERAGE(AC11:AE11),'IN (mmol|L)'!I57/'IN (mmol|L)'!$V$64) -> 6.0722075 | AG11: =IF('IN (mmol|L)'!J57="",AVERAGE(AD11:AF11),'IN (mmol|L)'!J57/'IN (mmol|L)'!$V$64) -> 6.0722166 | AH11: =IF('IN (mmol|L)'!K57="",AVERAGE(AE11:AG11),'IN (mmol|L)'!K57/'IN (mmol|L)'!$V$64) -> 6.0722309 | AI11: =IF('IN (mmol|L)'!L57="",AVERAGE(AF11:AH11),'IN (mmol|L)'!L57/'IN (mmol|L)'!$V$64) -> 6.0722183 | ... AN11: =IF('IN (mmol|L)'!Q57="",AVERAGE(AK11:AM11),'IN (mmol|L)'!Q57/'IN (mmol|L)'!$V$64) -> 6.0722225 | AO11: =IF('IN (mmol|L)'!E80="",AVERAGE(AL11:AN11),'IN (mmol|L)'!E80/'IN (mmol|L)'!$V$87) -> 6.072222 | AP11: =IF('IN (mmol|L)'!F80="",AVERAGE(AM11:AO11),'IN (mmol|L)'!F80/'IN (mmol|L)'!$V$87) -> 6.0722223 | AQ11: =IF('IN (mmol|L)'!G80="",AVERAGE(AN11:AP11),'IN (mmol|L)'!G80/'IN (mmol|L)'!$V$87) -> 6.0722223 | AR11: =IF('IN (mmol|L)'!H80="",AVERAGE(AO11:AQ11),'IN (mmol|L)'!H80/'IN (mmol|L)'!$V$87) -> 6.0722222 | AS11: =IF('IN (mmol|L)'!I80="",AVERAGE(AP11:AR11),'IN (mmol|L)'!I80/'IN (mmol|L)'!$V$87) -> 6.0722222 | AT11: =IF('IN (mmol|L)'!J80="",AVERAGE(AQ11:AS11),'IN (mmol|L)'!J80/'IN (mmol|L)'!$V$87) -> 6.0722222 | AU11: =IF('IN (mmol|L)'!K80="",AVERAGE(AR11:AT11),'IN (mmol|L)'!K80/'IN (mmol|L)'!$V$87) -> 6.0722222 | AV11: =IF('IN (mmol|L)'!L80="",AVERAGE(AS11:AU11),'IN (mmol|L)'!L80/'IN (mmol|L)'!$V$87) -> 6.0722222 | ... BA11: =IF('IN (mmol|L)'!Q80="",AVERAGE(AX11:AZ11),'IN (mmol|L)'!Q80/'IN (mmol|L)'!$V$87) -> 6.0722222 | BB11: =AVERAGE($B11:$BA11) -> 6.0842593 | BC11: =STDEV($B11:$BA11) -> 0.23149114 | BD11: =BB11-2*BC11 -> 5.621277 | BE11: =BB11+2*BC11 -> 6.5472415 | BF11: =IF('IN (mmol|L)'!E104="",'IN (mmol|L)'!$R104/'IN (mmol|L)'!$V$111,'IN (mmol|L)'!E104/'IN (mmol|L)'!$V$111) -> 5.2777778 | BG11: =IF('IN (mmol|L)'!F104="",'IN (mmol|L)'!$R104/'IN (mmol|L)'!$V$111,'IN (mmol|L)'!F104/'IN (mmol|L)'!$V$111) -> 5.5555556 | BH11: =IF('IN (mmol|L)'!G104="",AVERAGE(BF11:BG11),'IN (mmol|L)'!G104/'IN (mmol|L)'!$V$111) -> 5.9 | BI11: =IF('IN (mmol|L)'!H104="",AVERAGE(BG11:BH11),'IN (mmol|L)'!H104/'IN (mmol|L)'!$V$111) -> 5.8 | BJ11: =IF('IN (mmol|L)'!I104="",AVERAGE(BH11:BI11),'IN (mmol|L)'!I104/'IN (mmol|L)'!$V$111) -> 6.5 | BK11: =IF('IN (mmol|L)'!J104="",AVERAGE(BI11:BJ11),'IN (mmol|L)'!J104/'IN (mmol|L)'!$V$111) -> 6.6 | BL11: =IF('IN (mmol|L)'!K104="",AVERAGE(BJ11:BK11),'IN (mmol|L)'!K104/'IN (mmol|L)'!$V$111) -> 6.5 | BM11: =IF('IN (mmol|L)'!L104="",AVERAGE(BK11:BL11),'IN (mmol|L)'!L104/'IN (mmol|L)'!$V$111) -> 6.55 | BN11: =IF('IN (mmol|L)'!M104="",AVERAGE(BL11:BM11),'IN (mmol|L)'!M104/'IN (mmol|L)'!$V$111) -> 5.8 | BO11: =IF('IN (mmol|L)'!N104="",AVERAGE(BM11:BN11),'IN (mmol|L)'!N104/'IN (mmol|L)'!$V$111) -> 6.1 | BP11: =TREND($BF11:$BO11,$BF$21:$BO$21,BP$21) -> 6.6319529 | BQ11: =TREND($BF11:$BO11,$BF$21:$BO$21,BQ$21) -> 6.8084512 | BR11: =TREND($BF11:$BO11,$BF$21:$BO$21,BR$21) -> 6.9849495
A12: ='IN (mmol|L)'!D12 -> Früh | B12: =IF('IN (mmol|L)'!E12="",'IN (mmol|L)'!$R12/'IN (mmol|L)'!$V$18,'IN (mmol|L)'!E12/'IN (mmol|L)'!$V$18) -> 6.1666667 | C12: =IF('IN (mmol|L)'!F12="",'IN (mmol|L)'!$R12/'IN (mmol|L)'!$V$18,'IN (mmol|L)'!F12/'IN (mmol|L)'!$V$18) -> 6.1111111 | D12: =IF('IN (mmol|L)'!G12="",AVERAGE(B12:C12),'IN (mmol|L)'!G12/'IN (mmol|L)'!$V$18) -> 6 | E12: =IF('IN (mmol|L)'!H12="",AVERAGE(B12:D12),'IN (mmol|L)'!H12/'IN (mmol|L)'!$V$18) -> 6.2222222 | F12: =IF('IN (mmol|L)'!I12="",AVERAGE(C12:E12),'IN (mmol|L)'!I12/'IN (mmol|L)'!$V$18) -> 6 | G12: =IF('IN (mmol|L)'!J12="",AVERAGE(D12:F12),'IN (mmol|L)'!J12/'IN (mmol|L)'!$V$18) -> 6.2777778 | H12: =IF('IN (mmol|L)'!K12="",AVERAGE(E12:G12),'IN (mmol|L)'!K12/'IN (mmol|L)'!$V$18) -> 6.2222222 | I12: =IF('IN (mmol|L)'!L12="",AVERAGE(F12:H12),'IN (mmol|L)'!L12/'IN (mmol|L)'!$V$18) -> 6.1666667 | J12: =IF('IN (mmol|L)'!M12="",AVERAGE(G12:I12),'IN (mmol|L)'!M12/'IN (mmol|L)'!$V$18) -> 6.2222222 | K12: =IF('IN (mmol|L)'!N12="",AVERAGE(H12:J12),'IN (mmol|L)'!N12/'IN (mmol|L)'!$V$18) -> 6 | L12: =IF('IN (mmol|L)'!O12="",AVERAGE(I12:K12),'IN (mmol|L)'!O12/'IN (mmol|L)'!$V$18) -> 6.2 | ... N12: =IF('IN (mmol|L)'!Q12="",AVERAGE(K12:M12),'IN (mmol|L)'!Q12/'IN (mmol|L)'!$V$18) -> 6.1135802 | O12: =IF('IN (mmol|L)'!E35="",AVERAGE(L12:N12),'IN (mmol|L)'!E35/'IN (mmol|L)'!$V$41) -> 6.2 | P12: =IF('IN (mmol|L)'!F35="",AVERAGE(M12:O12),'IN (mmol|L)'!F35/'IN (mmol|L)'!$V$41) -> 6.3 | Q12: =IF('IN (mmol|L)'!G35="",AVERAGE(N12:P12),'IN (mmol|L)'!G35/'IN (mmol|L)'!$V$41) -> 6.2045267 | R12: =IF('IN (mmol|L)'!H35="",AVERAGE(O12:Q12),'IN (mmol|L)'!H35/'IN (mmol|L)'!$V$41) -> 6.2348422 | S12: =IF('IN (mmol|L)'!I35="",AVERAGE(P12:R12),'IN (mmol|L)'!I35/'IN (mmol|L)'!$V$41) -> 6.2464563 | T12: =IF('IN (mmol|L)'!J35="",AVERAGE(Q12:S12),'IN (mmol|L)'!J35/'IN (mmol|L)'!$V$41) -> 6.2286084 | U12: =IF('IN (mmol|L)'!K35="",AVERAGE(R12:T12),'IN (mmol|L)'!K35/'IN (mmol|L)'!$V$41) -> 6.2366357 | V12: =IF('IN (mmol|L)'!L35="",AVERAGE(S12:U12),'IN (mmol|L)'!L35/'IN (mmol|L)'!$V$41) -> 6.2372335 | ... AA12: =IF('IN (mmol|L)'!Q35="",AVERAGE(X12:Z12),'IN (mmol|L)'!Q35/'IN (mmol|L)'!$V$41) -> 6.2357111 | AB12: =IF('IN (mmol|L)'!E58="",AVERAGE(Y12:AA12),'IN (mmol|L)'!E58/'IN (mmol|L)'!$V$64) -> 6.2356116 | AC12: =IF('IN (mmol|L)'!F58="",AVERAGE(Z12:AB12),'IN (mmol|L)'!F58/'IN (mmol|L)'!$V$64) -> 6.2355486 | AD12: =IF('IN (mmol|L)'!G58="",AVERAGE(AA12:AC12),'IN (mmol|L)'!G58/'IN (mmol|L)'!$V$64) -> 6.2356238 | AE12: =IF('IN (mmol|L)'!H58="",AVERAGE(AB12:AD12),'IN (mmol|L)'!H58/'IN (mmol|L)'!$V$64) -> 6.2355947 | AF12: =IF('IN (mmol|L)'!I58="",AVERAGE(AC12:AE12),'IN (mmol|L)'!I58/'IN (mmol|L)'!$V$64) -> 6.235589 | AG12: =IF('IN (mmol|L)'!J58="",AVERAGE(AD12:AF12),'IN (mmol|L)'!J58/'IN (mmol|L)'!$V$64) -> 6.2356025 | AH12: =IF('IN (mmol|L)'!K58="",AVERAGE(AE12:AG12),'IN (mmol|L)'!K58/'IN (mmol|L)'!$V$64) -> 6.2355954 | AI12: =IF('IN (mmol|L)'!L58="",AVERAGE(AF12:AH12),'IN (mmol|L)'!L58/'IN (mmol|L)'!$V$64) -> 6.2355956 | ... AN12: =IF('IN (mmol|L)'!Q58="",AVERAGE(AK12:AM12),'IN (mmol|L)'!Q58/'IN (mmol|L)'!$V$64) -> 6.2355966 | AO12: =IF('IN (mmol|L)'!E81="",AVERAGE(AL12:AN12),'IN (mmol|L)'!E81/'IN (mmol|L)'!$V$87) -> 6.2355967 | AP12: =IF('IN (mmol|L)'!F81="",AVERAGE(AM12:AO12),'IN (mmol|L)'!F81/'IN (mmol|L)'!$V$87) -> 6.2355967 | AQ12: =IF('IN (mmol|L)'!G81="",AVERAGE(AN12:AP12),'IN (mmol|L)'!G81/'IN (mmol|L)'!$V$87) -> 6.2355967 | AR12: =IF('IN (mmol|L)'!H81="",AVERAGE(AO12:AQ12),'IN (mmol|L)'!H81/'IN (mmol|L)'!$V$87) -> 6.2355967 | AS12: =IF('IN (mmol|L)'!I81="",AVERAGE(AP12:AR12),'IN (mmol|L)'!I81/'IN (mmol|L)'!$V$87) -> 6.2355967 | AT12: =IF('IN (mmol|L)'!J81="",AVERAGE(AQ12:AS12),'IN (mmol|L)'!J81/'IN (mmol|L)'!$V$87) -> 6.2355967 | AU12: =IF('IN (mmol|L)'!K81="",AVERAGE(AR12:AT12),'IN (mmol|L)'!K81/'IN (mmol|L)'!$V$87) -> 6.2355967 | AV12: =IF('IN (mmol|L)'!L81="",AVERAGE(AS12:AU12),'IN (mmol|L)'!L81/'IN (mmol|L)'!$V$87) -> 6.2355967 | ... BA12: =IF('IN (mmol|L)'!Q81="",AVERAGE(AX12:AZ12),'IN (mmol|L)'!Q81/'IN (mmol|L)'!$V$87) -> 6.2355967 | BB12: =AVERAGE($B12:$BA12) -> 6.2121927 | BC12: =STDEV($B12:$BA12) -> 0.062159858 | BD12: =BB12-2*BC12 -> 6.087873 | BE12: =BB12+2*BC12 -> 6.3365124 | BF12: =IF('IN (mmol|L)'!E105="",'IN (mmol|L)'!$R105/'IN (mmol|L)'!$V$111,'IN (mmol|L)'!E105/'IN (mmol|L)'!$V$111) -> 6.2777778 | BG12: =IF('IN (mmol|L)'!F105="",'IN (mmol|L)'!$R105/'IN (mmol|L)'!$V$111,'IN (mmol|L)'!F105/'IN (mmol|L)'!$V$111) -> 6.2222222 | BH12: =IF('IN (mmol|L)'!G105="",AVERAGE(BF12:BG12),'IN (mmol|L)'!G105/'IN (mmol|L)'!$V$111) -> 6.25 | BI12: =IF('IN (mmol|L)'!H105="",AVERAGE(BG12:BH12),'IN (mmol|L)'!H105/'IN (mmol|L)'!$V$111) -> 6.2361111 | BJ12: =IF('IN (mmol|L)'!I105="",AVERAGE(BH12:BI12),'IN (mmol|L)'!I105/'IN (mmol|L)'!$V$111) -> 6 | BK12: =IF('IN (mmol|L)'!J105="",AVERAGE(BI12:BJ12),'IN (mmol|L)'!J105/'IN (mmol|L)'!$V$111) -> 6.2 | BL12: =IF('IN (mmol|L)'!K105="",AVERAGE(BJ12:BK12),'IN (mmol|L)'!K105/'IN (mmol|L)'!$V$111) -> 6.1 | BM12: =IF('IN (mmol|L)'!L105="",AVERAGE(BK12:BL12),'IN (mmol|L)'!L105/'IN (mmol|L)'!$V$111) -> 6.15 | BN12: =IF('IN (mmol|L)'!M105="",AVERAGE(BL12:BM12),'IN (mmol|L)'!M105/'IN (mmol|L)'!$V$111) -> 6.2 | BO12: =IF('IN (mmol|L)'!N105="",AVERAGE(BM12:BN12),'IN (mmol|L)'!N105/'IN (mmol|L)'!$V$111) -> 6.3 | BP12: =TREND($BF12:$BO12,$BF$21:$BO$21,BP$21) -> 6.1674579 | BQ12: =TREND($BF12:$BO12,$BF$21:$BO$21,BQ$21) -> 6.1594108 | BR12: =TREND($BF12:$BO12,$BF$21:$BO$21,BR$21) -> 6.1513636
A13: T-MW | B13: =TRIMMEAN(B4:B12,0.25) -> 6.9285714 | C13: =TRIMMEAN(C4:C12,0.25) -> 7.3650794 | D13: =TRIMMEAN(D4:D12,0.25) -> 7.0714286 | E13: =TRIMMEAN(E4:E12,0.25) -> 6.968254 | F13: =TRIMMEAN(F4:F12,0.25) -> 8.0952381 | G13: =TRIMMEAN(G4:G12,0.25) -> 7.0873016 | H13: =TRIMMEAN(H4:H12,0.25) -> 7.7460317 | I13: =TRIMMEAN(I4:I12,0.25) -> 6.9238095 | ... BA13: =TRIMMEAN(BA4:BA12,0.25) -> 6.6725456 | BF13: =AVERAGE(BF4:BF12) -> 7.4444444 | BG13: =AVERAGE(BG4:BG12) -> 7.8333333 | BH13: =AVERAGE(BH4:BH12) -> 7.1055556 | BI13: =AVERAGE(BI4:BI12) -> 7.570679 | BJ13: =AVERAGE(BJ4:BJ12) -> 7.25 | BK13: =AVERAGE(BK4:BK12) -> 7.2333333 | BL13: =AVERAGE(BL4:BL12) -> 8.1777778 | BM13: =AVERAGE(BM4:BM12) -> 6.2888889 | ... BR13: =AVERAGE(BR4:BR12) -> 6.4454938
A14: min | B14: =MIN(B4:B12) -> 4.7777778 | C14: =MIN(C4:C12) -> 5.6666667 | D14: =MIN(D4:D12) -> 6 | E14: =MIN(E4:E12) -> 5 | F14: =MIN(F4:F12) -> 6 | G14: =MIN(G4:G12) -> 5.2777778 | H14: =MIN(H4:H12) -> 5.5555556 | I14: =MIN(I4:I12) -> 4.8 | ... BA14: =MIN(BA4:BA12) -> 5.5314815 | BF14: =MIN(BF4:BF12) -> 5.2777778 | BG14: =MIN(BG4:BG12) -> 5.5555556 | BH14: =MIN(BH4:BH12) -> 4.8 | BI14: =MIN(BI4:BI12) -> 5.8 | BJ14: =MIN(BJ4:BJ12) -> 6 | BK14: =MIN(BK4:BK12) -> 5 | BL14: =MIN(BL4:BL12) -> 6 | BM14: =MIN(BM4:BM12) -> 4.5 | ... BR14: =MIN(BR4:BR12) -> 2.489697
A15: max | B15: =MAX(B4:B12) -> 10.611111 | C15: =MAX(C4:C12) -> 10.722222 | D15: =MAX(D4:D12) -> 10.388889 | E15: =MAX(E4:E12) -> 11.944444 | F15: =MAX(F4:F12) -> 10.666667 | G15: =MAX(G4:G12) -> 12.111111 | H15: =MAX(H4:H12) -> 10.722222 | I15: =MAX(I4:I12) -> 10.6 | ... BA15: =MAX(BA4:BA12) -> 9.6777778 | BF15: =MAX(BF4:BF12) -> 12.111111 | BG15: =MAX(BG4:BG12) -> 10.722222 | BH15: =MAX(BH4:BH12) -> 10.6 | BI15: =MAX(BI4:BI12) -> 10.7 | BJ15: =MAX(BJ4:BJ12) -> 10.3 | BK15: =MAX(BK4:BK12) -> 11.9 | BL15: =MAX(BL4:BL12) -> 10.8 | BM15: =MAX(BM4:BM12) -> 9.6 | ... BR15: =MAX(BR4:BR12) -> 9.1167677
A16: GL-MW | B16: =B13 -> 6.9285714 | C16: =AVERAGE(B13:C13) -> 7.1468254 | D16: =AVERAGE(B13:D13) -> 7.1216931 | E16: =AVERAGE(B13:E13) -> 7.0833333 | F16: =AVERAGE(C13:F13) -> 7.375 | G16: =AVERAGE(D13:G13) -> 7.3055556 | H16: =AVERAGE(E13:H13) -> 7.4742063 | I16: =AVERAGE(F13:I13) -> 7.4630952 | J16: =AVERAGE(G13:J13) -> 7.2829365 | K16: =AVERAGE(H13:K13) -> 7.2740741 | L16: =AVERAGE(I13:L13) -> 7.0589947 | ... N16: =AVERAGE(K13:N13) -> 7.0327601 | O16: =AVERAGE(L13:P13) -> 6.89806 | P16: =AVERAGE(M13:P13) -> 6.9011464 | Q16: =AVERAGE(N13:Q13) -> 6.4903292 | R16: =AVERAGE(O13:R13) -> 6.6279933 | S16: =AVERAGE(P13:S13) -> 6.7752874 | T16: =AVERAGE(Q13:T13) -> 6.6241927 | U16: =AVERAGE(R13:U13) -> 6.671724 | V16: =AVERAGE(S13:V13) -> 6.6892109 | W16: =AVERAGE(T13:W13) -> 6.6617092 | ... BA16: =AVERAGE(AX13:BA13) -> 6.6725456 | BF16: =BF13 -> 7.4444444 | BG16: =AVERAGE(BF13:BG13) -> 7.6388889 | BH16: =AVERAGE(BF13:BH13) -> 7.4611111 | BI16: =AVERAGE(BF13:BI13) -> 7.4885031 | BJ16: =AVERAGE(BG13:BJ13) -> 7.439892 | BK16: =AVERAGE(BH13:BK13) -> 7.289892 | BL16: =AVERAGE(BI13:BL13) -> 7.5579475 | BM16: =AVERAGE(BJ13:BM13) -> 7.2375 | BN16: =AVERAGE(BH13:BN13) -> 7.1561287 | BO16: =AVERAGE(BI13:BO13) -> 7.1870811 | BP16: =AVERAGE(BJ13:BP13) -> 7.0711728 | BQ16: =AVERAGE(BK13:BQ13) -> 6.9786596 | BR16: =AVERAGE(BL13:BR13) -> 6.8661111
B17: =((B16)+86)/33.3 -> 2.7906478 | C17: =((C16)+86)/33.3 -> 2.797202 | D17: =((D16)+86)/33.3 -> 2.7964472 | E17: =((E16)+86)/33.3 -> 2.7952953 | F17: =((F16)+86)/33.3 -> 2.8040541 | G17: =((G16)+86)/33.3 -> 2.8019686 | H17: =((H16)+86)/33.3 -> 2.8070332 | I17: =((I16)+86)/33.3 -> 2.8066996 | ... BA17: =((BA16)+86)/33.3 -> 2.7829593 | BB17: HbA1c-täglich
A18: Stabw | B18: =STDEV(B4:B12) -> 1.6838874 | C18: =STDEV(C4:C12) -> 1.7680822 | D18: =STDEV(D4:D12) -> 1.5198729 | E18: =STDEV(E4:E12) -> 2.4714592 | F18: =STDEV(F4:F12) -> 2.0169039 | G18: =STDEV(G4:G12) -> 2.2523993 | H18: =STDEV(H4:H12) -> 1.8373273 | I18: =STDEV(I4:I12) -> 1.6718623 | ... BA18: =STDEV(BA4:BA12) -> 1.2062834 | BF18: =STDEV(BF4:BF12) -> 2.2523993 | BG18: =STDEV(BG4:BG12) -> 1.8373273 | BH18: =STDEV(BH4:BH12) -> 1.6662916 | BI18: =STDEV(BI4:BI12) -> 1.7364639 | BJ18: =STDEV(BJ4:BJ12) -> 1.4168627 | BK18: =STDEV(BK4:BK12) -> 2.4171264 | BL18: =STDEV(BL4:BL12) -> 2.0029839 | BM18: =STDEV(BM4:BM12) -> 1.5380137 | ... BR18: =STDEV(BR4:BR12) -> 1.828125
B19: >14,0 | C19: 12,5-14,0 | D19: 11,0-12,5 | E19: 9,5-11,0 | F19: 8,0-9,5 | G19: 6,5-8,0 | H19: 5,0-6,5 | I19: 3,5-5,0 | J19: 2,0-3,5 | K19: < 2,0 | O19: >14,0 | P19: 12,5-14,0 | Q19: 11,0-12,5 | R19: 9,5-11,0 | S19: 8,0-9,5 | T19: 6,5-8,0 | U19: 5,0-6,5 | V19: 3,5-5,0 | W19: 2,0-3,5 | X19: < 2,0 | AB19: >14,0 | AC19: 12,5-14,0 | AD19: 11,0-12,5 | AE19: 9,5-11,0 | AF19: 8,0-9,5 | AG19: 6,5-8,0 | AH19: 5,0-6,5 | AI19: 3,5-5,0 | AJ19: 2,0-3,5 | AK19: < 2,0 | AO19: >14,0 | AP19: 12,5-14,0 | AQ19: 11,0-12,5 | AR19: 9,5-11,0 | AS19: 8,0-9,5 | AT19: 6,5-8,0 | AU19: 5,0-6,5 | AV19: 3,5-5,0 | AW19: 2,0-3,5 | AX19: < 2,0 | BF19: >14,0 | BG19: 12,5-14,0 | BH19: 11,0-12,5 | BI19: 9,5-11,0 | BJ19: 8,0-9,5 | BK19: 6,5-8,0 | BL19: 5,0-6,5 | BM19: 3,5-5,0 | BN19: 2,0-3,5 | BO19: < 2,0
B20: =COUNTIF(B4:N12,">14") -> 0 | C20: =COUNTIF(B4:N12,">12,5")-B20 -> 0 | D20: =COUNTIF(B4:N12,">11,0")-SUM(B20:C20) -> 3 | E20: =COUNTIF(B4:N12,">9,5")-SUM(B20:D20) -> 18 | F20: =COUNTIF(B4:N12,">8,0")-SUM(B20:E20) -> 19 | G20: =COUNTIF(B4:N12,">6,5")-SUM(B20:F20) -> 21 | H20: =COUNTIF(B4:N12,">5,0")-SUM(B20:G20) -> 50 | I20: =COUNTIF(B4:N12,">3,5")-SUM(B20:H20) -> 6 | J20: =COUNTIF(B4:N12,">2,0")-SUM(B20:I20) -> 0 | K20: =COUNTIF(B4:N12,">0")-SUM(B20:J20) -> 0 | O20: =COUNTIF(O4:AA12,">14") -> 0 | P20: =COUNTIF(O4:AA12,">12,5")-O20 -> 0 | Q20: =COUNTIF(O4:AA12,">11,0")-SUM(O20:P20) -> 0 | R20: =COUNTIF(O4:AA12,">9,5")-SUM(O20:Q20) -> 12 | S20: =COUNTIF(O4:AA12,">8,0")-SUM(O20:R20) -> 3 | T20: =COUNTIF(O4:AA12,">6,5")-SUM(O20:S20) -> 47 | U20: =COUNTIF(O4:AA12,">5,0")-SUM(O20:T20) -> 55 | V20: =COUNTIF(O4:AA12,">3,5")-SUM(O20:U20) -> 0 | W20: =COUNTIF(O4:AA12,">2,0")-SUM(O20:V20) -> 0 | X20: =COUNTIF(O4:AA12,">0")-SUM(O20:W20) -> 0 | AB20: =COUNTIF(AB4:AN12,">14") -> 0 | AC20: =COUNTIF(AB4:AN12,">12,5")-AB20 -> 0 | AD20: =COUNTIF(AB4:AN12,">11,0")-SUM(AB20:AC20) -> 0 | AE20: =COUNTIF(AB4:AN12,">9,5")-SUM(AB20:AD20) -> 13 | AF20: =COUNTIF(AB4:AN12,">8,0")-SUM(AB20:AE20) -> 0 | AG20: =COUNTIF(AB4:AN12,">6,5")-SUM(AB20:AF20) -> 52 | AH20: =COUNTIF(AB4:AN12,">5,0")-SUM(AB20:AG20) -> 52 | AI20: =COUNTIF(AB4:AN12,">3,5")-SUM(AB20:AH20) -> 0 | AJ20: =COUNTIF(AB4:AN12,">2,0")-SUM(AB20:AI20) -> 0 | AK20: =COUNTIF(AB4:AN12,">0")-SUM(AB20:AJ20) -> 0 | AO20: =COUNTIF(AO4:BA12,">14") -> 0 | AP20: =COUNTIF(AO4:BA12,">12,5")-AO20 -> 0 | AQ20: =COUNTIF(AO4:BA12,">11,0")-SUM(AO20:AP20) -> 0 | AR20: =COUNTIF(AO4:BA12,">9,5")-SUM(AO20:AQ20) -> 13 | AS20: =COUNTIF(AO4:BA12,">8,0")-SUM(AO20:AR20) -> 0 | AT20: =COUNTIF(AO4:BA12,">6,5")-SUM(AO20:AS20) -> 52 | AU20: =COUNTIF(AO4:BA12,">5,0")-SUM(AO20:AT20) -> 52 | AV20: =COUNTIF(AO4:BA12,">3,5")-SUM(AO20:AU20) -> 0 | AW20: =COUNTIF(AO4:BA12,">2,0")-SUM(AO20:AV20) -> 0 | AX20: =COUNTIF(AO4:BA12,">0")-SUM(AO20:AW20) -> 0 | BF20: =COUNTIF(BF4:BR12,">14") -> 0 | BG20: =COUNTIF(BF4:BR12,">12,5")-BF20 -> 0 | BH20: =COUNTIF(BF4:BR12,">11,0")-SUM(BF20:BG20) -> 2 | BI20: =COUNTIF(BF4:BR12,">9,5")-SUM(BF20:BH20) -> 12 | BJ20: =COUNTIF(BF4:BR12,">8,0")-SUM(BF20:BI20) -> 17 | BK20: =COUNTIF(BF4:BR12,">6,5")-SUM(BF20:BJ20) -> 29 | BL20: =COUNTIF(BF4:BR12,">5,0")-SUM(BF20:BK20) -> 50 | BM20: =COUNTIF(BF4:BR12,">3,5")-SUM(BF20:BL20) -> 5 | BN20: =COUNTIF(BF4:BR12,">2,0")-SUM(BF20:BM20) -> 2 | BO20: =COUNTIF(BF4:BR12,">0")-SUM(BF20:BN20) -> 0
A21: Datum | B21: ='IN (mmol|L)'!E13 -> 41274 | C21: ='IN (mmol|L)'!F13 -> 41281 | D21: ='IN (mmol|L)'!G13 -> 41288 | E21: ='IN (mmol|L)'!H13 -> 41295 | F21: ='IN (mmol|L)'!I13 -> 41302 | G21: ='IN (mmol|L)'!J13 -> 41309 | H21: ='IN (mmol|L)'!K13 -> 41316 | I21: ='IN (mmol|L)'!L13 -> 41323 | ... N21: ='IN (mmol|L)'!Q13 -> 41358 | O21: ='IN (mmol|L)'!E36 -> 41365 | P21: ='IN (mmol|L)'!F36 -> 41372 | Q21: ='IN (mmol|L)'!G36 -> 41379 | R21: ='IN (mmol|L)'!H36 -> 41386 | S21: ='IN (mmol|L)'!I36 -> 41393 | T21: ='IN (mmol|L)'!J36 -> 41400 | U21: ='IN (mmol|L)'!K36 -> 41407 | V21: ='IN (mmol|L)'!L36 -> 41414 | ... AA21: ='IN (mmol|L)'!Q36 -> 41449 | AB21: ='IN (mmol|L)'!E59 -> 41456 | AC21: ='IN (mmol|L)'!F59 -> 41463 | AD21: ='IN (mmol|L)'!G59 -> 41470 | AE21: ='IN (mmol|L)'!H59 -> 41477 | AF21: ='IN (mmol|L)'!I59 -> 41484 | AG21: ='IN (mmol|L)'!J59 -> 41491 | AH21: ='IN (mmol|L)'!K59 -> 41498 | AI21: ='IN (mmol|L)'!L59 -> 41505 | ... AN21: ='IN (mmol|L)'!Q59 -> 41540 | AO21: ='IN (mmol|L)'!E82 -> 41547 | AP21: ='IN (mmol|L)'!F82 -> 41554 | AQ21: ='IN (mmol|L)'!G82 -> 41561 | AR21: ='IN (mmol|L)'!H82 -> 41568 | AS21: ='IN (mmol|L)'!I82 -> 41575 | AT21: ='IN (mmol|L)'!J82 -> 41582 | AU21: ='IN (mmol|L)'!K82 -> 41589 | AV21: ='IN (mmol|L)'!L82 -> 41596 | AW21: ='IN (mmol|L)'!P82 -> 41624 | AX21: ='IN (mmol|L)'!Q82 -> 41631 | BF21: ='IN (mmol|L)'!E106 -> 41274 | BG21: ='IN (mmol|L)'!F106 -> 41277.5 | BH21: ='IN (mmol|L)'!G106 -> 41281 | BI21: ='IN (mmol|L)'!H106 -> 41284.5 | BJ21: ='IN (mmol|L)'!I106 -> 41288 | BK21: ='IN (mmol|L)'!J106 -> 41291.5 | BL21: ='IN (mmol|L)'!K106 -> 41295 | BM21: ='IN (mmol|L)'!L106 -> 41298.5 | ... BR21: ='IN (mmol|L)'!Q106 -> 41326.5
A22: W-Tag | B22: =IF(WEEKDAY(B21)+$I27=0,7,IF(WEEKDAY(B21)+$I27=8,1,WEEKDAY(B21)+$I27)) -> 1 | C22: =IF(WEEKDAY(C21)+$I27=0,7,IF(WEEKDAY(C21)+$I27=8,1,WEEKDAY(C21)+$I27)) -> 1 | D22: =IF(WEEKDAY(D21)+$I27=0,7,IF(WEEKDAY(D21)+$I27=8,1,WEEKDAY(D21)+$I27)) -> 1 | E22: =IF(WEEKDAY(E21)+$I27=0,7,IF(WEEKDAY(E21)+$I27=8,1,WEEKDAY(E21)+$I27)) -> 1 | F22: =IF(WEEKDAY(F21)+$I27=0,7,IF(WEEKDAY(F21)+$I27=8,1,WEEKDAY(F21)+$I27)) -> 1 | G22: =IF(WEEKDAY(G21)+$I27=0,7,IF(WEEKDAY(G21)+$I27=8,1,WEEKDAY(G21)+$I27)) -> 1 | H22: =IF(WEEKDAY(H21)+$I27=0,7,IF(WEEKDAY(H21)+$I27=8,1,WEEKDAY(H21)+$I27)) -> 1 | I22: =IF(WEEKDAY(I21)+$I27=0,7,IF(WEEKDAY(I21)+$I27=8,1,WEEKDAY(I21)+$I27)) -> 1 | ... AX22: =IF(WEEKDAY(AX21)+$I27=0,7,IF(WEEKDAY(AX21)+$I27=8,1,WEEKDAY(AX21)+$I27)) -> 1 | BF22: =IF(WEEKDAY(BF21)+$I27=0,7,IF(WEEKDAY(BF21)+$I27=8,1,WEEKDAY(BF21)+$I27)) -> 1 | BG22: =IF(WEEKDAY(BG21)+$I27=0,7,IF(WEEKDAY(BG21)+$I27=8,1,WEEKDAY(BG21)+$I27)) -> 4 | BH22: =IF(WEEKDAY(BH21)+$I27=0,7,IF(WEEKDAY(BH21)+$I27=8,1,WEEKDAY(BH21)+$I27)) -> 1 | BI22: =IF(WEEKDAY(BI21)+$I27=0,7,IF(WEEKDAY(BI21)+$I27=8,1,WEEKDAY(BI21)+$I27)) -> 4 | BJ22: =IF(WEEKDAY(BJ21)+$I27=0,7,IF(WEEKDAY(BJ21)+$I27=8,1,WEEKDAY(BJ21)+$I27)) -> 1 | BK22: =IF(WEEKDAY(BK21)+$I27=0,7,IF(WEEKDAY(BK21)+$I27=8,1,WEEKDAY(BK21)+$I27)) -> 4 | BL22: =IF(WEEKDAY(BL21)+$I27=0,7,IF(WEEKDAY(BL21)+$I27=8,1,WEEKDAY(BL21)+$I27)) -> 1 | BM22: =IF(WEEKDAY(BM21)+$I27=0,7,IF(WEEKDAY(BM21)+$I27=8,1,WEEKDAY(BM21)+$I27)) -> 4 | ... BR22: =IF(WEEKDAY(BR21)+$I27=0,7,IF(WEEKDAY(BR21)+$I27=8,1,WEEKDAY(BR21)+$I27)) -> 4
C23: =CONCATENATE("+",'IN (mmol|L)'!V3,"σ") -> +1,645σ | D23: =CONCATENATE("- ",'IN (mmol|L)'!V3,"σ") -> - 1,645σ | E23: MW | F23: stabw | G23: Mw-N | P23: =CONCATENATE("+",'IN (mmol|L)'!V26,"σ") -> +1,645σ | Q23: =CONCATENATE("- ",'IN (mmol|L)'!V26,"σ") -> - 1,645σ | R23: MW | S23: stabw | AC23: =CONCATENATE("+",'IN (mmol|L)'!V49,"σ") -> +1σ | AD23: =CONCATENATE("- ",'IN (mmol|L)'!V49,"σ") -> - 1σ | AE23: MW | AF23: stabw | AP23: =CONCATENATE("+",'IN (mmol|L)'!V72,"σ") -> +1σ | AQ23: =CONCATENATE("- ",'IN (mmol|L)'!V72,"σ") -> - 1σ | AR23: MW | AS23: stabw | BG23: =CONCATENATE("+",'IN (mmol|L)'!V96,"σ") -> +0,674σ | BH23: =CONCATENATE("- ",'IN (mmol|L)'!V96,"σ") -> - 0,674σ | BI23: MW | BJ23: stabw
B24: ='IN (mmol|L)'!D4 -> 0.29166667 | C24: =E24+'IN (mmol|L)'!$V$3*F24 -> 6.2978142 | D24: =E24-'IN (mmol|L)'!$V$3*F24 -> 5.9637243 | E24: =AVERAGE(B4:N4) -> 6.1307692 | F24: =STDEV(B4:N4) -> 0.10154707 | G24: =AVERAGE(B4:J4) -> 6.1444444 | O24: =$A4 -> 0.29166667 | P24: =R24+'IN (mmol|L)'!$V$26*S24 -> 6.158489 | Q24: =R24-'IN (mmol|L)'!$V$26*S24 -> 5.9492062 | R24: =AVERAGE(O4:AA4) -> 6.0538476 | S24: =STDEV(O4:AA4) -> 0.063611794 | AB24: =$A4 -> 0.29166667 | AC24: =AE24+'IN (mmol|L)'!$V$49*AF24 -> 6.0500445 | AD24: =AE24-'IN (mmol|L)'!$V$49*AF24 -> 6.0499527 | AE24: =AVERAGE(AB4:AN4) -> 6.0499986 | AF24: =STDEV(AB4:AN4) -> 4.5908133e-05 | AO24: =$A4 -> 0.29166667 | AP24: =AR24+'IN (mmol|L)'!$V$72*AS24 -> 6.05 | AQ24: =AR24-'IN (mmol|L)'!$V$72*AS24 -> 6.05 | AR24: =AVERAGE(AO4:BA4) -> 6.05 | AS24: =STDEV(AO4:BA4) -> 3.2822529e-08 | BF24: =$A4 -> 0.29166667 | BG24: =BI24+'IN (mmol|L)'!$V$96*BJ24 -> 6.178298 | BH24: =BI24-'IN (mmol|L)'!$V$96*BJ24 -> 5.9944109 | BI24: =TRIMMEAN(BF4:BR4,0.2) -> 6.0863545 | BJ24: =STDEV(BF4:BR4) -> 0.13641476
B25: ='IN (mmol|L)'!D5 -> 0.39583333 | C25: =E25+'IN (mmol|L)'!$V$3*F25 -> 11.568473 | D25: =E25-'IN (mmol|L)'!$V$3*F25 -> 8.0189909 | E25: =AVERAGE(B5:N5) -> 9.7937322 | F25: =STDEV(B5:N5) -> 1.0788701 | G25: =AVERAGE(B5:J5) -> 9.7617284 | I25: automatische | O25: =$A5 -> 0.39583333 | P25: =R25+'IN (mmol|L)'!$V$26*S25 -> 9.9520887 | Q25: =R25-'IN (mmol|L)'!$V$26*S25 -> 9.4405278 | R25: =AVERAGE(O5:AA5) -> 9.6963083 | S25: =STDEV(O5:AA5) -> 0.15548965 | AB25: =$A5 -> 0.39583333 | AC25: =AE25+'IN (mmol|L)'!$V$49*AF25 -> 9.6778831 | AD25: =AE25-'IN (mmol|L)'!$V$49*AF25 -> 9.6776485 | AE25: =AVERAGE(AB5:AN5) -> 9.6777658 | AF25: =STDEV(AB5:AN5) -> 0.00011728333 | AO25: =$A5 -> 0.39583333 | AP25: =AR25+'IN (mmol|L)'!$V$72*AS25 -> 9.6777779 | AQ25: =AR25-'IN (mmol|L)'!$V$72*AS25 -> 9.6777777 | AR25: =AVERAGE(AO5:BA5) -> 9.6777778 | AS25: =STDEV(AO5:BA5) -> 8.7041999e-08 | BF25: =$A5 -> 0.39583333 | BG25: =BI25+'IN (mmol|L)'!$V$96*BJ25 -> 10.222721 | BH25: =BI25-'IN (mmol|L)'!$V$96*BJ25 -> 8.9078576 | BI25: =TRIMMEAN(BF5:BR5,0.2) -> 9.5652893 | BJ25: =STDEV(BF5:BR5) -> 0.97541783
B26: ='IN (mmol|L)'!D6 -> 0.5 | C26: =E26+'IN (mmol|L)'!$V$3*F26 -> 10.025346 | D26: =E26-'IN (mmol|L)'!$V$3*F26 -> 4.6618336 | E26: =AVERAGE(B6:N6) -> 7.3435897 | F26: =STDEV(B6:N6) -> 1.6302469 | G26: =AVERAGE(B6:J6) -> 6.9185185 | I26: Korrektur für Wochentag | O26: =$A6 -> 0.5 | P26: =R26+'IN (mmol|L)'!$V$26*S26 -> 7.5033901 | Q26: =R26-'IN (mmol|L)'!$V$26*S26 -> 7.0473761 | R26: =AVERAGE(O6:AA6) -> 7.2753831 | S26: =STDEV(O6:AA6) -> 0.13860607 | AB26: =$A6 -> 0.5 | AC26: =AE26+'IN (mmol|L)'!$V$49*AF26 -> 7.2445392 | AD26: =AE26-'IN (mmol|L)'!$V$49*AF26 -> 7.2442957 | AE26: =AVERAGE(AB6:AN6) -> 7.2444174 | AF26: =STDEV(AB6:AN6) -> 0.00012176192 | AO26: =$A6 -> 0.5 | AP26: =AR26+'IN (mmol|L)'!$V$72*AS26 -> 7.2444446 | AQ26: =AR26-'IN (mmol|L)'!$V$72*AS26 -> 7.2444444 | AR26: =AVERAGE(AO6:BA6) -> 7.2444445 | AS26: =STDEV(AO6:BA6) -> 1.0633246e-07 | BF26: =$A6 -> 0.5 | BG26: =BI26+'IN (mmol|L)'!$V$96*BJ26 -> 8.4180313 | BH26: =BI26-'IN (mmol|L)'!$V$96*BJ26 -> 6.634549 | BI26: =TRIMMEAN(BF6:BR6,0.2) -> 7.5262902 | BJ26: =STDEV(BF6:BR6) -> 1.3230581
B27: ='IN (mmol|L)'!D7 -> 0.60416667 | C27: =E27+'IN (mmol|L)'!$V$3*F27 -> 10.064356 | D27: =E27-'IN (mmol|L)'!$V$3*F27 -> 3.7852164 | E27: =AVERAGE(B7:N7) -> 6.9247863 | F27: =STDEV(B7:N7) -> 1.9085532 | G27: =AVERAGE(B7:J7) -> 7.4654321 | H27: 36749 | I27: =5-H28 -> 0 | O27: =$A7 -> 0.60416667 | P27: =R27+'IN (mmol|L)'!$V$26*S27 -> 5.808568 | Q27: =R27-'IN (mmol|L)'!$V$26*S27 -> 5.2664762 | R27: =AVERAGE(O7:AA7) -> 5.5375221 | S27: =STDEV(O7:AA7) -> 0.16476955 | AB27: =$A7 -> 0.60416667 | AC27: =AE27+'IN (mmol|L)'!$V$49*AF27 -> 5.5315904 | AD27: =AE27-'IN (mmol|L)'!$V$49*AF27 -> 5.531352 | AE27: =AVERAGE(AB7:AN7) -> 5.5314712 | AF27: =STDEV(AB7:AN7) -> 0.00011922501 | AO27: =$A7 -> 0.60416667 | AP27: =AR27+'IN (mmol|L)'!$V$72*AS27 -> 5.5314816 | AQ27: =AR27-'IN (mmol|L)'!$V$72*AS27 -> 5.5314814 | AR27: =AVERAGE(AO7:BA7) -> 5.5314815 | AS27: =STDEV(AO7:BA7) -> 8.9368437e-08 | BF27: =$A7 -> 0.60416667 | BG27: =BI27+'IN (mmol|L)'!$V$96*BJ27 -> 7.2325317 | BH27: =BI27-'IN (mmol|L)'!$V$96*BJ27 -> 4.3028586 | BI27: =TRIMMEAN(BF7:BR7,0.2) -> 5.7676951 | BJ27: =STDEV(BF7:BR7) -> 2.173348
B28: ='IN (mmol|L)'!D8 -> 0.72916667 | C28: =E28+'IN (mmol|L)'!$V$3*F28 -> 9.7360614 | D28: =E28-'IN (mmol|L)'!$V$3*F28 -> 4.4502634 | E28: =AVERAGE(B8:N8) -> 7.0931624 | F28: =STDEV(B8:N8) -> 1.6066255 | G28: =AVERAGE(B8:J8) -> 7.4123457 | H28: =WEEKDAY(H27) -> 5 | O28: =$A8 -> 0.72916667 | P28: =R28+'IN (mmol|L)'!$V$26*S28 -> 7.7841618 | Q28: =R28-'IN (mmol|L)'!$V$26*S28 -> 6.6116116 | R28: =AVERAGE(O8:AA8) -> 7.1978867 | S28: =STDEV(O8:AA8) -> 0.35639825 | AB28: =$A8 -> 0.72916667 | AC28: =AE28+'IN (mmol|L)'!$V$49*AF28 -> 7.1835683 | AD28: =AE28-'IN (mmol|L)'!$V$49*AF28 -> 7.1830514 | AE28: =AVERAGE(AB8:AN8) -> 7.1833099 | AF28: =STDEV(AB8:AN8) -> 0.00025845137 | AO28: =$A8 -> 0.72916667 | AP28: =AR28+'IN (mmol|L)'!$V$72*AS28 -> 7.1833336 | AQ28: =AR28-'IN (mmol|L)'!$V$72*AS28 -> 7.1833332 | AR28: =AVERAGE(AO8:BA8) -> 7.1833334 | AS28: =STDEV(AO8:BA8) -> 1.9455817e-07 | BF28: =$A8 -> 0.72916667 | BG28: =BI28+'IN (mmol|L)'!$V$96*BJ28 -> 7.9286947 | BH28: =BI28-'IN (mmol|L)'!$V$96*BJ28 -> 6.0891565 | BI28: =TRIMMEAN(BF8:BR8,0.2) -> 7.0089256 | BJ28: =STDEV(BF8:BR8) -> 1.3646426
B29: ='IN (mmol|L)'!D9 -> 0.83333333 | C29: =E29+'IN (mmol|L)'!$V$3*F29 -> 12.996492 | D29: =E29-'IN (mmol|L)'!$V$3*F29 -> 5.5026534 | E29: =AVERAGE(B9:N9) -> 9.2495726 | F29: =STDEV(B9:N9) -> 2.2777625 | G29: =AVERAGE(B9:J9) -> 9.482716 | O29: =$A9 -> 0.83333333 | P29: =R29+'IN (mmol|L)'!$V$26*S29 -> 8.1259278 | Q29: =R29-'IN (mmol|L)'!$V$26*S29 -> 5.6842951 | R29: =AVERAGE(O9:AA9) -> 6.9051115 | S29: =STDEV(O9:AA9) -> 0.74213759 | AB29: =$A9 -> 0.83333333 | AC29: =AE29+'IN (mmol|L)'!$V$49*AF29 -> 6.9505523 | AD29: =AE29-'IN (mmol|L)'!$V$49*AF29 -> 6.9494811 | AE29: =AVERAGE(AB9:AN9) -> 6.9500167 | AF29: =STDEV(AB9:AN9) -> 0.00053559489 | AO29: =$A9 -> 0.83333333 | AP29: =AR29+'IN (mmol|L)'!$V$72*AS29 -> 6.9500004 | AQ29: =AR29-'IN (mmol|L)'!$V$72*AS29 -> 6.9499996 | AR29: =AVERAGE(AO9:BA9) -> 6.95 | AS29: =STDEV(AO9:BA9) -> 3.829295e-07 | BF29: =$A9 -> 0.83333333 | BG29: =BI29+'IN (mmol|L)'!$V$96*BJ29 -> 9.5745335 | BH29: =BI29-'IN (mmol|L)'!$V$96*BJ29 -> 6.5449522 | BI29: =TRIMMEAN(BF9:BR9,0.2) -> 8.0597429 | BJ29: =STDEV(BF9:BR9) -> 2.2474639
B30: ='IN (mmol|L)'!D10 -> 0.95833333 | C30: =E30+'IN (mmol|L)'!$V$3*F30 -> 10.428 | D30: =E30-'IN (mmol|L)'!$V$3*F30 -> 5.3719999 | E30: =AVERAGE(B10:N10) -> 7.9 | F30: =STDEV(B10:N10) -> 1.5367782 | G30: =AVERAGE(B10:J10) -> 8.062963 | O30: =$A10 -> 0.95833333 | P30: =R30+'IN (mmol|L)'!$V$26*S30 -> 7.8154832 | Q30: =R30-'IN (mmol|L)'!$V$26*S30 -> 5.9858456 | R30: =AVERAGE(O10:AA10) -> 6.9006644 | S30: =STDEV(O10:AA10) -> 0.55612086 | AB30: =$A10 -> 0.95833333 | AC30: =AE30+'IN (mmol|L)'!$V$49*AF30 -> 6.9726938 | AD30: =AE30-'IN (mmol|L)'!$V$49*AF30 -> 6.9718464 | AE30: =AVERAGE(AB10:AN10) -> 6.9722701 | AF30: =STDEV(AB10:AN10) -> 0.00042370569 | AO30: =$A10 -> 0.95833333 | AP30: =AR30+'IN (mmol|L)'!$V$72*AS30 -> 6.9722225 | AQ30: =AR30-'IN (mmol|L)'!$V$72*AS30 -> 6.9722219 | AR30: =AVERAGE(AO10:BA10) -> 6.9722222 | AS30: =STDEV(AO10:BA10) -> 3.1761968e-07 | BF30: =$A10 -> 0.95833333 | BG30: =BI30+'IN (mmol|L)'!$V$96*BJ30 -> 8.3063472 | BH30: =BI30-'IN (mmol|L)'!$V$96*BJ30 -> 6.1927162 | BI30: =TRIMMEAN(BF10:BR10,0.2) -> 7.2495317 | BJ30: =STDEV(BF10:BR10) -> 1.5679755
B31: ='IN (mmol|L)'!D11 -> Nacht | C31: =E31+'IN (mmol|L)'!$V$3*F31 -> 6.9028354 | D31: =E31-'IN (mmol|L)'!$V$3*F31 -> 5.3706688 | E31: =AVERAGE(B11:N11) -> 6.1367521 | F31: =STDEV(B11:N11) -> 0.46570414 | G31: =AVERAGE(B11:J11) -> 5.9604938 | H31: Wird nicht mehr benötigt | O31: =$A11 -> Nacht | P31: =R31+'IN (mmol|L)'!$V$26*S31 -> 6.1904245 | Q31: =R31-'IN (mmol|L)'!$V$26*S31 -> 5.9212303 | R31: =AVERAGE(O11:AA11) -> 6.0558274 | S31: =STDEV(O11:AA11) -> 0.081821947 | AB31: =$A11 -> Nacht | AC31: =AE31+'IN (mmol|L)'!$V$49*AF31 -> 6.072304 | AD31: =AE31-'IN (mmol|L)'!$V$49*AF31 -> 6.0721666 | AE31: =AVERAGE(AB11:AN11) -> 6.0722353 | AF31: =STDEV(AB11:AN11) -> 6.8729147e-05 | AO31: =$A11 -> Nacht | AP31: =AR31+'IN (mmol|L)'!$V$72*AS31 -> 6.0722223 | AQ31: =AR31-'IN (mmol|L)'!$V$72*AS31 -> 6.0722222 | AR31: =AVERAGE(AO11:BA11) -> 6.0722222 | AS31: =STDEV(AO11:BA11) -> 5.6801089e-08 | BF31: =$A11 -> Nacht | BG31: =BI31+'IN (mmol|L)'!$V$96*BJ31 -> 6.6035306 | BH31: =BI31-'IN (mmol|L)'!$V$96*BJ31 -> 5.8957348 | BI31: =TRIMMEAN(BF11:BR11,0.2) -> 6.2496327 | BJ31: =STDEV(BF11:BR11) -> 0.52507112
B32: ='IN (mmol|L)'!D12 -> Früh | C32: =E32+'IN (mmol|L)'!$V$3*F32 -> 6.2953516 | D32: =E32-'IN (mmol|L)'!$V$3*F32 -> 5.9882192 | E32: =AVERAGE(B12:N12) -> 6.1417854 | F32: =STDEV(B12:N12) -> 0.093353317 | G32: =AVERAGE(B12:J12) -> 6.154321 | O32: =$A12 -> Früh | P32: =R32+'IN (mmol|L)'!$V$26*S32 -> 6.2742345 | Q32: =R32-'IN (mmol|L)'!$V$26*S32 -> 6.1973511 | R32: =AVERAGE(O12:AA12) -> 6.2357928 | S32: =STDEV(O12:AA12) -> 0.023368806 | AB32: =$A12 -> Früh | AC32: =AE32+'IN (mmol|L)'!$V$49*AF32 -> 6.2356125 | AD32: =AE32-'IN (mmol|L)'!$V$49*AF32 -> 6.2355791 | AE32: =AVERAGE(AB12:AN12) -> 6.2355958 | AF32: =STDEV(AB12:AN12) -> 1.6731461e-05 | AO32: =$A12 -> Früh | AP32: =AR32+'IN (mmol|L)'!$V$72*AS32 -> 6.2355967 | AQ32: =AR32-'IN (mmol|L)'!$V$72*AS32 -> 6.2355967 | AR32: =AVERAGE(AO12:BA12) -> 6.2355967 | AS32: =STDEV(AO12:BA12) -> 1.2224905e-08 | BF32: =$A12 -> Früh | BG32: =BI32+'IN (mmol|L)'!$V$96*BJ32 -> 6.2455925 | BH32: =BI32-'IN (mmol|L)'!$V$96*BJ32 -> 6.1388336 | BI32: =TRIMMEAN(BF12:BR12,0.2) -> 6.192213 | BJ32: =STDEV(BF12:BR12) -> 0.079197947
B33: ='IN (mmol|L)'!E3 -> SO | C33: ='IN (mmol|L)'!F3 -> SO | D33: ='IN (mmol|L)'!G3 -> SO | E33: ='IN (mmol|L)'!H3 -> SO | F33: ='IN (mmol|L)'!I3 -> SO | G33: ='IN (mmol|L)'!J3 -> SO | H33: ='IN (mmol|L)'!K3 -> SO | I33: ='IN (mmol|L)'!L3 -> SO | ... N33: ='IN (mmol|L)'!Q3 -> SO | O33: ='IN (mmol|L)'!E26 -> SO | P33: ='IN (mmol|L)'!F26 -> SO | Q33: ='IN (mmol|L)'!G26 -> SO | R33: ='IN (mmol|L)'!H26 -> SO | S33: ='IN (mmol|L)'!I26 -> SO | T33: ='IN (mmol|L)'!J26 -> SO | U33: ='IN (mmol|L)'!K26 -> SO | V33: ='IN (mmol|L)'!L26 -> SO | ... AA33: ='IN (mmol|L)'!Q26 -> SO | AB33: ='IN (mmol|L)'!E49 -> SO | AC33: ='IN (mmol|L)'!F49 -> SO | AD33: ='IN (mmol|L)'!G49 -> SO | AE33: ='IN (mmol|L)'!H49 -> SO | AF33: ='IN (mmol|L)'!I49 -> SO | AG33: ='IN (mmol|L)'!J49 -> SO | AH33: ='IN (mmol|L)'!K49 -> SO | AI33: ='IN (mmol|L)'!L49 -> SO | ... AN33: ='IN (mmol|L)'!Q49 -> SO | AO33: ='IN (mmol|L)'!E72 -> SO | AP33: ='IN (mmol|L)'!F72 -> SO | AQ33: ='IN (mmol|L)'!G72 -> SO | AR33: ='IN (mmol|L)'!H72 -> SO | AS33: ='IN (mmol|L)'!I72 -> SO | AT33: ='IN (mmol|L)'!J72 -> SO | AU33: ='IN (mmol|L)'!K72 -> SO | AV33: ='IN (mmol|L)'!L72 -> SO | ... BA33: ='IN (mmol|L)'!Q72 -> SO | BB33: MW | BF33: =BF3 -> SO | BG33: =BG3 -> MI | BH33: =BH3 -> SO | BI33: =BI3 -> MI | BJ33: =BJ3 -> SO | BK33: =BK3 -> MI | BL33: =BL3 -> SO | BM33: =BM3 -> MI | BN33: =BQ3 -> MI | BO33: =BR3 -> MI | BP33: MW
AT41: Daten für die Langzeit-Tortengrafik | BF41: =BF21 -> 41274 | BG41: =BG21 -> 41277.5 | BH41: =BH21 -> 41281 | BI41: =BI21 -> 41284.5 | BJ41: =BJ21 -> 41288 | BK41: =BK21 -> 41291.5 | BL41: =BL21 -> 41295 | BM41: =BM21 -> 41298.5 | ... BR41: =BR21 -> 41326.5
AS42: 4 Quartale | AT42: >14,0 | AU42: 12,5-14,0 | AV42: 11,0-12,5 | AW42: 9,5-11,0 | AX42: 8,0-9,5 | AY42: 6,5-8,0 | AZ42: 5,0-6,5 | BA42: 3,5-5,0 | BB42: 2,0-3,5 | BC42: < 2,0
AT43: =B20+O20+AB20+AO20 -> 0 | AU43: =C20+P20+AC20+AP20 -> 0 | AV43: =D20+Q20+AD20+AQ20 -> 3 | AW43: =E20+R20+AE20+AR20 -> 56 | AX43: =F20+S20+AF20+AS20 -> 22 | AY43: =G20+T20+AG20+AT20 -> 172 | AZ43: =H20+U20+AH20+AU20 -> 209 | BA43: =I20+V20+AI20+AV20 -> 6 | ... BC43: =K20+X20+AK20+AX20 -> 0
A66: KW | B66: ='IN (mmol|L)'!E2 -> 1 | C66: ='IN (mmol|L)'!F2 -> 2 | D66: ='IN (mmol|L)'!G2 -> 3 | E66: ='IN (mmol|L)'!H2 -> 4 | F66: ='IN (mmol|L)'!I2 -> 5 | G66: ='IN (mmol|L)'!J2 -> 6 | H66: ='IN (mmol|L)'!K2 -> 7 | I66: ='IN (mmol|L)'!L2 -> 8 | ... N66: ='IN (mmol|L)'!Q2 -> 13 | O66: ='IN (mmol|L)'!E25 -> 14 | P66: ='IN (mmol|L)'!F25 -> 15 | Q66: ='IN (mmol|L)'!G25 -> 16 | R66: ='IN (mmol|L)'!H25 -> 17 | S66: ='IN (mmol|L)'!I25 -> 18 | T66: ='IN (mmol|L)'!J25 -> 19 | U66: ='IN (mmol|L)'!K25 -> 20 | V66: ='IN (mmol|L)'!L25 -> 21 | ... AA66: ='IN (mmol|L)'!Q25 -> 26 | AB66: ='IN (mmol|L)'!E48 -> 27 | AC66: ='IN (mmol|L)'!F48 -> 28 | AD66: ='IN (mmol|L)'!G48 -> 29 | AE66: ='IN (mmol|L)'!H48 -> 30 | AF66: ='IN (mmol|L)'!I48 -> 31 | AG66: ='IN (mmol|L)'!J48 -> 32 | AH66: ='IN (mmol|L)'!K48 -> 33 | AI66: ='IN (mmol|L)'!L48 -> 34 | ... AN66: ='IN (mmol|L)'!Q48 -> 39 | AO66: ='IN (mmol|L)'!E71 -> 40 | AP66: ='IN (mmol|L)'!F71 -> 41 | AQ66: ='IN (mmol|L)'!G71 -> 42 | AR66: ='IN (mmol|L)'!H71 -> 43 | AS66: ='IN (mmol|L)'!I71 -> 44 | AT66: ='IN (mmol|L)'!J71 -> 45 | AU66: ='IN (mmol|L)'!K71 -> 46 | AV66: ='IN (mmol|L)'!L71 -> 47 | ... BA66: ='IN (mmol|L)'!Q71 -> 52 | BE66: KW | BF66: ='IN (mmol|L)'!E95 -> 1 | BG66: ='IN (mmol|L)'!F95 -> 1 | BH66: ='IN (mmol|L)'!G95 -> 2 | BI66: ='IN (mmol|L)'!H95 -> 2 | BJ66: ='IN (mmol|L)'!I95 -> 3 | BK66: ='IN (mmol|L)'!J95 -> 3 | BL66: ='IN (mmol|L)'!K95 -> 4 | BM66: ='IN (mmol|L)'!L95 -> 4 | ... BR66: ='IN (mmol|L)'!Q95 -> 8
A67: =A4 -> 0.29166667 | B67: ='IN (mmol|L)'!E4 -> 6.1666667 | C67: ='IN (mmol|L)'!F4 -> 6.1111111 | D67: ='IN (mmol|L)'!G4 -> 6 | E67: ='IN (mmol|L)'!H4 -> 6.2222222 | F67: ='IN (mmol|L)'!I4 -> 6 | G67: ='IN (mmol|L)'!J4 -> 6.2777778 | H67: ='IN (mmol|L)'!K4 -> 6.2222222 | I67: ='IN (mmol|L)'!L4 -> 6.2 | ... N67: ='IN (mmol|L)'!Q4 -> 6.2 | O67: ='IN (mmol|L)'!E27 -> 6.2 | P67: ='IN (mmol|L)'!F27 -> 5.9 | Q67: ='IN (mmol|L)'!G27 -> 0 | R67: ='IN (mmol|L)'!H27 -> 0 | S67: ='IN (mmol|L)'!I27 -> 0 | T67: ='IN (mmol|L)'!J27 -> 0 | U67: ='IN (mmol|L)'!K27 -> 0 | V67: ='IN (mmol|L)'!L27 -> 0 | ... AA67: ='IN (mmol|L)'!Q27 -> 0 | AB67: ='IN (mmol|L)'!E50 -> 0 | AC67: ='IN (mmol|L)'!F50 -> 0 | AD67: ='IN (mmol|L)'!G50 -> 0 | AE67: ='IN (mmol|L)'!H50 -> 0 | AF67: ='IN (mmol|L)'!I50 -> 0 | AG67: ='IN (mmol|L)'!J50 -> 0 | AH67: ='IN (mmol|L)'!K50 -> 0 | AI67: ='IN (mmol|L)'!L50 -> 0 | ... AN67: ='IN (mmol|L)'!Q50 -> 0 | AO67: ='IN (mmol|L)'!E73 -> 0 | AP67: ='IN (mmol|L)'!F73 -> 0 | AQ67: ='IN (mmol|L)'!G73 -> 0 | AR67: ='IN (mmol|L)'!H73 -> 0 | AS67: ='IN (mmol|L)'!I73 -> 0 | AT67: ='IN (mmol|L)'!J73 -> 0 | AU67: ='IN (mmol|L)'!K73 -> 0 | AV67: ='IN (mmol|L)'!L73 -> 0 | ... BA67: ='IN (mmol|L)'!Q73 -> 0 | BE67: =A4 -> 0.29166667 | BF67: =IF('IN (mmol|L)'!E97="",0,'IN (mmol|L)'!E97) -> 6.2777778 | BG67: =IF('IN (mmol|L)'!F97="",0,'IN (mmol|L)'!F97) -> 6.2222222 | BH67: =IF('IN (mmol|L)'!G97="",0,'IN (mmol|L)'!G97) -> 6.2 | BI67: =IF('IN (mmol|L)'!H97="",0,'IN (mmol|L)'!H97) -> 6.1 | BJ67: =IF('IN (mmol|L)'!I97="",0,'IN (mmol|L)'!I97) -> 6 | BK67: =IF('IN (mmol|L)'!J97="",0,'IN (mmol|L)'!J97) -> 6.2 | BL67: =IF('IN (mmol|L)'!K97="",0,'IN (mmol|L)'!K97) -> 6 | BM67: =IF('IN (mmol|L)'!L97="",0,'IN (mmol|L)'!L97) -> 6.2 | ... BR67: =IF('IN (mmol|L)'!Q97="",0,'IN (mmol|L)'!Q97) -> 0
A68: =A5 -> 0.39583333 | B68: ='IN (mmol|L)'!E5 -> 8.2222222 | C68: ='IN (mmol|L)'!F5 -> 9.0555556 | D68: ='IN (mmol|L)'!G5 -> 10.388889 | E68: ='IN (mmol|L)'!H5 -> 10.333333 | F68: ='IN (mmol|L)'!I5 -> 10.555556 | G68: ='IN (mmol|L)'!J5 -> 12.111111 | H68: ='IN (mmol|L)'!K5 -> 9.8888889 | I68: ='IN (mmol|L)'!L5 -> 8.2 | ... N68: ='IN (mmol|L)'!Q5 -> 9.6 | O68: ='IN (mmol|L)'!E28 -> 0 | P68: ='IN (mmol|L)'!F28 -> 9.4 | Q68: ='IN (mmol|L)'!G28 -> 0 | R68: ='IN (mmol|L)'!H28 -> 0 | S68: ='IN (mmol|L)'!I28 -> 0 | T68: ='IN (mmol|L)'!J28 -> 0 | U68: ='IN (mmol|L)'!K28 -> 0 | V68: ='IN (mmol|L)'!L28 -> 0 | ... AA68: ='IN (mmol|L)'!Q28 -> 0 | AB68: ='IN (mmol|L)'!E51 -> 0 | AC68: ='IN (mmol|L)'!F51 -> 0 | AD68: ='IN (mmol|L)'!G51 -> 0 | AE68: ='IN (mmol|L)'!H51 -> 0 | AF68: ='IN (mmol|L)'!I51 -> 0 | AG68: ='IN (mmol|L)'!J51 -> 0 | AH68: ='IN (mmol|L)'!K51 -> 0 | AI68: ='IN (mmol|L)'!L51 -> 0 | ... AN68: ='IN (mmol|L)'!Q51 -> 0 | AO68: ='IN (mmol|L)'!E74 -> 0 | AP68: ='IN (mmol|L)'!F74 -> 0 | AQ68: ='IN (mmol|L)'!G74 -> 0 | AR68: ='IN (mmol|L)'!H74 -> 0 | AS68: ='IN (mmol|L)'!I74 -> 0 | AT68: ='IN (mmol|L)'!J74 -> 0 | AU68: ='IN (mmol|L)'!K74 -> 0 | AV68: ='IN (mmol|L)'!L74 -> 0 | ... BA68: ='IN (mmol|L)'!Q74 -> 0 | BE68: =A5 -> 0.39583333 | BF68: =IF('IN (mmol|L)'!E98="",0,'IN (mmol|L)'!E98) -> 12.111111 | BG68: =IF('IN (mmol|L)'!F98="",0,'IN (mmol|L)'!F98) -> 9.8888889 | BH68: =IF('IN (mmol|L)'!G98="",0,'IN (mmol|L)'!G98) -> 8.2 | BI68: =IF('IN (mmol|L)'!H98="",0,'IN (mmol|L)'!H98) -> 9.1 | BJ68: =IF('IN (mmol|L)'!I98="",0,'IN (mmol|L)'!I98) -> 0 | BK68: =IF('IN (mmol|L)'!J98="",0,'IN (mmol|L)'!J98) -> 10.3 | BL68: =IF('IN (mmol|L)'!K98="",0,'IN (mmol|L)'!K98) -> 10.5 | BM68: =IF('IN (mmol|L)'!L98="",0,'IN (mmol|L)'!L98) -> 9.6 | ... BR68: =IF('IN (mmol|L)'!Q98="",0,'IN (mmol|L)'!Q98) -> 0
A69: =A6 -> 0.5 | B69: ='IN (mmol|L)'!E6 -> 4.7777778 | C69: ='IN (mmol|L)'!F6 -> 6.7777778 | D69: ='IN (mmol|L)'!G6 -> 6.7777778 | E69: ='IN (mmol|L)'!H6 -> 8.7777778 | F69: ='IN (mmol|L)'!I6 -> 8.7222222 | G69: ='IN (mmol|L)'!J6 -> 8.0555556 | H69: ='IN (mmol|L)'!K6 -> 6.7777778 | I69: ='IN (mmol|L)'!L6 -> 4.8 | ... N69: ='IN (mmol|L)'!Q6 -> 6 | O69: ='IN (mmol|L)'!E29 -> 0 | P69: ='IN (mmol|L)'!F29 -> 7.4 | Q69: ='IN (mmol|L)'!G29 -> 0 | R69: ='IN (mmol|L)'!H29 -> 0 | S69: ='IN (mmol|L)'!I29 -> 0 | T69: ='IN (mmol|L)'!J29 -> 0 | U69: ='IN (mmol|L)'!K29 -> 0 | V69: ='IN (mmol|L)'!L29 -> 0 | ... AA69: ='IN (mmol|L)'!Q29 -> 0 | AB69: ='IN (mmol|L)'!E52 -> 0 | AC69: ='IN (mmol|L)'!F52 -> 0 | AD69: ='IN (mmol|L)'!G52 -> 0 | AE69: ='IN (mmol|L)'!H52 -> 0 | AF69: ='IN (mmol|L)'!I52 -> 0 | AG69: ='IN (mmol|L)'!J52 -> 0 | AH69: ='IN (mmol|L)'!K52 -> 0 | AI69: ='IN (mmol|L)'!L52 -> 0 | ... AN69: ='IN (mmol|L)'!Q52 -> 0 | AO69: ='IN (mmol|L)'!E75 -> 0 | AP69: ='IN (mmol|L)'!F75 -> 0 | AQ69: ='IN (mmol|L)'!G75 -> 0 | AR69: ='IN (mmol|L)'!H75 -> 0 | AS69: ='IN (mmol|L)'!I75 -> 0 | AT69: ='IN (mmol|L)'!J75 -> 0 | AU69: ='IN (mmol|L)'!K75 -> 0 | AV69: ='IN (mmol|L)'!L75 -> 0 | ... BA69: ='IN (mmol|L)'!Q75 -> 0 | BE69: =A6 -> 0.5 | BF69: =IF('IN (mmol|L)'!E99="",0,'IN (mmol|L)'!E99) -> 8.0555556 | BG69: =IF('IN (mmol|L)'!F99="",0,'IN (mmol|L)'!F99) -> 6.7777778 | BH69: =IF('IN (mmol|L)'!G99="",0,'IN (mmol|L)'!G99) -> 4.8 | BI69: =IF('IN (mmol|L)'!H99="",0,'IN (mmol|L)'!H99) -> 6.8 | BJ69: =IF('IN (mmol|L)'!I99="",0,'IN (mmol|L)'!I99) -> 10.3 | BK69: =IF('IN (mmol|L)'!J99="",0,'IN (mmol|L)'!J99) -> 8.2 | BL69: =IF('IN (mmol|L)'!K99="",0,'IN (mmol|L)'!K99) -> 8.7 | BM69: =IF('IN (mmol|L)'!L99="",0,'IN (mmol|L)'!L99) -> 6 | ... BR69: =IF('IN (mmol|L)'!Q99="",0,'IN (mmol|L)'!Q99) -> 0
A70: =A7 -> 0.60416667 | B70: ='IN (mmol|L)'!E7 -> 10.611111 | C70: ='IN (mmol|L)'!F7 -> 6.2222222 | D70: ='IN (mmol|L)'!G7 -> 6.3888889 | E70: ='IN (mmol|L)'!H7 -> 5.3888889 | F70: ='IN (mmol|L)'!I7 -> 0 | G70: ='IN (mmol|L)'!J7 -> 7.0555556 | H70: ='IN (mmol|L)'!K7 -> 8.7222222 | I70: ='IN (mmol|L)'!L7 -> 10.6 | ... N70: ='IN (mmol|L)'!Q7 -> 4.5 | O70: ='IN (mmol|L)'!E30 -> 0 | P70: ='IN (mmol|L)'!F30 -> 6 | Q70: ='IN (mmol|L)'!G30 -> 0 | R70: ='IN (mmol|L)'!H30 -> 0 | S70: ='IN (mmol|L)'!I30 -> 0 | T70: ='IN (mmol|L)'!J30 -> 0 | U70: ='IN (mmol|L)'!K30 -> 0 | V70: ='IN (mmol|L)'!L30 -> 0 | ... AA70: ='IN (mmol|L)'!Q30 -> 0 | AB70: ='IN (mmol|L)'!E53 -> 0 | AC70: ='IN (mmol|L)'!F53 -> 0 | AD70: ='IN (mmol|L)'!G53 -> 0 | AE70: ='IN (mmol|L)'!H53 -> 0 | AF70: ='IN (mmol|L)'!I53 -> 0 | AG70: ='IN (mmol|L)'!J53 -> 0 | AH70: ='IN (mmol|L)'!K53 -> 0 | AI70: ='IN (mmol|L)'!L53 -> 0 | ... AN70: ='IN (mmol|L)'!Q53 -> 0 | AO70: ='IN (mmol|L)'!E76 -> 0 | AP70: ='IN (mmol|L)'!F76 -> 0 | AQ70: ='IN (mmol|L)'!G76 -> 0 | AR70: ='IN (mmol|L)'!H76 -> 0 | AS70: ='IN (mmol|L)'!I76 -> 0 | AT70: ='IN (mmol|L)'!J76 -> 0 | AU70: ='IN (mmol|L)'!K76 -> 0 | AV70: ='IN (mmol|L)'!L76 -> 0 | ... BA70: ='IN (mmol|L)'!Q76 -> 0 | BE70: =A7 -> 0.60416667 | BF70: =IF('IN (mmol|L)'!E100="",0,'IN (mmol|L)'!E100) -> 7.0555556 | BG70: =IF('IN (mmol|L)'!F100="",0,'IN (mmol|L)'!F100) -> 8.7222222 | BH70: =IF('IN (mmol|L)'!G100="",0,'IN (mmol|L)'!G100) -> 10.6 | BI70: =IF('IN (mmol|L)'!H100="",0,'IN (mmol|L)'!H100) -> 6.2 | BJ70: =IF('IN (mmol|L)'!I100="",0,'IN (mmol|L)'!I100) -> 6.8 | BK70: =IF('IN (mmol|L)'!J100="",0,'IN (mmol|L)'!J100) -> 5.4 | BL70: =IF('IN (mmol|L)'!K100="",0,'IN (mmol|L)'!K100) -> 0 | BM70: =IF('IN (mmol|L)'!L100="",0,'IN (mmol|L)'!L100) -> 4.5 | ... BR70: =IF('IN (mmol|L)'!Q100="",0,'IN (mmol|L)'!Q100) -> 0
A71: =A8 -> 0.72916667 | B71: ='IN (mmol|L)'!E8 -> 6.9444444 | C71: ='IN (mmol|L)'!F8 -> 8.2777778 | D71: ='IN (mmol|L)'!G8 -> 7.0555556 | E71: ='IN (mmol|L)'!H8 -> 5 | F71: ='IN (mmol|L)'!I8 -> 9.1666667 | G71: ='IN (mmol|L)'!J8 -> 6 | H71: ='IN (mmol|L)'!K8 -> 9.1666667 | I71: ='IN (mmol|L)'!L8 -> 6.9 | ... N71: ='IN (mmol|L)'!Q8 -> 4.9 | O71: ='IN (mmol|L)'!E31 -> 6.8 | P71: ='IN (mmol|L)'!F31 -> 8.2 | Q71: ='IN (mmol|L)'!G31 -> 0 | R71: ='IN (mmol|L)'!H31 -> 0 | S71: ='IN (mmol|L)'!I31 -> 0 | T71: ='IN (mmol|L)'!J31 -> 0 | U71: ='IN (mmol|L)'!K31 -> 0 | V71: ='IN (mmol|L)'!L31 -> 0 | ... AA71: ='IN (mmol|L)'!Q31 -> 0 | AB71: ='IN (mmol|L)'!E54 -> 0 | AC71: ='IN (mmol|L)'!F54 -> 0 | AD71: ='IN (mmol|L)'!G54 -> 0 | AE71: ='IN (mmol|L)'!H54 -> 0 | AF71: ='IN (mmol|L)'!I54 -> 0 | AG71: ='IN (mmol|L)'!J54 -> 0 | AH71: ='IN (mmol|L)'!K54 -> 0 | AI71: ='IN (mmol|L)'!L54 -> 0 | ... AN71: ='IN (mmol|L)'!Q54 -> 0 | AO71: ='IN (mmol|L)'!E77 -> 0 | AP71: ='IN (mmol|L)'!F77 -> 0 | AQ71: ='IN (mmol|L)'!G77 -> 0 | AR71: ='IN (mmol|L)'!H77 -> 0 | AS71: ='IN (mmol|L)'!I77 -> 0 | AT71: ='IN (mmol|L)'!J77 -> 0 | AU71: ='IN (mmol|L)'!K77 -> 0 | AV71: ='IN (mmol|L)'!L77 -> 0 | ... BA71: ='IN (mmol|L)'!Q77 -> 0 | BE71: =A8 -> 0.72916667 | BF71: =IF('IN (mmol|L)'!E101="",0,'IN (mmol|L)'!E101) -> 6 | BG71: =IF('IN (mmol|L)'!F101="",0,'IN (mmol|L)'!F101) -> 9.1666667 | BH71: =IF('IN (mmol|L)'!G101="",0,'IN (mmol|L)'!G101) -> 6.9 | BI71: =IF('IN (mmol|L)'!H101="",0,'IN (mmol|L)'!H101) -> 8.2 | BJ71: =IF('IN (mmol|L)'!I101="",0,'IN (mmol|L)'!I101) -> 6.4 | BK71: =IF('IN (mmol|L)'!J101="",0,'IN (mmol|L)'!J101) -> 5 | BL71: =IF('IN (mmol|L)'!K101="",0,'IN (mmol|L)'!K101) -> 9.2 | BM71: =IF('IN (mmol|L)'!L101="",0,'IN (mmol|L)'!L101) -> 4.9 | ... BR71: =IF('IN (mmol|L)'!Q101="",0,'IN (mmol|L)'!Q101) -> 0
A72: =A9 -> 0.83333333 | B72: ='IN (mmol|L)'!E9 -> 7.7222222 | C72: ='IN (mmol|L)'!F9 -> 10.722222 | D72: ='IN (mmol|L)'!G9 -> 0 | E72: ='IN (mmol|L)'!H9 -> 11.944444 | F72: ='IN (mmol|L)'!I9 -> 10.666667 | G72: ='IN (mmol|L)'!J9 -> 5.9444444 | H72: ='IN (mmol|L)'!K9 -> 10.722222 | I72: ='IN (mmol|L)'!L9 -> 7.7 | ... N72: ='IN (mmol|L)'!Q9 -> 5.2 | O72: ='IN (mmol|L)'!E32 -> 5.2 | P72: ='IN (mmol|L)'!F32 -> 8.7 | Q72: ='IN (mmol|L)'!G32 -> 0 | R72: ='IN (mmol|L)'!H32 -> 0 | S72: ='IN (mmol|L)'!I32 -> 0 | T72: ='IN (mmol|L)'!J32 -> 0 | U72: ='IN (mmol|L)'!K32 -> 0 | V72: ='IN (mmol|L)'!L32 -> 0 | ... AA72: ='IN (mmol|L)'!Q32 -> 0 | AB72: ='IN (mmol|L)'!E55 -> 0 | AC72: ='IN (mmol|L)'!F55 -> 0 | AD72: ='IN (mmol|L)'!G55 -> 0 | AE72: ='IN (mmol|L)'!H55 -> 0 | AF72: ='IN (mmol|L)'!I55 -> 0 | AG72: ='IN (mmol|L)'!J55 -> 0 | AH72: ='IN (mmol|L)'!K55 -> 0 | AI72: ='IN (mmol|L)'!L55 -> 0 | ... AN72: ='IN (mmol|L)'!Q55 -> 0 | AO72: ='IN (mmol|L)'!E78 -> 0 | AP72: ='IN (mmol|L)'!F78 -> 0 | AQ72: ='IN (mmol|L)'!G78 -> 0 | AR72: ='IN (mmol|L)'!H78 -> 0 | AS72: ='IN (mmol|L)'!I78 -> 0 | AT72: ='IN (mmol|L)'!J78 -> 0 | AU72: ='IN (mmol|L)'!K78 -> 0 | AV72: ='IN (mmol|L)'!L78 -> 0 | ... BA72: ='IN (mmol|L)'!Q78 -> 0 | BE72: =A9 -> 0.83333333 | BF72: =IF('IN (mmol|L)'!E102="",0,'IN (mmol|L)'!E102) -> 5.9444444 | BG72: =IF('IN (mmol|L)'!F102="",0,'IN (mmol|L)'!F102) -> 10.722222 | BH72: =IF('IN (mmol|L)'!G102="",0,'IN (mmol|L)'!G102) -> 7.7 | BI72: =IF('IN (mmol|L)'!H102="",0,'IN (mmol|L)'!H102) -> 10.7 | BJ72: =IF('IN (mmol|L)'!I102="",0,'IN (mmol|L)'!I102) -> 7 | BK72: =IF('IN (mmol|L)'!J102="",0,'IN (mmol|L)'!J102) -> 11.9 | BL72: =IF('IN (mmol|L)'!K102="",0,'IN (mmol|L)'!K102) -> 10.8 | BM72: =IF('IN (mmol|L)'!L102="",0,'IN (mmol|L)'!L102) -> 5.2 | ... BR72: =IF('IN (mmol|L)'!Q102="",0,'IN (mmol|L)'!Q102) -> 0
A73: =A10 -> 0.95833333 | B73: ='IN (mmol|L)'!E10 -> 7.3888889 | C73: ='IN (mmol|L)'!F10 -> 9 | D73: ='IN (mmol|L)'!G10 -> 7.5555556 | E73: ='IN (mmol|L)'!H10 -> 5.2777778 | F73: ='IN (mmol|L)'!I10 -> 9.7222222 | G73: ='IN (mmol|L)'!J10 -> 10 | H73: ='IN (mmol|L)'!K10 -> 7.2222222 | I73: ='IN (mmol|L)'!L10 -> 7.4 | ... N73: ='IN (mmol|L)'!Q10 -> 0 | O73: ='IN (mmol|L)'!E33 -> 5.3 | P73: ='IN (mmol|L)'!F33 -> 7.9 | Q73: ='IN (mmol|L)'!G33 -> 0 | R73: ='IN (mmol|L)'!H33 -> 0 | S73: ='IN (mmol|L)'!I33 -> 0 | T73: ='IN (mmol|L)'!J33 -> 0 | U73: ='IN (mmol|L)'!K33 -> 0 | V73: ='IN (mmol|L)'!L33 -> 0 | ... AA73: ='IN (mmol|L)'!Q33 -> 0 | AB73: ='IN (mmol|L)'!E56 -> 0 | AC73: ='IN (mmol|L)'!F56 -> 0 | AD73: ='IN (mmol|L)'!G56 -> 0 | AE73: ='IN (mmol|L)'!H56 -> 0 | AF73: ='IN (mmol|L)'!I56 -> 0 | AG73: ='IN (mmol|L)'!J56 -> 0 | AH73: ='IN (mmol|L)'!K56 -> 0 | AI73: ='IN (mmol|L)'!L56 -> 0 | ... AN73: ='IN (mmol|L)'!Q56 -> 0 | AO73: ='IN (mmol|L)'!E79 -> 0 | AP73: ='IN (mmol|L)'!F79 -> 0 | AQ73: ='IN (mmol|L)'!G79 -> 0 | AR73: ='IN (mmol|L)'!H79 -> 0 | AS73: ='IN (mmol|L)'!I79 -> 0 | AT73: ='IN (mmol|L)'!J79 -> 0 | AU73: ='IN (mmol|L)'!K79 -> 0 | AV73: ='IN (mmol|L)'!L79 -> 0 | ... BA73: ='IN (mmol|L)'!Q79 -> 0 | BE73: =A10 -> 0.95833333 | BF73: =IF('IN (mmol|L)'!E103="",0,'IN (mmol|L)'!E103) -> 10 | BG73: =IF('IN (mmol|L)'!F103="",0,'IN (mmol|L)'!F103) -> 7.2222222 | BH73: =IF('IN (mmol|L)'!G103="",0,'IN (mmol|L)'!G103) -> 7.4 | BI73: =IF('IN (mmol|L)'!H103="",0,'IN (mmol|L)'!H103) -> 9 | BJ73: =IF('IN (mmol|L)'!I103="",0,'IN (mmol|L)'!I103) -> 7.6 | BK73: =IF('IN (mmol|L)'!J103="",0,'IN (mmol|L)'!J103) -> 5.3 | BL73: =IF('IN (mmol|L)'!K103="",0,'IN (mmol|L)'!K103) -> 9.7 | BM73: =IF('IN (mmol|L)'!L103="",0,'IN (mmol|L)'!L103) -> 0 | ... BR73: =IF('IN (mmol|L)'!Q103="",0,'IN (mmol|L)'!Q103) -> 0
A74: =A11 -> Nacht | B74: ='IN (mmol|L)'!E11 -> 5.8888889 | C74: ='IN (mmol|L)'!F11 -> 5.6666667 | D74: ='IN (mmol|L)'!G11 -> 6.5 | E74: ='IN (mmol|L)'!H11 -> 6.5555556 | F74: ='IN (mmol|L)'!I11 -> 6.5 | G74: ='IN (mmol|L)'!J11 -> 5.2777778 | H74: ='IN (mmol|L)'!K11 -> 5.5555556 | I74: ='IN (mmol|L)'!L11 -> 5.9 | ... N74: ='IN (mmol|L)'!Q11 -> 0 | O74: ='IN (mmol|L)'!E34 -> 5.8 | P74: ='IN (mmol|L)'!F34 -> 6.1 | Q74: ='IN (mmol|L)'!G34 -> 0 | R74: ='IN (mmol|L)'!H34 -> 0 | S74: ='IN (mmol|L)'!I34 -> 0 | T74: ='IN (mmol|L)'!J34 -> 0 | U74: ='IN (mmol|L)'!K34 -> 0 | V74: ='IN (mmol|L)'!L34 -> 0 | ... AA74: ='IN (mmol|L)'!Q34 -> 0 | AB74: ='IN (mmol|L)'!E57 -> 0 | AC74: ='IN (mmol|L)'!F57 -> 0 | AD74: ='IN (mmol|L)'!G57 -> 0 | AE74: ='IN (mmol|L)'!H57 -> 0 | AF74: ='IN (mmol|L)'!I57 -> 0 | AG74: ='IN (mmol|L)'!J57 -> 0 | AH74: ='IN (mmol|L)'!K57 -> 0 | AI74: ='IN (mmol|L)'!L57 -> 0 | ... AN74: ='IN (mmol|L)'!Q57 -> 0 | AO74: ='IN (mmol|L)'!E80 -> 0 | AP74: ='IN (mmol|L)'!F80 -> 0 | AQ74: ='IN (mmol|L)'!G80 -> 0 | AR74: ='IN (mmol|L)'!H80 -> 0 | AS74: ='IN (mmol|L)'!I80 -> 0 | AT74: ='IN (mmol|L)'!J80 -> 0 | AU74: ='IN (mmol|L)'!K80 -> 0 | AV74: ='IN (mmol|L)'!L80 -> 0 | ... BA74: ='IN (mmol|L)'!Q80 -> 0 | BE74: =A11 -> Nacht | BF74: =IF('IN (mmol|L)'!E104="",0,'IN (mmol|L)'!E104) -> 5.2777778 | BG74: =IF('IN (mmol|L)'!F104="",0,'IN (mmol|L)'!F104) -> 5.5555556 | BH74: =IF('IN (mmol|L)'!G104="",0,'IN (mmol|L)'!G104) -> 5.9 | BI74: =IF('IN (mmol|L)'!H104="",0,'IN (mmol|L)'!H104) -> 5.8 | BJ74: =IF('IN (mmol|L)'!I104="",0,'IN (mmol|L)'!I104) -> 6.5 | BK74: =IF('IN (mmol|L)'!J104="",0,'IN (mmol|L)'!J104) -> 6.6 | BL74: =IF('IN (mmol|L)'!K104="",0,'IN (mmol|L)'!K104) -> 6.5 | BM74: =IF('IN (mmol|L)'!L104="",0,'IN (mmol|L)'!L104) -> 0 | ... BR74: =IF('IN (mmol|L)'!Q104="",0,'IN (mmol|L)'!Q104) -> 0
A75: =A12 -> Früh | B75: ='IN (mmol|L)'!E12 -> 6.1666667 | C75: ='IN (mmol|L)'!F12 -> 6.1111111 | D75: ='IN (mmol|L)'!G12 -> 6 | E75: ='IN (mmol|L)'!H12 -> 6.2222222 | F75: ='IN (mmol|L)'!I12 -> 6 | G75: ='IN (mmol|L)'!J12 -> 6.2777778 | H75: ='IN (mmol|L)'!K12 -> 6.2222222 | I75: ='IN (mmol|L)'!L12 -> 0 | ... N75: ='IN (mmol|L)'!Q12 -> 0 | O75: ='IN (mmol|L)'!E35 -> 6.2 | P75: ='IN (mmol|L)'!F35 -> 6.3 | Q75: ='IN (mmol|L)'!G35 -> 0 | R75: ='IN (mmol|L)'!H35 -> 0 | S75: ='IN (mmol|L)'!I35 -> 0 | T75: ='IN (mmol|L)'!J35 -> 0 | U75: ='IN (mmol|L)'!K35 -> 0 | V75: ='IN (mmol|L)'!L35 -> 0 | ... AA75: ='IN (mmol|L)'!Q35 -> 0 | AB75: ='IN (mmol|L)'!E58 -> 0 | AC75: ='IN (mmol|L)'!F58 -> 0 | AD75: ='IN (mmol|L)'!G58 -> 0 | AE75: ='IN (mmol|L)'!H58 -> 0 | AF75: ='IN (mmol|L)'!I58 -> 0 | AG75: ='IN (mmol|L)'!J58 -> 0 | AH75: ='IN (mmol|L)'!K58 -> 0 | AI75: ='IN (mmol|L)'!L58 -> 0 | ... AN75: ='IN (mmol|L)'!Q58 -> 0 | AO75: ='IN (mmol|L)'!E81 -> 0 | AP75: ='IN (mmol|L)'!F81 -> 0 | AQ75: ='IN (mmol|L)'!G81 -> 0 | AR75: ='IN (mmol|L)'!H81 -> 0 | AS75: ='IN (mmol|L)'!I81 -> 0 | AT75: ='IN (mmol|L)'!J81 -> 0 | AU75: ='IN (mmol|L)'!K81 -> 0 | AV75: ='IN (mmol|L)'!L81 -> 0 | ... BA75: ='IN (mmol|L)'!Q81 -> 0 | BE75: =A12 -> Früh | BF75: =IF('IN (mmol|L)'!E105="",0,'IN (mmol|L)'!E105) -> 6.2777778 | BG75: =IF('IN (mmol|L)'!F105="",0,'IN (mmol|L)'!F105) -> 6.2222222 | BH75: =IF('IN (mmol|L)'!G105="",0,'IN (mmol|L)'!G105) -> 0 | BI75: =IF('IN (mmol|L)'!H105="",0,'IN (mmol|L)'!H105) -> 0 | BJ75: =IF('IN (mmol|L)'!I105="",0,'IN (mmol|L)'!I105) -> 6 | BK75: =IF('IN (mmol|L)'!J105="",0,'IN (mmol|L)'!J105) -> 6.2 | BL75: =IF('IN (mmol|L)'!K105="",0,'IN (mmol|L)'!K105) -> 0 | BM75: =IF('IN (mmol|L)'!L105="",0,'IN (mmol|L)'!L105) -> 0 | ... BR75: =IF('IN (mmol|L)'!Q105="",0,'IN (mmol|L)'!Q105) -> 0
A76: Div. | B76: =B67-B75 -> 0 | C76: =C67-C75 -> 0 | D76: =D67-D75 -> 0 | E76: =E67-E75 -> 0 | F76: =F67-F75 -> 0 | G76: =G67-G75 -> 0 | H76: =H67-H75 -> 0 | I76: =I67-I75 -> 6.2 | ... BA76: =BA67-BA75 -> 0
A78: Daten für Verteilungskurven
B79: ≤0,5 | C79: ≤2,0 | D79: ≤3,5 | E79: ≤5,0 | F79: ≤6,5 | G79: ≤8,0 | H79: ≤9,5 | I79: ≤11,0 | J79: ≤12,5 | K79: ≤14,0 | L79: >14,0 | M79: ∑= | AS79: Daten für Zwischendurch-Verteilung | BG79: Daten für Basal-Verteilung
A80: =A4 -> 0.29166667 | B80: =COUNTIF($B67:$BA67,">0")-SUM(C80:$L80) -> 0 | C80: =COUNTIF($B67:$BA67,">0,5")-SUM($D80:$L80) -> 0 | D80: =COUNTIF($B67:$BA67,">2,0")-SUM(E80:L80) -> 0 | E80: =COUNTIF($B67:$BA67,">3,5")-SUM(F80:L80) -> 0 | F80: =COUNTIF($B67:$BA67,">5,0")-SUM(G80:L80) -> 15 | G80: =COUNTIF($B67:$BA67,">6,5")-SUM(H80:L80) -> 0 | H80: =COUNTIF($B67:$BA67,">8,0")-SUM(I80:L80) -> 0 | I80: =COUNTIF($B67:$BA67,">9,5")-SUM(J80:L80) -> 0 | J80: =COUNTIF($B67:$BA67,">11,0")-SUM(K80:L80) -> 0 | K80: =COUNTIF($B67:$BA67,">12,5")-L80 -> 0 | L80: =COUNTIF($B67:$BA67,">14") -> 0 | M80: =SUM(B80:L80) -> 15 | Z80: =STDEV(B67:BA67) -> 2.8003282 | AT80: ≤0,5 | AU80: ≤2,0 | AV80: ≤3,5 | AW80: ≤5,0 | AX80: ≤6,5 | AY80: ≤8,0 | AZ80: ≤9,5 | BA80: ≤11,0 | BB80: ≤12,5 | BC80: ≤14,0 | BD80: >14,0 | BH80: ≤0,5 | BI80: ≤2,0 | BJ80: ≤3,5 | BK80: ≤5,0 | BL80: ≤6,5 | BM80: ≤8,0 | BN80: ≤9,5 | BO80: ≤11,0 | BP80: ≤12,5 | BQ80: ≤14,0 | BR80: >14,0
A81: =A5 -> 0.39583333 | B81: =COUNTIF($B68:$BA68,">0")-SUM(C81:$L81) -> 0 | C81: =COUNTIF($B68:$BA68,">0,5")-SUM($D81:$L81) -> 0 | D81: =COUNTIF($B68:$BA68,">2,0")-SUM(E81:L81) -> 0 | E81: =COUNTIF($B68:$BA68,">3,5")-SUM(F81:L81) -> 0 | F81: =COUNTIF($B68:$BA68,">5,0")-SUM(G81:L81) -> 0 | G81: =COUNTIF($B68:$BA68,">6,5")-SUM(H81:L81) -> 0 | H81: =COUNTIF($B68:$BA68,">8,0")-SUM(I81:L81) -> 5 | I81: =COUNTIF($B68:$BA68,">9,5")-SUM(J81:L81) -> 7 | J81: =COUNTIF($B68:$BA68,">11,0")-SUM(K81:L81) -> 1 | K81: =COUNTIF($B68:$BA68,">12,5")-L81 -> 0 | L81: =COUNTIF($B68:$BA68,">14") -> 0 | M81: =SUM(B81:L81) -> 13 | N81: =CONCATENATE("n=",SUM(O81:P81)) -> n=1 | O81: 1 | Z81: =STDEV(B68:BA68) -> 4.3244182 | AS81: =A4 -> 0.29166667 | AT81: =COUNTIF($BF67:$BR67,">0")-SUM(AU81:$BD81) -> 0 | AU81: =COUNTIF($BF67:$BR67,">0,5")-SUM(AV81:$BD81) -> 0 | AV81: =COUNTIF($BF67:$BR67,">2,0")-SUM(AW81:$BD81) -> 0 | AW81: =COUNTIF($BF67:$BR67,">3,5")-SUM(AX81:$BD81) -> 0 | AX81: =COUNTIF($BF67:$BR67,">5,0")-SUM(AY81:$BD81) -> 10 | AY81: =COUNTIF($BF67:$BR67,">6,5")-SUM(AZ81:$BD81) -> 0 | AZ81: =COUNTIF($BF67:$BR67,">8,0")-SUM(BA81:$BD81) -> 0 | BA81: =COUNTIF($BF67:$BR67,">9,5")-SUM(BB81:$BD81) -> 0 | BB81: =COUNTIF($BF67:$BR67,">11,0")-SUM(BC81:$BD81) -> 0 | BC81: =COUNTIF($BF67:$BR67,">12,5")-SUM(BD81:$BD81) -> 0 | BD81: =COUNTIF($BF67:$BR67,">14,0") -> 0 | BG81: =A4 -> 0.29166667 | BH81: =COUNTIF($BF67:$BR67,">0")-SUM($BI81:BR81) -> 0 | BI81: =COUNTIF($BF67:$BR67,">0,5")-SUM($BJ81:BR81) -> 0 | BJ81: =COUNTIF($BF67:$BR67,">2,0")-SUM($BK81:BR81) -> 0 | BK81: =COUNTIF($BF67:$BR67,">3,5")-SUM($BL81:BR81) -> 0 | BL81: =COUNTIF($BF67:$BR67,">5,0")-SUM($BM81:BR81) -> 10 | BM81: =COUNTIF($BF67:$BR67,">6,5")-SUM($BN81:BR81) -> 0 | BN81: =COUNTIF($BF67:$BR67,">8,0")-SUM($BO81:BR81) -> 0 | BO81: =COUNTIF($BF67:$BR67,">9,5")-SUM($BP81:BR81) -> 0 | BP81: =COUNTIF($BF67:$BR67,">11,0")-SUM($BQ81:BR81) -> 0 | BQ81: =COUNTIF($BF67:$BR67,">12,5")-SUM($BR81:BR81) -> 0 | BR81: =COUNTIF($BF67:$BR67,">14,0") -> 0
A82: =A6 -> 0.5 | B82: =COUNTIF($B69:$BA69,">0")-SUM(C82:$L82) -> 0 | C82: =COUNTIF($B69:$BA69,">0,5")-SUM($D82:$L82) -> 0 | D82: =COUNTIF($B69:$BA69,">2,0")-SUM(E82:L82) -> 0 | E82: =COUNTIF($B69:$BA69,">3,5")-SUM(F82:L82) -> 2 | F82: =COUNTIF($B69:$BA69,">5,0")-SUM(G82:L82) -> 1 | G82: =COUNTIF($B69:$BA69,">6,5")-SUM(H82:L82) -> 5 | H82: =COUNTIF($B69:$BA69,">8,0")-SUM(I82:L82) -> 5 | I82: =COUNTIF($B69:$BA69,">9,5")-SUM(J82:L82) -> 1 | J82: =COUNTIF($B69:$BA69,">11,0")-SUM(K82:L82) -> 0 | K82: =COUNTIF($B69:$BA69,">12,5")-L82 -> 0 | L82: =COUNTIF($B69:$BA69,">14") -> 0 | M82: =SUM(B82:L82) -> 14 | N82: =CONCATENATE("n=",SUM(O82:Q82)) -> n=2 | O82: 1 | P82: 1 | Z82: =STDEV(B69:BA69) -> 3.3845935 | AS82: =A5 -> 0.39583333 | AT82: =COUNTIF($BF68:$BR68,">0")-SUM(AU82:$BD82) -> 0 | AU82: =COUNTIF($BF68:$BR68,">0,5")-SUM(AV82:$BD82) -> 0 | AV82: =COUNTIF($BF68:$BR68,">2,0")-SUM(AW82:$BD82) -> 0 | AW82: =COUNTIF($BF68:$BR68,">3,5")-SUM(AX82:$BD82) -> 0 | AX82: =COUNTIF($BF68:$BR68,">5,0")-SUM(AY82:$BD82) -> 0 | AY82: =COUNTIF($BF68:$BR68,">6,5")-SUM(AZ82:$BD82) -> 0 | AZ82: =COUNTIF($BF68:$BR68,">8,0")-SUM(BA82:$BD82) -> 3 | BA82: =COUNTIF($BF68:$BR68,">9,5")-SUM(BB82:$BD82) -> 4 | BB82: =COUNTIF($BF68:$BR68,">11,0")-SUM(BC82:$BD82) -> 1 | BC82: =COUNTIF($BF68:$BR68,">12,5")-SUM(BD82:$BD82) -> 0 | BD82: =COUNTIF($BF68:$BR68,">14,0") -> 0 | BG82: =A5 -> 0.39583333
A83: =A7 -> 0.60416667 | B83: =COUNTIF($B70:$BA70,">0")-SUM(C83:$L83) -> 0 | C83: =COUNTIF($B70:$BA70,">0,5")-SUM($D83:$L83) -> 0 | D83: =COUNTIF($B70:$BA70,">2,0")-SUM(E83:L83) -> 0 | E83: =COUNTIF($B70:$BA70,">3,5")-SUM(F83:L83) -> 1 | F83: =COUNTIF($B70:$BA70,">5,0")-SUM(G83:L83) -> 6 | G83: =COUNTIF($B70:$BA70,">6,5")-SUM(H83:L83) -> 2 | H83: =COUNTIF($B70:$BA70,">8,0")-SUM(I83:L83) -> 1 | I83: =COUNTIF($B70:$BA70,">9,5")-SUM(J83:L83) -> 2 | J83: =COUNTIF($B70:$BA70,">11,0")-SUM(K83:L83) -> 0 | K83: =COUNTIF($B70:$BA70,">12,5")-L83 -> 0 | L83: =COUNTIF($B70:$BA70,">14") -> 0 | M83: =SUM(B83:L83) -> 12 | N83: =CONCATENATE("n=",SUM(O83:R83)) -> n=4 | O83: 1 | P83: 2 | Q83: 1 | Z83: =STDEV(B70:BA70) -> 3.1127323 | AS83: =A6 -> 0.5 | AT83: =COUNTIF($BF69:$BR69,">0")-SUM(AU83:$BD83) -> 0 | AU83: =COUNTIF($BF69:$BR69,">0,5")-SUM(AV83:$BD83) -> 0 | AV83: =COUNTIF($BF69:$BR69,">2,0")-SUM(AW83:$BD83) -> 0 | AW83: =COUNTIF($BF69:$BR69,">3,5")-SUM(AX83:$BD83) -> 1 | AX83: =COUNTIF($BF69:$BR69,">5,0")-SUM(AY83:$BD83) -> 1 | AY83: =COUNTIF($BF69:$BR69,">6,5")-SUM(AZ83:$BD83) -> 3 | AZ83: =COUNTIF($BF69:$BR69,">8,0")-SUM(BA83:$BD83) -> 3 | BA83: =COUNTIF($BF69:$BR69,">9,5")-SUM(BB83:$BD83) -> 1 | BB83: =COUNTIF($BF69:$BR69,">11,0")-SUM(BC83:$BD83) -> 0 | BC83: =COUNTIF($BF69:$BR69,">12,5")-SUM(BD83:$BD83) -> 0 | BD83: =COUNTIF($BF69:$BR69,">14,0") -> 0 | BG83: =A6 -> 0.5 | BH83: =COUNTIF($BF69:$BR69,">0")-SUM($BI83:BR83) -> 0 | BI83: =COUNTIF($BF69:$BR69,">0,5")-SUM($BJ83:BR83) -> 0 | BJ83: =COUNTIF($BF69:$BR69,">2,0")-SUM($BK83:BR83) -> 0 | BK83: =COUNTIF($BF69:$BR69,">3,5")-SUM($BL83:BR83) -> 1 | BL83: =COUNTIF($BF69:$BR69,">5,0")-SUM($BM83:BR83) -> 1 | BM83: =COUNTIF($BF69:$BR69,">6,5")-SUM($BN83:BR83) -> 3 | BN83: =COUNTIF($BF69:$BR69,">8,0")-SUM($BO83:BR83) -> 3 | BO83: =COUNTIF($BF69:$BR69,">9,5")-SUM($BP83:BR83) -> 1 | BP83: =COUNTIF($BF69:$BR69,">11,0")-SUM($BQ83:BR83) -> 0 | BQ83: =COUNTIF($BF69:$BR69,">12,5")-SUM($BR83:BR83) -> 0 | BR83: =COUNTIF($BF69:$BR69,">14,0") -> 0
A84: =A8 -> 0.72916667 | B84: =COUNTIF($B71:$BA71,">0")-SUM(C84:$L84) -> 0 | C84: =COUNTIF($B71:$BA71,">0,5")-SUM($D84:$L84) -> 0 | D84: =COUNTIF($B71:$BA71,">2,0")-SUM(E84:L84) -> 0 | E84: =COUNTIF($B71:$BA71,">3,5")-SUM(F84:L84) -> 3 | F84: =COUNTIF($B71:$BA71,">5,0")-SUM(G84:L84) -> 2 | G84: =COUNTIF($B71:$BA71,">6,5")-SUM(H84:L84) -> 4 | H84: =COUNTIF($B71:$BA71,">8,0")-SUM(I84:L84) -> 6 | I84: =COUNTIF($B71:$BA71,">9,5")-SUM(J84:L84) -> 0 | J84: =COUNTIF($B71:$BA71,">11,0")-SUM(K84:L84) -> 0 | K84: =COUNTIF($B71:$BA71,">12,5")-L84 -> 0 | L84: =COUNTIF($B71:$BA71,">14") -> 0 | M84: =SUM(B84:L84) -> 15 | N84: =CONCATENATE("n=",SUM(O84:S84)) -> n=8 | O84: 1 | P84: 3 | Q84: 3 | R84: 1 | Z84: =STDEV(B71:BA71) -> 3.3649887 | AS84: =A7 -> 0.60416667 | AT84: =COUNTIF($BF70:$BR70,">0")-SUM(AU84:$BD84) -> 0 | AU84: =COUNTIF($BF70:$BR70,">0,5")-SUM(AV84:$BD84) -> 0 | AV84: =COUNTIF($BF70:$BR70,">2,0")-SUM(AW84:$BD84) -> 0 | AW84: =COUNTIF($BF70:$BR70,">3,5")-SUM(AX84:$BD84) -> 1 | AX84: =COUNTIF($BF70:$BR70,">5,0")-SUM(AY84:$BD84) -> 3 | AY84: =COUNTIF($BF70:$BR70,">6,5")-SUM(AZ84:$BD84) -> 2 | AZ84: =COUNTIF($BF70:$BR70,">8,0")-SUM(BA84:$BD84) -> 1 | BA84: =COUNTIF($BF70:$BR70,">9,5")-SUM(BB84:$BD84) -> 1 | BB84: =COUNTIF($BF70:$BR70,">11,0")-SUM(BC84:$BD84) -> 0 | BC84: =COUNTIF($BF70:$BR70,">12,5")-SUM(BD84:$BD84) -> 0 | BD84: =COUNTIF($BF70:$BR70,">14,0") -> 0 | BG84: =A7 -> 0.60416667
A85: =A9 -> 0.83333333 | B85: =COUNTIF($B72:$BA72,">0")-SUM(C85:$L85) -> 0 | C85: =COUNTIF($B72:$BA72,">0,5")-SUM($D85:$L85) -> 0 | D85: =COUNTIF($B72:$BA72,">2,0")-SUM(E85:L85) -> 0 | E85: =COUNTIF($B72:$BA72,">3,5")-SUM(F85:L85) -> 0 | F85: =COUNTIF($B72:$BA72,">5,0")-SUM(G85:L85) -> 3 | G85: =COUNTIF($B72:$BA72,">6,5")-SUM(H85:L85) -> 3 | H85: =COUNTIF($B72:$BA72,">8,0")-SUM(I85:L85) -> 1 | I85: =COUNTIF($B72:$BA72,">9,5")-SUM(J85:L85) -> 5 | J85: =COUNTIF($B72:$BA72,">11,0")-SUM(K85:L85) -> 2 | K85: =COUNTIF($B72:$BA72,">12,5")-L85 -> 0 | L85: =COUNTIF($B72:$BA72,">14") -> 0 | M85: =SUM(B85:L85) -> 14 | N85: =CONCATENATE("n=",SUM(O85:T85)) -> n=16 | O85: 1 | P85: 4 | Q85: 6 | R85: 4 | S85: 1 | Z85: =STDEV(B72:BA72) -> 4.1822262 | AS85: =A8 -> 0.72916667 | AT85: =COUNTIF($BF71:$BR71,">0")-SUM(AU85:$BD85) -> 0 | AU85: =COUNTIF($BF71:$BR71,">0,5")-SUM(AV85:$BD85) -> 0 | AV85: =COUNTIF($BF71:$BR71,">2,0")-SUM(AW85:$BD85) -> 0 | AW85: =COUNTIF($BF71:$BR71,">3,5")-SUM(AX85:$BD85) -> 2 | AX85: =COUNTIF($BF71:$BR71,">5,0")-SUM(AY85:$BD85) -> 2 | AY85: =COUNTIF($BF71:$BR71,">6,5")-SUM(AZ85:$BD85) -> 2 | AZ85: =COUNTIF($BF71:$BR71,">8,0")-SUM(BA85:$BD85) -> 4 | BA85: =COUNTIF($BF71:$BR71,">9,5")-SUM(BB85:$BD85) -> 0 | BB85: =COUNTIF($BF71:$BR71,">11,0")-SUM(BC85:$BD85) -> 0 | BC85: =COUNTIF($BF71:$BR71,">12,5")-SUM(BD85:$BD85) -> 0 | BD85: =COUNTIF($BF71:$BR71,">14,0") -> 0 | BG85: =A8 -> 0.72916667 | BH85: =COUNTIF($BF71:$BR71,">0")-SUM($BI85:BR85) -> 0 | BI85: =COUNTIF($BF71:$BR71,">0,5")-SUM($BJ85:BR85) -> 0 | BJ85: =COUNTIF($BF71:$BR71,">2,0")-SUM($BK85:BR85) -> 0 | BK85: =COUNTIF($BF71:$BR71,">3,5")-SUM($BL85:BR85) -> 2 | BL85: =COUNTIF($BF71:$BR71,">5,0")-SUM($BM85:BR85) -> 2 | BM85: =COUNTIF($BF71:$BR71,">6,5")-SUM($BN85:BR85) -> 2 | BN85: =COUNTIF($BF71:$BR71,">8,0")-SUM($BO85:BR85) -> 4 | BO85: =COUNTIF($BF71:$BR71,">9,5")-SUM($BP85:BR85) -> 0 | BP85: =COUNTIF($BF71:$BR71,">11,0")-SUM($BQ85:BR85) -> 0 | BQ85: =COUNTIF($BF71:$BR71,">12,5")-SUM($BR85:BR85) -> 0 | BR85: =COUNTIF($BF71:$BR71,">14,0") -> 0
A86: =A10 -> 0.95833333 | B86: =COUNTIF($B73:$BA73,">0")-SUM(C86:$L86) -> 0 | C86: =COUNTIF($B73:$BA73,">0,5")-SUM($D86:$L86) -> 0 | D86: =COUNTIF($B73:$BA73,">2,0")-SUM(E86:L86) -> 0 | E86: =COUNTIF($B73:$BA73,">3,5")-SUM(F86:L86) -> 0 | F86: =COUNTIF($B73:$BA73,">5,0")-SUM(G86:L86) -> 3 | G86: =COUNTIF($B73:$BA73,">6,5")-SUM(H86:L86) -> 6 | H86: =COUNTIF($B73:$BA73,">8,0")-SUM(I86:L86) -> 2 | I86: =COUNTIF($B73:$BA73,">9,5")-SUM(J86:L86) -> 3 | J86: =COUNTIF($B73:$BA73,">11,0")-SUM(K86:L86) -> 0 | K86: =COUNTIF($B73:$BA73,">12,5")-L86 -> 0 | L86: =COUNTIF($B73:$BA73,">14") -> 0 | M86: =SUM(B86:L86) -> 14 | N86: =CONCATENATE("n=",SUM(O86:U86)) -> n=32 | O86: 1 | P86: 5 | Q86: 10 | R86: 10 | S86: 5 | T86: 1 | Z86: =STDEV(B73:BA73) -> 3.5633917 | AS86: =A9 -> 0.83333333 | AT86: =COUNTIF($BF72:$BR72,">0")-SUM(AU86:$BD86) -> 0 | AU86: =COUNTIF($BF72:$BR72,">0,5")-SUM(AV86:$BD86) -> 0 | AV86: =COUNTIF($BF72:$BR72,">2,0")-SUM(AW86:$BD86) -> 0 | AW86: =COUNTIF($BF72:$BR72,">3,5")-SUM(AX86:$BD86) -> 0 | AX86: =COUNTIF($BF72:$BR72,">5,0")-SUM(AY86:$BD86) -> 3 | AY86: =COUNTIF($BF72:$BR72,">6,5")-SUM(AZ86:$BD86) -> 2 | AZ86: =COUNTIF($BF72:$BR72,">8,0")-SUM(BA86:$BD86) -> 1 | BA86: =COUNTIF($BF72:$BR72,">9,5")-SUM(BB86:$BD86) -> 3 | BB86: =COUNTIF($BF72:$BR72,">11,0")-SUM(BC86:$BD86) -> 1 | BC86: =COUNTIF($BF72:$BR72,">12,5")-SUM(BD86:$BD86) -> 0 | BD86: =COUNTIF($BF72:$BR72,">14,0") -> 0 | BG86: =A9 -> 0.83333333
A87: =A11 -> Nacht | B87: =COUNTIF($B74:$BA74,">0")-SUM(C87:$L87) -> 0 | C87: =COUNTIF($B74:$BA74,">0,5")-SUM($D87:$L87) -> 0 | D87: =COUNTIF($B74:$BA74,">2,0")-SUM(E87:L87) -> 0 | E87: =COUNTIF($B74:$BA74,">3,5")-SUM(F87:L87) -> 0 | F87: =COUNTIF($B74:$BA74,">5,0")-SUM(G87:L87) -> 12 | G87: =COUNTIF($B74:$BA74,">6,5")-SUM(H87:L87) -> 2 | H87: =COUNTIF($B74:$BA74,">8,0")-SUM(I87:L87) -> 0 | I87: =COUNTIF($B74:$BA74,">9,5")-SUM(J87:L87) -> 0 | J87: =COUNTIF($B74:$BA74,">11,0")-SUM(K87:L87) -> 0 | K87: =COUNTIF($B74:$BA74,">12,5")-L87 -> 0 | L87: =COUNTIF($B74:$BA74,">14") -> 0 | M87: =SUM(B87:L87) -> 14 | N87: =CONCATENATE("n=",SUM(O87:V87)) -> n=64 | O87: 1 | P87: 6 | Q87: 15 | R87: 20 | S87: 15 | T87: 6 | U87: 1 | W87: =STDEV(C100:I119) -> 30.86067 | Z87: =STDEV(B74:BA74) -> 2.7329853 | AS87: =A10 -> 0.95833333 | AT87: =COUNTIF($BF73:$BR73,">0")-SUM(AU87:$BD87) -> 0 | AU87: =COUNTIF($BF73:$BR73,">0,5")-SUM(AV87:$BD87) -> 0 | AV87: =COUNTIF($BF73:$BR73,">2,0")-SUM(AW87:$BD87) -> 0 | AW87: =COUNTIF($BF73:$BR73,">3,5")-SUM(AX87:$BD87) -> 0 | AX87: =COUNTIF($BF73:$BR73,">5,0")-SUM(AY87:$BD87) -> 2 | AY87: =COUNTIF($BF73:$BR73,">6,5")-SUM(AZ87:$BD87) -> 4 | AZ87: =COUNTIF($BF73:$BR73,">8,0")-SUM(BA87:$BD87) -> 1 | BA87: =COUNTIF($BF73:$BR73,">9,5")-SUM(BB87:$BD87) -> 2 | BB87: =COUNTIF($BF73:$BR73,">11,0")-SUM(BC87:$BD87) -> 0 | BC87: =COUNTIF($BF73:$BR73,">12,5")-SUM(BD87:$BD87) -> 0 | BD87: =COUNTIF($BF73:$BR73,">14,0") -> 0 | BG87: =A10 -> 0.95833333 | BH87: =COUNTIF($BF73:$BR73,">0")-SUM($BI87:BR87) -> 0 | BI87: =COUNTIF($BF73:$BR73,">0,5")-SUM($BJ87:BR87) -> 0 | BJ87: =COUNTIF($BF73:$BR73,">2,0")-SUM($BK87:BR87) -> 0 | BK87: =COUNTIF($BF73:$BR73,">3,5")-SUM($BL87:BR87) -> 0 | BL87: =COUNTIF($BF73:$BR73,">5,0")-SUM($BM87:BR87) -> 2 | BM87: =COUNTIF($BF73:$BR73,">6,5")-SUM($BN87:BR87) -> 4 | BN87: =COUNTIF($BF73:$BR73,">8,0")-SUM($BO87:BR87) -> 1 | BO87: =COUNTIF($BF73:$BR73,">9,5")-SUM($BP87:BR87) -> 2 | BP87: =COUNTIF($BF73:$BR73,">11,0")-SUM($BQ87:BR87) -> 0 | BQ87: =COUNTIF($BF73:$BR73,">12,5")-SUM($BR87:BR87) -> 0 | BR87: =COUNTIF($BF73:$BR73,">14,0") -> 0
A88: =A12 -> Früh | B88: =COUNTIF($B75:$BA75,">0")-SUM(C88:$L88) -> 0 | C88: =COUNTIF($B75:$BA75,">0,5")-SUM($D88:$L88) -> 0 | D88: =COUNTIF($B75:$BA75,">2,0")-SUM(E88:L88) -> 0 | E88: =COUNTIF($B75:$BA75,">3,5")-SUM(F88:L88) -> 0 | F88: =COUNTIF($B75:$BA75,">5,0")-SUM(G88:L88) -> 11 | G88: =COUNTIF($B75:$BA75,">6,5")-SUM(H88:L88) -> 0 | H88: =COUNTIF($B75:$BA75,">8,0")-SUM(I88:L88) -> 0 | I88: =COUNTIF($B75:$BA75,">9,5")-SUM(J88:L88) -> 0 | J88: =COUNTIF($B75:$BA75,">11,0")-SUM(K88:L88) -> 0 | K88: =COUNTIF($B75:$BA75,">12,5")-L88 -> 0 | L88: =COUNTIF($B75:$BA75,">14") -> 0 | M88: =SUM(B88:L88) -> 11 | N88: =CONCATENATE("n=",SUM(O88:W88)) -> n=128 | O88: 1 | P88: 7 | Q88: 21 | R88: 35 | S88: 35 | T88: 21 | U88: 7 | V88: 1 | X88: =STDEV(O100:V134) -> 33.20184 | Z88: =STDEV(B75:BA75) -> 2.5385107 | AS88: =A11 -> Nacht | AT88: =COUNTIF($BF74:$BR74,">0")-SUM(AU88:$BD88) -> 0 | AU88: =COUNTIF($BF74:$BR74,">0,5")-SUM(AV88:$BD88) -> 0 | AV88: =COUNTIF($BF74:$BR74,">2,0")-SUM(AW88:$BD88) -> 0 | AW88: =COUNTIF($BF74:$BR74,">3,5")-SUM(AX88:$BD88) -> 0 | AX88: =COUNTIF($BF74:$BR74,">5,0")-SUM(AY88:$BD88) -> 8 | AY88: =COUNTIF($BF74:$BR74,">6,5")-SUM(AZ88:$BD88) -> 1 | AZ88: =COUNTIF($BF74:$BR74,">8,0")-SUM(BA88:$BD88) -> 0 | BA88: =COUNTIF($BF74:$BR74,">9,5")-SUM(BB88:$BD88) -> 0 | BB88: =COUNTIF($BF74:$BR74,">11,0")-SUM(BC88:$BD88) -> 0 | BC88: =COUNTIF($BF74:$BR74,">12,5")-SUM(BD88:$BD88) -> 0 | BD88: =COUNTIF($BF74:$BR74,">14,0") -> 0 | BG88: =A11 -> Nacht | BH88: =COUNTIF($BF74:$BR74,">0")-SUM($BI88:BR88) -> 0 | BI88: =COUNTIF($BF74:$BR74,">0,5")-SUM($BJ88:BR88) -> 0 | BJ88: =COUNTIF($BF74:$BR74,">2,0")-SUM($BK88:BR88) -> 0 | BK88: =COUNTIF($BF74:$BR74,">3,5")-SUM($BL88:BR88) -> 0 | BL88: =COUNTIF($BF74:$BR74,">5,0")-SUM($BM88:BR88) -> 8 | BM88: =COUNTIF($BF74:$BR74,">6,5")-SUM($BN88:BR88) -> 1 | BN88: =COUNTIF($BF74:$BR74,">8,0")-SUM($BO88:BR88) -> 0 | BO88: =COUNTIF($BF74:$BR74,">9,5")-SUM($BP88:BR88) -> 0 | BP88: =COUNTIF($BF74:$BR74,">11,0")-SUM($BQ88:BR88) -> 0 | BQ88: =COUNTIF($BF74:$BR74,">12,5")-SUM($BR88:BR88) -> 0 | BR88: =COUNTIF($BF74:$BR74,">14,0") -> 0
A89: Summe vor | B89: =B80+B82+B84 -> 0 | C89: =C80+C82+C84 -> 0 | D89: =D80+D82+D84 -> 0 | E89: =E80+E82+E84 -> 5 | F89: =F80+F82+F84 -> 18 | G89: =G80+G82+G84 -> 9 | H89: =H80+H82+H84 -> 11 | I89: =I80+I82+I84 -> 1 | ... L89: =L80+L82+L84 -> 0 | M89: =SUM(B89:L89) -> 44 | N89: =CONCATENATE("n=",SUM(O89:W89)) -> n=256 | O89: 1 | P89: 8 | Q89: 28 | R89: 56 | S89: 70 | T89: 56 | U89: 28 | V89: 8 | W89: 1 | AS89: =A12 -> Früh | AT89: =COUNTIF($BF75:$BR75,">0")-SUM(AU89:$BD89) -> 0 | AU89: =COUNTIF($BF75:$BR75,">0,5")-SUM(AV89:$BD89) -> 0 | AV89: =COUNTIF($BF75:$BR75,">2,0")-SUM(AW89:$BD89) -> 0 | AW89: =COUNTIF($BF75:$BR75,">3,5")-SUM(AX89:$BD89) -> 0 | AX89: =COUNTIF($BF75:$BR75,">5,0")-SUM(AY89:$BD89) -> 6 | AY89: =COUNTIF($BF75:$BR75,">6,5")-SUM(AZ89:$BD89) -> 0 | AZ89: =COUNTIF($BF75:$BR75,">8,0")-SUM(BA89:$BD89) -> 0 | BA89: =COUNTIF($BF75:$BR75,">9,5")-SUM(BB89:$BD89) -> 0 | BB89: =COUNTIF($BF75:$BR75,">11,0")-SUM(BC89:$BD89) -> 0 | BC89: =COUNTIF($BF75:$BR75,">12,5")-SUM(BD89:$BD89) -> 0 | BD89: =COUNTIF($BF75:$BR75,">14,0") -> 0 | BE89: n= | BG89: =A12 -> Früh | BH89: =COUNTIF($BF75:$BR75,">0")-SUM($BI89:BR89) -> 0 | BI89: =COUNTIF($BF75:$BR75,">0,5")-SUM($BJ89:BR89) -> 0 | BJ89: =COUNTIF($BF75:$BR75,">2,0")-SUM($BK89:BR89) -> 0 | BK89: =COUNTIF($BF75:$BR75,">3,5")-SUM($BL89:BR89) -> 0 | BL89: =COUNTIF($BF75:$BR75,">5,0")-SUM($BM89:BR89) -> 6 | BM89: =COUNTIF($BF75:$BR75,">6,5")-SUM($BN89:BR89) -> 0 | BN89: =COUNTIF($BF75:$BR75,">8,0")-SUM($BO89:BR89) -> 0 | BO89: =COUNTIF($BF75:$BR75,">9,5")-SUM($BP89:BR89) -> 0 | BP89: =COUNTIF($BF75:$BR75,">11,0")-SUM($BQ89:BR89) -> 0 | BQ89: =COUNTIF($BF75:$BR75,">12,5")-SUM($BR89:BR89) -> 0 | BR89: =COUNTIF($BF75:$BR75,">14,0") -> 0 | BS89: n=
A90: Summe PP | B90: =B81+B83+B85 -> 0 | C90: =C81+C83+C85 -> 0 | D90: =D81+D83+D85 -> 0 | E90: =E81+E83+E85 -> 1 | F90: =F81+F83+F85 -> 9 | G90: =G81+G83+G85 -> 5 | H90: =H81+H83+H85 -> 7 | I90: =I81+I83+I85 -> 14 | ... L90: =L81+L83+L85 -> 0 | M90: =SUM(B90:L90) -> 39 | AS90: vor E. | AT90: =AT81+AT83+AT85 -> 0 | AU90: =AU81+AU83+AU85 -> 0 | AV90: =AV81+AV83+AV85 -> 0 | AW90: =AW81+AW83+AW85 -> 3 | AX90: =AX81+AX83+AX85 -> 13 | AY90: =AY81+AY83+AY85 -> 5 | AZ90: =AZ81+AZ83+AZ85 -> 7 | BA90: =BA81+BA83+BA85 -> 1 | ... BD90: =BD81+BD83+BD85 -> 0 | BE90: =SUM(AT90:BD90) -> 29 | BG90: nüchtern | BH90: =SUM(BH81:BH89) -> 0 | BI90: =SUM(BI81:BI89) -> 0 | BJ90: =SUM(BJ81:BJ89) -> 0 | BK90: =SUM(BK81:BK89) -> 3 | BL90: =SUM(BL81:BL89) -> 29 | BM90: =SUM(BM81:BM89) -> 10 | BN90: =SUM(BN81:BN89) -> 8 | BO90: =SUM(BO81:BO89) -> 3 | ... BR90: =SUM(BR81:BR89) -> 0 | BS90: =SUM(BH90:BR90) -> 53
A91: Summe | B91: =SUM(B80:B88) -> 0 | C91: =SUM(C80:C88) -> 0 | D91: =SUM(D80:D88) -> 0 | E91: =SUM(E80:E88) -> 6 | F91: =SUM(F80:F88) -> 53 | G91: =SUM(G80:G88) -> 22 | H91: =SUM(H80:H88) -> 20 | I91: =SUM(I80:I88) -> 18 | ... L91: =SUM(L80:L88) -> 0 | M91: =SUM(B91:L91) -> 122 | AS91: nach E. | AT91: =AT82+AT84+AT86 -> 0 | AU91: =AU82+AU84+AU86 -> 0 | AV91: =AV82+AV84+AV86 -> 0 | AW91: =AW82+AW84+AW86 -> 1 | AX91: =AX82+AX84+AX86 -> 6 | AY91: =AY82+AY84+AY86 -> 4 | AZ91: =AZ82+AZ84+AZ86 -> 5 | BA91: =BA82+BA84+BA86 -> 8 | ... BD91: =BD82+BD84+BD86 -> 0 | BE91: =SUM(AT91:BD91) -> 26
A92: Gauß 8,0 | C92: 1 | D92: 7 | E92: 21 | F92: 35 | G92: 35 | H92: 21 | I92: 7 | J92: 1 | M92: =SUM(B92:L92) -> 128 | AS92: Summe | AT92: =SUM(AT81:AT89)+AU100 -> 0 | AU92: =SUM(AU81:AU89) -> 0 | AV92: =SUM(AV81:AV89) -> 0 | AW92: =SUM(AW81:AW89) -> 4 | AX92: =SUM(AX81:AX89) -> 35 | AY92: =SUM(AY81:AY89) -> 14 | AZ92: =SUM(AZ81:AZ89) -> 13 | BA92: =SUM(BA81:BA89) -> 11 | BB92: =SUM(BB81:BB89) -> 2 | ... BD92: =SUM(BD81:BD89) -> 0 | BE92: =SUM(AT92:BD92) -> 79 | BG92: Summe | BH92: =SUM(BH81:BH89) -> 0 | BI92: =SUM(BI81:BI89) -> 0 | BJ92: =SUM(BJ81:BJ89) -> 0 | BK92: =SUM(BK81:BK89) -> 3 | BL92: =SUM(BL81:BL89) -> 29 | BM92: =SUM(BM81:BM89) -> 10 | BN92: =SUM(BN81:BN89) -> 8 | BO92: =SUM(BO81:BO89) -> 3 | ... BR92: =SUM(BR81:BR89) -> 0 | BS92: =SUM(BH92:BR92) -> 53
A93: Gauß 9,5 | D93: 1 | E93: 7 | F93: 21 | G93: 35 | H93: 35 | I93: 21 | J93: 7 | K93: 1 | M93: =SUM(B93:L93) -> 128 | AS93: Gauß 97 | AT93: 1 | AU93: 6 | AV93: 15 | AW93: 20 | AX93: 15 | AY93: 6 | AZ93: 1 | BG93: Gauß 97 | BI93: 1 | BJ93: 6 | BK93: 15 | BL93: 20 | BM93: 15 | BN93: 6 | BO93: 1
A94: Summe nüchtern | B94: =B89+B87+B88 -> 0 | C94: =C89+C87+C88 -> 0 | D94: =D89+D87+D88 -> 0 | E94: =E89+E87+E88 -> 5 | F94: =F89+F87+F88 -> 41 | G94: =G89+G87+G88 -> 11 | H94: =H89+H87+H88 -> 11 | I94: =I89+I87+I88 -> 1 | ... L94: =L89+L87+L88 -> 0 | M94: =SUM(B94:L94) -> 69 | AS94: Gauß 127 | AV94: 1 | AW94: 6 | AX94: 15 | AY94: 20 | AZ94: 15 | BA94: 6 | BB94: 1
A95: Überlagerung nur für Histogramm bei Langzeit-Verlauf | AS95: Gauß 135 | AU95: 1 | AV95: 7 | AW95: 21 | AX95: 35 | AY95: 35 | AZ95: 21 | BA95: 7 | BB95: 1 | BF95: =STDEV(AU99:BB135) -> 28.612787
